Workbook

Sheet PL DERAWAN
B1: MATRIK LAPORAN KETERANGAN PERTANGGUNGJAWABAN (LKPJ) SKPD KECAMATAN PULAU DERAWAN TAHUN ANGGARAN 2025
A3: NO | B3: URUSAN PEMERINTAHAN | C3: OPD PELAKSANA | E3: URAIAN/ PROGRAM/ KEGIATAN | G3: ANGGARAN (Rp.) | H3: REALISASI (Rp.) | I3: TARGET | J3: REALISASI | K3: SATUAN | L3: PERMASALAHAN | M3: UPAYA MENGATASI PERMASALAHAN
A4: 1. | B4: KECAMATAN | C4: 1.1. | D4: KECAMATAN PULAU DERAWAN | E4: 1. | F4: PROGRAM PENUNJANG URUSAN PEMERINTAHAN DAERAH KABUPATEN/KOTA | G4: =G5+G11+G16+G20+G29+G33+G39+G44+G47+G52+G56+G60 -> 6282641119 | H4: =H66 -> 5390394938 | I4: 1 | J4: =J66 -> 85.798231
F5: Perencanaan, Penganggaran, dan Evaluasi Kinerja Perangkat Daerah | G5: =G7+G8+G9 -> 155297000 | H5: =SUM(H7:H9) -> 136538038 | J5: =H5/G5*100 -> 87.92059
F7: Penyusunan Dokumen Perencanaan Perangkat Daerah | G7: 73352000 | H7: 68092924 | I7: 33 | J7: =H7/G7*100 -> 92.830358 | K7: dok
F8: koordinasi dan penyusunan laporan capaian kinerja dan ikstisar realisasi kinerja SKPD | G8: 45000000 | H8: 40575114 | I8: 12 | J8: =H8/G8*100 -> 90.16692 | K8: bulan
F9: Evaluasi Kinerja Perangkat Daerah | G9: 36945000 | H9: 27870000 | I9: 5 | J9: =H9/G9*100 -> 75.43646 | K9: kegiatan
F11: Administrasi Keuangan Perangkat Daerah | G11: =G12+G13+G14 -> 3821695333 | H11: =H12+H13+H14 -> 3282335928 | J11: =H11/G11*100 -> 85.886907
F12: Penyediaan Gaji dan Tunjangan ASN | G12: 3636937333 | H12: 3108153928 | I12: 14 | J12: =H12/G12*100 -> 85.46075 | K12: bulan | L12: Anggaran yang tersedia melebihi dari kebutuhan | M12: Menghitung lebih cermat kebutuhan dana yang diperlukan
F13: Penyediaan Administrasi Pelaksanaan Tugas ASN | G13: 153258000 | H13: 144652000 | I13: 12 | J13: =H13/G13*100 -> 94.384632 | K13: bulan
F14: Pelaksanaan Penatausahaan dan Pengujian Verifikasi Keuangan SKPD | G14: 31500000 | H14: 29530000 | I14: 12 | J14: =H14/G14*100 -> 93.746032 | K14: bulan
F16: Administrasi Kepegawaian Perangkat Daerah | G16: =G17+G18 -> 205500000 | H16: =H17+H18 -> 177469181 | J16: =H16/G16*100 -> 86.359699
F17: Pengadaan Pakaian Dinas beserta Atribut Kelengkapannya | G17: 33000000 | H17: 31898400 | I17: 56 | J17: =H17/G17*100 -> 96.661818 | K17: stel
F18: Bimbingan Teknis Implementasi Peraturan Perundang undangan | G18: 172500000 | H18: 145570781 | I18: 15 | J18: =H18/G18*100 -> 84.388859 | K18: orang
F20: Administrasi Umum Perangkat Daerah | G20: =G21+G22+G23+G24+G25+G26+G27 -> 299695016 | H20: =H21+H22+H23+H24+H25+H26+H27 -> 251633216 | J20: =H20/G20*100 -> 83.963097
F21: Penyediaan Komponen Instalasi Listrik/Penerangan Bangunan Kantor | G21: 5000000 | H21: 3666750 | I21: 5 | J21: =H21/G21*100 -> 73.335 | K21: jenis
F22: Penyediaan Peralatan dan Perlengkapan Kantor | G22: 108984016 | H22: 104053586 | I22: 12 | J22: =H22/G22*100 -> 95.476006 | K22: jenis
F23: Penyediaan Peralatan Rumah Tangga | G23: 11936000 | H23: 6335000 | I23: 12 | J23: =H23/G23*100 -> 53.074732 | K23: bulan
F24: Penyediaan Bahan Logistik Kantor | G24: 91050000 | H24: 58417600 | I24: 12 | J24: =H24/G24*100 -> 64.159912 | K24: orang
F25: Penyediaan Barang Cetakan dan Penggandaan | G25: 2225000 | H25: 1100000 | I25: 2225 | J25: =H25/G25*100 -> 49.438202 | K25: lembar | L25: Belanja cetak terkait fotocopy tidak dapat dilaksanakan sepenuhnya di karenakan keterbatasan waktu | M25: Melaksanakan koordinasi dan konsulatasi terkait perencanaan dan penganggaran untuk lebih efektif dan efesien sehingga realisasi dapat terserap dengan maksimal
F26: Penyediaan Bahan Bacaan dan Peraturan Perundang-undangan | G26: 1000000 | H26: 0 | I26: 2 | J26: =H26/G26*100 -> 0 | K26: buku
F27: Penyelenggaraan Rapat Koordinasi dan Konsultasi SKPD | G27: 79500000 | H27: 78060280 | I27: 12 | J27: =H27/G27*100 -> 98.189031 | K27: bulan
F29: Pengadaan Barang Milik Daerah Penunjang Urusan Pemerintah Daerah | G29: =G30+G31 -> 428000000 | H29: =H30+H31 -> 374339002 | J29: =H29/G29*100 -> 87.462384
F30: Pengadaan Kendaraan Perorangan Dinas atau Kendaraan Dinas Jabatan | G30: 420000000 | H30: 374339002 | I30: 4 | J30: =H30/G30*100 -> 89.128334 | K30: unit
F31: Pengadaan Mebel | G31: 8000000 | H31: 0 | I31: 5 | J31: =H31/G31*100 -> 0 | K31: unit | L31: belanja modal kursi kantor terkendala penyedia yang tersedia di inaproc dan keterbatasan waktu | M31: Melaksanakan koordinasi dan konsulatasi terkait perencanaan dan penganggaran untuk lebih efektif dan efesien sehingga realisasi dapat terserap dengan maksimal
F33: Penyediaan Jasa Penunjang Urusan Pemerintahan Daerah | G33: =G34+G35+G36+G37 -> 330100000 | H33: =H34+H35+H36+H37 -> 294033244 | J33: =H33/G33*100 -> 89.073991
F34: Penyediaan Jasa Surat Menyurat | G34: 2500000 | H34: 2100000 | I34: 175 | J34: =H34/G34*100 -> 84 | K34: lembar
F35: Penyediaan Jasa Komunikasi, Sumber Daya Air dan Listrik | G35: 50000000 | H35: 24207000 | I35: 12 | J35: =H35/G35*100 -> 48.414 | K35: bulan | L35: penggunaan listrik sesuai dengan kebutuhan | M35: lebih cermat dalam merencakan anggaran di tahun berikutnya dan lebih cermat dalam pelaksanaan kegiatan
F36: Penyediaan Jasa Peralatan dan Perlengkapan Kantor | G36: 12000000 | H36: 6487200 | I36: 2 | J36: =H36/G36*100 -> 54.06 | K36: kegiatan
F37: Penyediaan Jasa Pelayanan Umum Kantor | G37: 265600000 | H37: 261239044 | I37: 12 | J37: =H37/G37*100 -> 98.358074 | K37: bulan
F39: Pemeliharaan Barang Milik Daerah Penunjang Urusan Pemerintahan Daerah | G39: =G40+G41+G42 -> 220299560 | H39: =H40+H41+H42 -> 142323580 | J39: =H39/G39*100 -> 64.604568
F40: Penyediaan Jasa Pemeliharaan, Biaya Pemeliharaan, Pajak dan Perizinan Kendaraan Dinas Operasioanal atau Lapangan | G40: 140000000 | H40: 125898580 | I40: 8 | J40: =H40/G40*100 -> 89.927557 | K40: unit
F41: Pemeliharaan Peralatan dan Mesin Lainnya | G41: 21000000 | H41: 12110000 | I41: 3 | J41: =H41/G41*100 -> 57.666667 | K41: unit
F42: Pemeliharaan/Rehabilitasi Sarana dan Prasarana Gedung Kantor atau Bangunan Lainnya | G42: 59299560 | H42: 4315000 | I42: 2 | J42: =H42/G42*100 -> 7.2766139 | K42: jenis | L42: pelaksanaan perbaikan pelapon kantor tidak bisa dilaksanakan karena atap yang yang diperbaiki oleh Dinas PU dilaksanakan bulan Desember dan di bulan Desember tingkat musim hujan tinggi | M42: lebih cermat dalam merencakan anggaran di tahun berikutnya dan lebih cermat dalam pelaksanaan kegiatan
E44: 2. | F44: PROGRAM PENYELENGGARAAN PEMERINTAHAN DAN PELAYANAN PUBLIK | G44: =G45 -> 211308210 | H44: =H45 -> 181394899 | J44: =H44/G44*100 -> 85.843754
F45: Peningkatan Efektifitas Pelaksanaan Pelayanan kepada Masyarakat di Wilayah Kecamatan | G45: 211308210 | H45: 181394899 | I45: 12 | J45: =H45/G45*100 -> 85.843754 | K45: kegiatan
E47: 3. | F47: PROGRAM PEMBERDAYAAN MASYARAKAT DESA DAN KELURAHAN | G47: =G48 -> 146750000 | H47: =H48 -> 130016960 | J47: =H47/G47*100 -> 88.597588
F48: Koordinasi Kegiatan Pemberdayaan Desa | G48: =G49+G50 -> 146750000 | H48: =H49+H50 -> 130016960 | J48: =H48/G48*100 -> 88.597588
F49: Peningkatan Partisipasi masyarakat dalam Forum Musyawarah Perencanaan Pembangunan Desa | G49: 25000000 | H49: 24994000 | I49: 5 | J49: =H49/G49*100 -> 99.976 | K49: kampung
F50: Sinkronisasi Program Kerja dan Kegiatan Pemberdayaan Masyarakat yang dilakukan oleh Pemerintah dan Swasta di Wilayah Kerja Kecamatan | G50: 121750000 | H50: 105022960 | I50: 3 | J50: =H50/G50*100 -> 86.261158 | K50: orang
E52: 4. | F52: PROGRAM KOORDINASI KETENTRAMAN DAN KETERTIBAN UMUM | G52: =G53 -> 70964000 | H52: =H53 -> 65551700 | J52: =H52/G52*100 -> 92.373175
F53: Kegiatan Koordinasi Upaya Penyelenggaraan Ketentraman dan Ketertiban Umum | G53: =G54 -> 70964000 | H53: =SUM(H54) -> 65551700 | J53: =H53/G53*100 -> 92.373175
F54: Sinergeritas Dengan Kepolisian Republik Indonesia, TNI dan Instansi Vertikal di Wilayah Kecamatan | G54: 70964000 | H54: 65551700 | I54: 12 | J54: =H54/G54*100 -> 92.373175 | K54: bulan
E56: 5. | F56: PROGRAM PENYELENGGARAAN URUSAN PEMERINTAHAN UMUM | G56: =G57 -> 220608000 | H56: =H57 -> 204472100 | J56: =H56/G56*100 -> 92.685714
F57: Penyelenggaraan Urusan Pemerintahan Umum sesuai Penugasan Kepala Daerah | G57: =G58 -> 220608000 | H57: =H58 -> 204472100 | J57: =H57/G57*100 -> 92.685714
F58: Pembinaan Persatuan dan Kesatuan Bangsa | G58: 220608000 | H58: 204472100 | I58: 1000 | J58: =H58/G58*100 -> 92.685714 | K58: orang
E60: 6. | F60: PROGRAM PEMBINAAN DAN PENGAWASAN PEMERINTAHAN DESA | G60: =G61 -> 172424000 | H60: =H61 -> 150287090 | J60: =H60/G60*100 -> 87.161352
F61: Fasilitasi Rekomendasi dan Koordinasi Pembinaan dan Pengawasan Pemerintahan Desa | G61: =G63+G64+G65+G62 -> 172424000 | H61: =H62+H63+H64+H65 -> 150287090 | J61: =H61/G61*100 -> 87.161352
F62: Fasilitasi Administrasi Tata Pemerintahan | G62: 42500000 | H62: 35786090 | I62: 5 | J62: =H62/G62*100 -> 84.202565 | K62: kampung
F63: Fasilitasi Pengelolaan Keuangan Desa dan Pendayagunaan Aset Desa | G63: 81728000 | H63: 67946000 | I63: 5 | J63: =H63/G63*100 -> 83.136746 | K63: kampung
F64: Fasilitasi Pelaksanaan Pemilihan Kepala Desa | G64: 1000000 | H64: 0 | I64: 2 | J64: =H64/G64*100 -> 0 | K64: kampung | L64: tidak ada pelaksanaan pemilihan kepala kampung baik habis masa jabatan maupun PAW
F65: Fasilitasi Penyelenggaraan Ketentraman dan Ketertiban Umum | G65: 47196000 | H65: 46555000 | I65: 5 | J65: =H65/G65*100 -> 98.641834 | K65: kegiatan
A66: JUMLAH | G66: =G4 -> 6282641119 | H66: =H61++H57+H53+H48+H44+H39+H33+H29+H20+H16+H11+H5 -> 5390394938 | J66: =H66/G66*100 -> 85.798231

Sheet kons PK (L2)
A1: LAMPIRAN 2
A2: KONSISTENSI PERENCANAAN DAN PENGANGGARAN PEMBANGUNAN
A3: KABUPATEN BERAU TAHUN 2017
A5: No. Urut | B5: Kode OPD | C5: SKPD | D5: Jumlah Program | G5: Program Yang Sama | J5: Program Tidak Sama | M5: Jumlah Kegiatan | O5: Kegiatan Yang Sama | P5: Kegiatan Tidak Sama
D6: RPJMD | E6: RKPD | F6: APBD | G6: RKPD & RPJMD | H6: APBD & RKPD | I6: APBD & RPJMD | J6: RKPD & RPJMD | K6: APBD & RKPD | L6: APBD & RPJMD | M6: RKPD | N6: APBD
A8: (1) | B8: (2) | C8: (3) | D8: (4) | E8: (5) | F8: (6) | G8: (7) | H8: (8) | I8: (9) | J8: (10) | K8: (11) | L8: (12) | M8: (13) | N8: (14) | O8: (15) | P8: (16)
A9: 1 | B9: 1.01.01 | C9: Dinas Pendidikan | D9: =SUM(#REF!) -> #REF! | E9: =SUM(#REF!) -> #REF! | F9: =SUM(#REF!) -> #REF! | G9: =SUM(#REF!) -> #REF! | H9: =SUM(#REF!) -> #REF! | I9: =SUM(#REF!) -> #REF! | J9: =(D9-G9)+(E9-G9) -> #REF! | K9: =(E9-H9)+(F9-H9) -> #REF! | L9: =(D9-I9)+(F9-I9) -> #REF! | M9: =SUM(#REF!) -> #REF! | N9: =SUM(#REF!) -> #REF! | O9: =SUM(#REF!) -> #REF! | P9: =(M9-O9)+(N9-O9) -> #REF! | Q9: =D9-I9 -> #REF! | R9: =F9-H9 -> #REF!
A10: 2 | B10: 1.02.01 | C10: Dinas Kesehatan | D10: =SUM(#REF!) -> #REF! | E10: =SUM(#REF!) -> #REF! | F10: =SUM(#REF!) -> #REF! | G10: =SUM(#REF!) -> #REF! | H10: =SUM(#REF!) -> #REF! | I10: =SUM(#REF!) -> #REF! | J10: =(D10-G10)+(E10-G10) -> #REF! | K10: =(E10-H10)+(F10-H10) -> #REF! | L10: =(D10-I10)+(F10-I10) -> #REF! | M10: =SUM(#REF!) -> #REF! | N10: =SUM(#REF!) -> #REF! | O10: =SUM(#REF!) -> #REF! | P10: =(M10-O10)+(N10-O10) -> #REF! | Q10: =D10-I10 -> #REF! | R10: =F10-H10 -> #REF!
A11: 3 | B11: 1.02.02 | C11: RSUD Dr. Abdul Rivai | D11: =SUM(#REF!) -> #REF! | E11: =SUM(#REF!) -> #REF! | F11: =SUM(#REF!) -> #REF! | G11: =SUM(#REF!) -> #REF! | H11: =SUM(#REF!) -> #REF! | I11: =SUM(#REF!) -> #REF! | J11: =(D11-G11)+(E11-G11) -> #REF! | K11: =(E11-H11)+(F11-H11) -> #REF! | L11: =(D11-I11)+(F11-I11) -> #REF! | M11: =SUM(#REF!) -> #REF! | N11: =SUM(#REF!) -> #REF! | O11: =SUM(#REF!) -> #REF! | P11: =(M11-O11)+(N11-O11) -> #REF! | Q11: =D11-I11 -> #REF! | R11: =F11-H11 -> #REF!
A12: 4 | B12: 1.03.01 | C12: Dinas Pekerjaan Umum dan Penataan Ruang | D12: =SUM(#REF!) -> #REF! | E12: =SUM(#REF!) -> #REF! | F12: =SUM(#REF!) -> #REF! | G12: =SUM(#REF!) -> #REF! | H12: =SUM(#REF!) -> #REF! | I12: =SUM(#REF!) -> #REF! | J12: =(D12-G12)+(E12-G12) -> #REF! | K12: =(E12-H12)+(F12-H12) -> #REF! | L12: =(D12-I12)+(F12-I12) -> #REF! | M12: =SUM(#REF!) -> #REF! | N12: =SUM(#REF!) -> #REF! | O12: =SUM(#REF!) -> #REF! | P12: =(M12-O12)+(N12-O12) -> #REF! | Q12: =D12-I12 -> #REF! | R12: =F12-H12 -> #REF!
A13: 5 | B13: 1.04.01 | C13: Dinas Perumahan dan Kawasan Permukiman | D13: =SUM(#REF!) -> #REF! | E13: =SUM(#REF!) -> #REF! | F13: =SUM(#REF!) -> #REF! | G13: =SUM(#REF!) -> #REF! | H13: =SUM(#REF!) -> #REF! | I13: =SUM(#REF!) -> #REF! | J13: =(D13-G13)+(E13-G13) -> #REF! | K13: =(E13-H13)+(F13-H13) -> #REF! | L13: =(D13-I13)+(F13-I13) -> #REF! | M13: =SUM(#REF!) -> #REF! | N13: =SUM(#REF!) -> #REF! | O13: =SUM(#REF!) -> #REF! | P13: =(M13-O13)+(N13-O13) -> #REF! | Q13: =D13-I13 -> #REF! | R13: =F13-H13 -> #REF!
A14: 6 | B14: 1.05.01 | C14: =#REF! -> #REF! | D14: =SUM(#REF!) -> #REF! | E14: =SUM(#REF!) -> #REF! | F14: =SUM(#REF!) -> #REF! | G14: =SUM(#REF!) -> #REF! | H14: =SUM(#REF!) -> #REF! | I14: =SUM(#REF!) -> #REF! | J14: =(D14-G14)+(E14-G14) -> #REF! | K14: =(E14-H14)+(F14-H14) -> #REF! | L14: =(D14-I14)+(F14-I14) -> #REF! | M14: =SUM(#REF!) -> #REF! | N14: =SUM(#REF!) -> #REF! | O14: =SUM(#REF!) -> #REF! | P14: =(M14-O14)+(N14-O14) -> #REF! | Q14: =D14-I14 -> #REF! | R14: =F14-H14 -> #REF!
A15: 7 | B15: 1.05.02 | C15: Badan Penanggulangan Bencana Daerah | D15: =SUM(#REF!,#REF!) -> #REF! | E15: =SUM(#REF!,#REF!) -> #REF! | F15: =SUM(#REF!,#REF!) -> #REF! | G15: =SUM(#REF!,#REF!) -> #REF! | H15: =SUM(#REF!,#REF!) -> #REF! | I15: =SUM(#REF!,#REF!) -> #REF! | J15: =(D15-G15)+(E15-G15) -> #REF! | K15: =(E15-H15)+(F15-H15) -> #REF! | L15: =(D15-I15)+(F15-I15) -> #REF! | M15: =SUM(#REF!,#REF!) -> #REF! | N15: =SUM(#REF!,#REF!) -> #REF! | O15: =SUM(#REF!,#REF!) -> #REF! | P15: =(M15-O15)+(N15-O15) -> #REF! | Q15: =D15-I15 -> #REF! | R15: =F15-H15 -> #REF!
A16: 8 | B16: 1.05.03 | C16: Kantor Satuan Polisi Pamong Praja | D16: =SUM(#REF!) -> #REF! | E16: =SUM(#REF!) -> #REF! | F16: =SUM(#REF!) -> #REF! | G16: =SUM(#REF!) -> #REF! | H16: =SUM(#REF!) -> #REF! | I16: =SUM(#REF!) -> #REF! | J16: =(D16-G16)+(E16-G16) -> #REF! | K16: =(E16-H16)+(F16-H16) -> #REF! | L16: =(D16-I16)+(F16-I16) -> #REF! | M16: =SUM(#REF!) -> #REF! | N16: =SUM(#REF!) -> #REF! | O16: =SUM(#REF!) -> #REF! | P16: =(M16-O16)+(N16-O16) -> #REF! | Q16: =D16-I16 -> #REF! | R16: =F16-H16 -> #REF!
A17: 9 | B17: 1.06.01 | C17: Dinas Sosial | D17: =SUM(#REF!) -> #REF! | E17: =SUM(#REF!) -> #REF! | F17: =SUM(#REF!) -> #REF! | G17: =SUM(#REF!) -> #REF! | H17: =SUM(#REF!) -> #REF! | I17: =SUM(#REF!) -> #REF! | J17: =(D17-G17)+(E17-G17) -> #REF! | K17: =(E17-H17)+(F17-H17) -> #REF! | L17: =(D17-I17)+(F17-I17) -> #REF! | M17: =SUM(#REF!) -> #REF! | N17: =SUM(#REF!) -> #REF! | O17: =SUM(#REF!) -> #REF! | P17: =(M17-O17)+(N17-O17) -> #REF! | Q17: =D17-I17 -> #REF! | R17: =F17-H17 -> #REF!
A18: 10 | B18: 2.01.01 | C18: Dinas Tenaga Kerja dan Transmigrasi | D18: =SUM(#REF!,#REF!) -> #REF! | E18: =SUM(#REF!,#REF!) -> #REF! | F18: =SUM(#REF!,#REF!) -> #REF! | G18: =SUM(#REF!,#REF!) -> #REF! | H18: =SUM(#REF!,#REF!) -> #REF! | I18: =SUM(#REF!,#REF!) -> #REF! | J18: =(D18-G18)+(E18-G18) -> #REF! | K18: =(E18-H18)+(F18-H18) -> #REF! | L18: =(D18-I18)+(F18-I18) -> #REF! | M18: =SUM(#REF!,#REF!) -> #REF! | N18: =SUM(#REF!,#REF!) -> #REF! | O18: =SUM(#REF!,#REF!) -> #REF! | P18: =(M18-O18)+(N18-O18) -> #REF! | Q18: =D18-I18 -> #REF! | R18: =F18-H18 -> #REF!
A19: 11 | B19: 2.02.01 | C19: =#REF! -> #REF! | D19: =SUM(#REF!,#REF!) -> #REF! | E19: =SUM(#REF!,#REF!) -> #REF! | F19: =SUM(#REF!,#REF!) -> #REF! | G19: =SUM(#REF!,#REF!) -> #REF! | H19: =SUM(#REF!,#REF!) -> #REF! | I19: =SUM(#REF!,#REF!) -> #REF! | J19: =(D19-G19)+(E19-G19) -> #REF! | K19: =(E19-H19)+(F19-H19) -> #REF! | L19: =(D19-I19)+(F19-I19) -> #REF! | M19: =SUM(#REF!,#REF!) -> #REF! | N19: =SUM(#REF!,#REF!) -> #REF! | O19: =SUM(#REF!,#REF!) -> #REF! | P19: =(M19-O19)+(N19-O19) -> #REF! | Q19: =D19-I19 -> #REF! | R19: =F19-H19 -> #REF!
A20: 12 | B20: 2.03.01 | C20: =#REF! -> #REF! | D20: =SUM(#REF!) -> #REF! | E20: =SUM(#REF!) -> #REF! | F20: =SUM(#REF!) -> #REF! | G20: =SUM(#REF!) -> #REF! | H20: =SUM(#REF!) -> #REF! | I20: =SUM(#REF!) -> #REF! | J20: =(D20-G20)+(E20-G20) -> #REF! | K20: =(E20-H20)+(F20-H20) -> #REF! | L20: =(D20-I20)+(F20-I20) -> #REF! | M20: =SUM(#REF!) -> #REF! | N20: =SUM(#REF!) -> #REF! | O20: =SUM(#REF!) -> #REF! | P20: =(M20-O20)+(N20-O20) -> #REF! | Q20: =D20-I20 -> #REF! | R20: =F20-H20 -> #REF!
A21: 13 | B21: 2.04.01 | C21: =#REF! -> #REF! | D21: =SUM(#REF!) -> #REF! | E21: =SUM(#REF!) -> #REF! | F21: =SUM(#REF!) -> #REF! | G21: =SUM(#REF!) -> #REF! | H21: =SUM(#REF!) -> #REF! | I21: =SUM(#REF!) -> #REF! | K21: =(E21-H21)+(F21-H21) -> #REF! | L21: =(D21-I21)+(F21-I21) -> #REF! | M21: =SUM(#REF!) -> #REF! | N21: =SUM(#REF!) -> #REF! | O21: =SUM(#REF!) -> #REF! | Q21: =D21-I21 -> #REF! | R21: =F21-H21 -> #REF!
A22: 14 | B22: 2.05.01 | C22: =#REF! -> #REF! | D22: =SUM(#REF!) -> #REF! | E22: =SUM(#REF!) -> #REF! | F22: =SUM(#REF!) -> #REF! | G22: =SUM(#REF!) -> #REF! | H22: =SUM(#REF!) -> #REF! | I22: =SUM(#REF!) -> #REF! | J22: =(D22-G22)+(E22-G22) -> #REF! | K22: =(E22-H22)+(F22-H22) -> #REF! | L22: =(D22-I22)+(F22-I22) -> #REF! | M22: =SUM(#REF!) -> #REF! | N22: =SUM(#REF!) -> #REF! | O22: =SUM(#REF!) -> #REF! | P22: =(M22-O22)+(N22-O22) -> #REF! | Q22: =D22-I22 -> #REF! | R22: =F22-H22 -> #REF!
A23: 15 | B23: 2.06.01 | C23: =#REF! -> #REF! | D23: =SUM(#REF!) -> #REF! | E23: =SUM(#REF!) -> #REF! | F23: =SUM(#REF!) -> #REF! | G23: =SUM(#REF!) -> #REF! | H23: =SUM(#REF!) -> #REF! | I23: =SUM(#REF!) -> #REF! | J23: =(D23-G23)+(E23-G23) -> #REF! | K23: =(E23-H23)+(F23-H23) -> #REF! | L23: =(D23-I23)+(F23-I23) -> #REF! | M23: =SUM(#REF!) -> #REF! | N23: =SUM(#REF!) -> #REF! | O23: =SUM(#REF!) -> #REF! | P23: =(M23-O23)+(N23-O23) -> #REF! | Q23: =D23-I23 -> #REF! | R23: =F23-H23 -> #REF!
A24: 16 | B24: 2.07.01 | C24: =#REF! -> #REF! | D24: =SUM(#REF!) -> #REF! | E24: =SUM(#REF!) -> #REF! | F24: =SUM(#REF!) -> #REF! | G24: =SUM(#REF!) -> #REF! | H24: =SUM(#REF!) -> #REF! | I24: =SUM(#REF!) -> #REF! | J24: =(D24-G24)+(E24-G24) -> #REF! | K24: =(E24-H24)+(F24-H24) -> #REF! | L24: =(D24-I24)+(F24-I24) -> #REF! | M24: =SUM(#REF!) -> #REF! | N24: =SUM(#REF!) -> #REF! | O24: =SUM(#REF!) -> #REF! | P24: =(M24-O24)+(N24-O24) -> #REF! | Q24: =D24-I24 -> #REF! | R24: =F24-H24 -> #REF!
A25: 17 | B25: 2.09.01 | C25: =#REF! -> #REF! | D25: =SUM(#REF!) -> #REF! | E25: =SUM(#REF!) -> #REF! | F25: =SUM(#REF!) -> #REF! | G25: =SUM(#REF!) -> #REF! | H25: =SUM(#REF!) -> #REF! | I25: =SUM(#REF!) -> #REF! | J25: =(D25-G25)+(E25-G25) -> #REF! | K25: =(E25-H25)+(F25-H25) -> #REF! | L25: =(D25-I25)+(F25-I25) -> #REF! | M25: =SUM(#REF!) -> #REF! | N25: =SUM(#REF!) -> #REF! | O25: =SUM(#REF!) -> #REF! | P25: =(M25-O25)+(N25-O25) -> #REF! | Q25: =D25-I25 -> #REF! | R25: =F25-H25 -> #REF!
A26: 18 | B26: 2.10.01 | C26: =#REF! -> #REF! | D26: =SUM(#REF!) -> #REF! | E26: =SUM(#REF!) -> #REF! | F26: =SUM(#REF!) -> #REF! | G26: =SUM(#REF!) -> #REF! | H26: =SUM(#REF!) -> #REF! | I26: =SUM(#REF!) -> #REF! | J26: =(D26-G26)+(E26-G26) -> #REF! | K26: =(E26-H26)+(F26-H26) -> #REF! | L26: =(D26-I26)+(F26-I26) -> #REF! | M26: =SUM(#REF!) -> #REF! | N26: =SUM(#REF!) -> #REF! | O26: =SUM(#REF!) -> #REF! | P26: =(M26-O26)+(N26-O26) -> #REF! | Q26: =D26-I26 -> #REF! | R26: =F26-H26 -> #REF!
A27: 19 | B27: 2.11.01 | C27: Dinas Koperasi, Perindustrian dan Perdagangan | D27: =SUM(#REF!,#REF!) -> #REF! | E27: =SUM(#REF!,#REF!) -> #REF! | F27: =SUM(#REF!,#REF!) -> #REF! | G27: =SUM(#REF!,#REF!) -> #REF! | H27: =SUM(#REF!,#REF!) -> #REF! | I27: =SUM(#REF!,#REF!) -> #REF! | J27: =(D27-G27)+(E27-G27) -> #REF! | K27: =(E27-H27)+(F27-H27) -> #REF! | L27: =(D27-I27)+(F27-I27) -> #REF! | M27: =SUM(#REF!,#REF!) -> #REF! | N27: =SUM(#REF!,#REF!) -> #REF! | O27: =SUM(#REF!,#REF!) -> #REF! | P27: =(M27-O27)+(N27-O27) -> #REF! | Q27: =D27-I27 -> #REF! | R27: =F27-H27 -> #REF!
A28: 20 | B28: 2.12.01 | C28: =#REF! -> #REF! | D28: =SUM(#REF!) -> #REF! | E28: =SUM(#REF!) -> #REF! | F28: =SUM(#REF!) -> #REF! | G28: =SUM(#REF!) -> #REF! | H28: =SUM(#REF!) -> #REF! | I28: =SUM(#REF!) -> #REF! | J28: =(D28-G28)+(E28-G28) -> #REF! | K28: =(E28-H28)+(F28-H28) -> #REF! | L28: =(D28-I28)+(F28-I28) -> #REF! | M28: =SUM(#REF!) -> #REF! | N28: =SUM(#REF!) -> #REF! | O28: =SUM(#REF!) -> #REF! | P28: =(M28-O28)+(N28-O28) -> #REF! | Q28: =D28-I28 -> #REF! | R28: =F28-H28 -> #REF!
A29: 21 | B29: 2.13.01 | C29: =#REF! -> #REF! | D29: =SUM(#REF!) -> #REF! | E29: =SUM(#REF!) -> #REF! | F29: =SUM(#REF!) -> #REF! | G29: =SUM(#REF!) -> #REF! | H29: =SUM(#REF!) -> #REF! | I29: =SUM(#REF!) -> #REF! | J29: =(D29-G29)+(E29-G29) -> #REF! | K29: =(E29-H29)+(F29-H29) -> #REF! | L29: =(D29-I29)+(F29-I29) -> #REF! | M29: =SUM(#REF!) -> #REF! | N29: =SUM(#REF!) -> #REF! | O29: =SUM(#REF!) -> #REF! | P29: =(M29-O29)+(N29-O29) -> #REF! | Q29: =D29-I29 -> #REF! | R29: =F29-H29 -> #REF!
A30: 22 | B30: 2.16.01 | C30: Dinas Kebudayaan dan Pariwisata | D30: =SUM(#REF!,#REF!) -> #REF! | E30: =SUM(#REF!,#REF!) -> #REF! | F30: =SUM(#REF!,#REF!) -> #REF! | G30: =SUM(#REF!,#REF!) -> #REF! | H30: =SUM(#REF!,#REF!) -> #REF! | I30: =SUM(#REF!,#REF!) -> #REF! | J30: =(D30-G30)+(E30-G30) -> #REF! | K30: =(E30-H30)+(F30-H30) -> #REF! | L30: =(D30-I30)+(F30-I30) -> #REF! | M30: =SUM(#REF!,#REF!) -> #REF! | N30: =SUM(#REF!,#REF!) -> #REF! | O30: =SUM(#REF!,#REF!) -> #REF! | P30: =(M30-O30)+(N30-O30) -> #REF! | Q30: =D30-I30 -> #REF! | R30: =F30-H30 -> #REF!
A31: 23 | B31: 2.17.01 | C31: =#REF! -> #REF! | D31: =SUM(#REF!) -> #REF! | E31: =SUM(#REF!) -> #REF! | F31: =SUM(#REF!) -> #REF! | G31: =SUM(#REF!) -> #REF! | H31: =SUM(#REF!) -> #REF! | I31: =SUM(#REF!) -> #REF! | J31: =(D31-G31)+(E31-G31) -> #REF! | K31: =(E31-H31)+(F31-H31) -> #REF! | L31: =(D31-I31)+(F31-I31) -> #REF! | M31: =SUM(#REF!) -> #REF! | N31: =SUM(#REF!) -> #REF! | O31: =SUM(#REF!) -> #REF! | P31: =(M31-O31)+(N31-O31) -> #REF! | Q31: =D31-I31 -> #REF! | R31: =F31-H31 -> #REF!
A32: 24 | B32: 3.01.01 | C32: =#REF! -> #REF! | D32: =SUM(#REF!) -> #REF! | E32: =SUM(#REF!) -> #REF! | F32: =SUM(#REF!) -> #REF! | G32: =SUM(#REF!) -> #REF! | H32: =SUM(#REF!) -> #REF! | I32: =SUM(#REF!) -> #REF! | J32: =(D32-G32)+(E32-G32) -> #REF! | K32: =(E32-H32)+(F32-H32) -> #REF! | L32: =(D32-I32)+(F32-I32) -> #REF! | M32: =SUM(#REF!) -> #REF! | N32: =SUM(#REF!) -> #REF! | O32: =SUM(#REF!) -> #REF! | P32: =(M32-O32)+(N32-O32) -> #REF! | Q32: =D32-I32 -> #REF! | R32: =F32-H32 -> #REF!
A33: 25 | B33: 3.03.01 | C33: =#REF! -> #REF! | D33: =SUM(#REF!) -> #REF! | E33: =SUM(#REF!) -> #REF! | F33: =SUM(#REF!) -> #REF! | G33: =SUM(#REF!) -> #REF! | H33: =SUM(#REF!) -> #REF! | I33: =SUM(#REF!) -> #REF! | J33: =(D33-G33)+(E33-G33) -> #REF! | K33: =(E33-H33)+(F33-H33) -> #REF! | L33: =(D33-I33)+(F33-I33) -> #REF! | M33: =SUM(#REF!) -> #REF! | N33: =SUM(#REF!) -> #REF! | O33: =SUM(#REF!) -> #REF! | P33: =(M33-O33)+(N33-O33) -> #REF! | Q33: =D33-I33 -> #REF! | R33: =F33-H33 -> #REF!
A34: 26 | B34: 3.03.02 | C34: Dinas Perkebunan | D34: =SUM(#REF!) -> #REF! | E34: =SUM(#REF!) -> #REF! | F34: =SUM(#REF!) -> #REF! | G34: =SUM(#REF!) -> #REF! | H34: =SUM(#REF!) -> #REF! | I34: =SUM(#REF!) -> #REF! | J34: =(D34-G34)+(E34-G34) -> #REF! | K34: =(E34-H34)+(F34-H34) -> #REF! | L34: =(D34-I34)+(F34-I34) -> #REF! | M34: =SUM(#REF!) -> #REF! | N34: =SUM(#REF!) -> #REF! | O34: =SUM(#REF!) -> #REF! | P34: =(M34-O34)+(N34-O34) -> #REF! | Q34: =D34-I34 -> #REF! | R34: =F34-H34 -> #REF!
A35: 27 | B35: 4.01.03 | C35: Sekretariat Daerah | D35: =SUM(#REF!,#REF!,#REF!,#REF!) -> #REF! | E35: =SUM(#REF!,#REF!,#REF!,#REF!) -> #REF! | F35: =SUM(#REF!,#REF!,#REF!,#REF!) -> #REF! | G35: =SUM(#REF!,#REF!,#REF!,#REF!) -> #REF! | H35: =SUM(#REF!,#REF!,#REF!,#REF!) -> #REF! | I35: =SUM(#REF!,#REF!,#REF!,#REF!) -> #REF! | J35: =(D35-G35)+(E35-G35) -> #REF! | K35: =(E35-H35)+(F35-H35) -> #REF! | L35: =(D35-I35)+(F35-I35) -> #REF! | M35: =SUM(#REF!,#REF!,#REF!,#REF!) -> #REF! | N35: =SUM(#REF!,#REF!,#REF!,#REF!) -> #REF! | O35: =SUM(#REF!,#REF!,#REF!,#REF!) -> #REF! | Q35: =D35-I35 -> #REF! | R35: =F35-H35 -> #REF!
A36: 28 | B36: 4.01.04 | C36: Sekretariat DPRD | D36: =SUM(#REF!) -> #REF! | E36: =SUM(#REF!) -> #REF! | F36: =SUM(#REF!) -> #REF! | G36: =SUM(#REF!) -> #REF! | H36: =SUM(#REF!) -> #REF! | I36: =SUM(#REF!) -> #REF! | J36: =(D36-G36)+(E36-G36) -> #REF! | K36: =(E36-H36)+(F36-H36) -> #REF! | L36: =(D36-I36)+(F36-I36) -> #REF! | M36: =SUM(#REF!) -> #REF! | N36: =SUM(#REF!) -> #REF! | O36: =SUM(#REF!) -> #REF! | P36: =(M36-O36)+(N36-O36) -> #REF! | Q36: =D36-I36 -> #REF! | R36: =F36-H36 -> #REF!
A37: 29 | B37: 4.01.09 | C37: Kecamatan Tanjung Redeb | D37: =SUM(#REF!) -> #REF! | E37: =SUM(#REF!) -> #REF! | F37: =SUM(#REF!) -> #REF! | G37: =SUM(#REF!) -> #REF! | H37: =SUM(#REF!) -> #REF! | I37: =SUM(#REF!) -> #REF! | J37: =(D37-G37)+(E37-G37) -> #REF! | K37: =(E37-H37)+(F37-H37) -> #REF! | L37: =(D37-I37)+(F37-I37) -> #REF! | M37: =SUM(#REF!) -> #REF! | N37: =SUM(#REF!) -> #REF! | O37: =SUM(#REF!) -> #REF! | P37: =(M37-O37)+(N37-O37) -> #REF! | Q37: =D37-I37 -> #REF! | R37: =F37-H37 -> #REF!
A38: 30 | B38: 4.01.09 | C38: Kecamatan Gunung Tabur | D38: =SUM(#REF!) -> #REF! | E38: =SUM(#REF!) -> #REF! | F38: =SUM(#REF!) -> #REF! | G38: =SUM(#REF!) -> #REF! | H38: =SUM(#REF!) -> #REF! | I38: =SUM(#REF!) -> #REF! | J38: =(D38-G38)+(E38-G38) -> #REF! | K38: =(E38-H38)+(F38-H38) -> #REF! | L38: =(D38-I38)+(F38-I38) -> #REF! | M38: =SUM(#REF!) -> #REF! | N38: =SUM(#REF!) -> #REF! | O38: =SUM(#REF!) -> #REF! | P38: =(M38-O38)+(N38-O38) -> #REF! | Q38: =D38-I38 -> #REF! | R38: =F38-H38 -> #REF!
A39: 31 | B39: 4.01.09 | C39: Kecamatan Sambaliung | D39: =SUM(#REF!) -> #REF! | E39: =SUM(#REF!) -> #REF! | F39: =SUM(#REF!) -> #REF! | G39: =SUM(#REF!) -> #REF! | H39: =SUM(#REF!) -> #REF! | I39: =SUM(#REF!) -> #REF! | J39: =(D39-G39)+(E39-G39) -> #REF! | K39: =(E39-H39)+(F39-H39) -> #REF! | L39: =(D39-I39)+(F39-I39) -> #REF! | M39: =SUM(#REF!) -> #REF! | N39: =SUM(#REF!) -> #REF! | O39: =SUM(#REF!) -> #REF! | P39: =(M39-O39)+(N39-O39) -> #REF! | Q39: =D39-I39 -> #REF! | R39: =F39-H39 -> #REF!
A40: 32 | B40: 4.01.09 | C40: Kecamatan Teluk Bayur | D40: =SUM(#REF!) -> #REF! | E40: =SUM(#REF!) -> #REF! | F40: =SUM(#REF!) -> #REF! | G40: =SUM(#REF!) -> #REF! | H40: =SUM(#REF!) -> #REF! | I40: =SUM(#REF!) -> #REF! | J40: =(D40-G40)+(E40-G40) -> #REF! | K40: =(E40-H40)+(F40-H40) -> #REF! | L40: =(D40-I40)+(F40-I40) -> #REF! | M40: =SUM(#REF!) -> #REF! | N40: =SUM(#REF!) -> #REF! | O40: =SUM(#REF!) -> #REF! | P40: =(M40-O40)+(N40-O40) -> #REF! | Q40: =D40-I40 -> #REF! | R40: =F40-H40 -> #REF!
A41: 33 | B41: 4.01.09 | C41: Kecamatan Segah | D41: =SUM(#REF!) -> #REF! | E41: =SUM(#REF!) -> #REF! | F41: =SUM(#REF!) -> #REF! | G41: =SUM(#REF!) -> #REF! | H41: =SUM(#REF!) -> #REF! | I41: =SUM(#REF!) -> #REF! | J41: =(D41-G41)+(E41-G41) -> #REF! | K41: =(E41-H41)+(F41-H41) -> #REF! | L41: =(D41-I41)+(F41-I41) -> #REF! | M41: =SUM(#REF!) -> #REF! | N41: =SUM(#REF!) -> #REF! | O41: =SUM(#REF!) -> #REF! | P41: =(M41-O41)+(N41-O41) -> #REF! | Q41: =D41-I41 -> #REF! | R41: =F41-H41 -> #REF!
A42: 34 | B42: 4.01.09 | C42: Kecamatan Kelay | D42: =SUM(#REF!) -> #REF! | E42: =SUM(#REF!) -> #REF! | F42: =SUM(#REF!) -> #REF! | G42: =SUM(#REF!) -> #REF! | H42: =SUM(#REF!) -> #REF! | I42: =SUM(#REF!) -> #REF! | J42: =(D42-G42)+(E42-G42) -> #REF! | K42: =(E42-H42)+(F42-H42) -> #REF! | L42: =(D42-I42)+(F42-I42) -> #REF! | M42: =SUM(#REF!) -> #REF! | N42: =SUM(#REF!) -> #REF! | O42: =SUM(#REF!) -> #REF! | P42: =(M42-O42)+(N42-O42) -> #REF! | Q42: =D42-I42 -> #REF! | R42: =F42-H42 -> #REF!
A43: 35 | B43: 4.01.09 | C43: Kecamatan Pulau Derawan | D43: =SUM(#REF!) -> #REF! | E43: =SUM(#REF!) -> #REF! | F43: =SUM(#REF!) -> #REF! | G43: =SUM(#REF!) -> #REF! | H43: =SUM(#REF!) -> #REF! | I43: =SUM(#REF!) -> #REF! | J43: =(D43-G43)+(E43-G43) -> #REF! | K43: =(E43-H43)+(F43-H43) -> #REF! | L43: =(D43-I43)+(F43-I43) -> #REF! | M43: =SUM(#REF!) -> #REF! | N43: =SUM(#REF!) -> #REF! | O43: =SUM(#REF!) -> #REF! | P43: =(M43-O43)+(N43-O43) -> #REF! | Q43: =D43-I43 -> #REF! | R43: =F43-H43 -> #REF!
A44: 36 | B44: 4.01.09 | C44: Kecamatan Talisayan | D44: =SUM(#REF!) -> #REF! | E44: =SUM(#REF!) -> #REF! | F44: =SUM(#REF!) -> #REF! | G44: =SUM(#REF!) -> #REF! | H44: =SUM(#REF!) -> #REF! | I44: =SUM(#REF!) -> #REF! | J44: =(D44-G44)+(E44-G44) -> #REF! | K44: =(E44-H44)+(F44-H44) -> #REF! | L44: =(D44-I44)+(F44-I44) -> #REF! | M44: =SUM(#REF!) -> #REF! | N44: =SUM(#REF!) -> #REF! | O44: =SUM(#REF!) -> #REF! | P44: =(M44-O44)+(N44-O44) -> #REF! | Q44: =D44-I44 -> #REF! | R44: =F44-H44 -> #REF!
A45: 37 | B45: 4.01.09 | C45: Kecamatan Biduk-Biduk | D45: =SUM(#REF!) -> #REF! | E45: =SUM(#REF!) -> #REF! | F45: =SUM(#REF!) -> #REF! | G45: =SUM(#REF!) -> #REF! | H45: =SUM(#REF!) -> #REF! | I45: =SUM(#REF!) -> #REF! | J45: =(D45-G45)+(E45-G45) -> #REF! | K45: =(E45-H45)+(F45-H45) -> #REF! | L45: =(D45-I45)+(F45-I45) -> #REF! | M45: =SUM(#REF!) -> #REF! | N45: =SUM(#REF!) -> #REF! | O45: =SUM(#REF!) -> #REF! | P45: =(M45-O45)+(N45-O45) -> #REF! | Q45: =D45-I45 -> #REF! | R45: =F45-H45 -> #REF!
A46: 38 | B46: 4.01.09 | C46: Kecamatan Maratua | D46: =SUM(#REF!) -> #REF! | E46: =SUM(#REF!) -> #REF! | F46: =SUM(#REF!) -> #REF! | G46: =SUM(#REF!) -> #REF! | H46: =SUM(#REF!) -> #REF! | I46: =SUM(#REF!) -> #REF! | J46: =(D46-G46)+(E46-G46) -> #REF! | K46: =(E46-H46)+(F46-H46) -> #REF! | L46: =(D46-I46)+(F46-I46) -> #REF! | M46: =SUM(#REF!) -> #REF! | N46: =SUM(#REF!) -> #REF! | O46: =SUM(#REF!) -> #REF! | P46: =(M46-O46)+(N46-O46) -> #REF! | Q46: =D46-I46 -> #REF! | R46: =F46-H46 -> #REF!
A47: 39 | B47: 4.01.09 | C47: Kecamatan Tabalar | D47: =SUM(#REF!) -> #REF! | E47: =SUM(#REF!) -> #REF! | F47: =SUM(#REF!) -> #REF! | G47: =SUM(#REF!) -> #REF! | H47: =SUM(#REF!) -> #REF! | I47: =SUM(#REF!) -> #REF! | J47: =(D47-G47)+(E47-G47) -> #REF! | K47: =(E47-H47)+(F47-H47) -> #REF! | L47: =(D47-I47)+(F47-I47) -> #REF! | M47: =SUM(#REF!) -> #REF! | N47: =SUM(#REF!) -> #REF! | O47: =SUM(#REF!) -> #REF! | P47: =(M47-O47)+(N47-O47) -> #REF! | Q47: =D47-I47 -> #REF! | R47: =F47-H47 -> #REF!
... A49: 41 | B49: 4.01.09 | C49: Kecamatan Biatan | D49: =SUM(#REF!) -> #REF! | E49: =SUM(#REF!) -> #REF! | F49: =SUM(#REF!) -> #REF! | G49: =SUM(#REF!) -> #REF! | H49: =SUM(#REF!) -> #REF! | I49: =SUM(#REF!) -> #REF! | J49: =(D49-G49)+(E49-G49) -> #REF! | K49: =(E49-H49)+(F49-H49) -> #REF! | L49: =(D49-I49)+(F49-I49) -> #REF! | M49: =SUM(#REF!) -> #REF! | N49: =SUM(#REF!) -> #REF! | O49: =SUM(#REF!) -> #REF! | P49: =(M49-O49)+(N49-O49) -> #REF! | Q49: =D49-I49 -> #REF! | R49: =F49-H49 -> #REF!
A50: 42 | B50: 4.01.14 | C50: Sekretariat Dewan Pengurus KORPRI | D50: =SUM(#REF!,#REF!) -> #REF! | E50: =SUM(#REF!,#REF!) -> #REF! | F50: =SUM(#REF!,#REF!) -> #REF! | G50: =SUM(#REF!,#REF!) -> #REF! | H50: =SUM(#REF!,#REF!) -> #REF! | I50: =SUM(#REF!,#REF!) -> #REF! | J50: =(D50-G50)+(E50-G50) -> #REF! | K50: =(E50-H50)+(F50-H50) -> #REF! | L50: =(D50-I50)+(F50-I50) -> #REF! | M50: =SUM(#REF!,#REF!) -> #REF! | N50: =SUM(#REF!,#REF!) -> #REF! | O50: =SUM(#REF!,#REF!) -> #REF! | P50: =(M50-O50)+(N50-O50) -> #REF! | Q50: =D50-I50 -> #REF! | R50: =F50-H50 -> #REF!
A51: 43 | B51: 4.02.01 | C51: Inspektorat | D51: =SUM(#REF!) -> #REF! | E51: =SUM(#REF!) -> #REF! | F51: =SUM(#REF!) -> #REF! | G51: =SUM(#REF!) -> #REF! | H51: =SUM(#REF!) -> #REF! | I51: =SUM(#REF!) -> #REF! | J51: =(D51-G51)+(E51-G51) -> #REF! | K51: =(E51-H51)+(F51-H51) -> #REF! | L51: =(D51-I51)+(F51-I51) -> #REF! | M51: =SUM(#REF!) -> #REF! | N51: =SUM(#REF!) -> #REF! | O51: =SUM(#REF!) -> #REF! | P51: =(M51-O51)+(N51-O51) -> #REF! | Q51: =D51-I51 -> #REF! | R51: =F51-H51 -> #REF!
A52: 44 | B52: 4.03.01 | C52: =#REF! -> #REF! | D52: =SUM(#REF!,#REF!) -> #REF! | E52: =SUM(#REF!,#REF!) -> #REF! | F52: =SUM(#REF!,#REF!) -> #REF! | G52: =SUM(#REF!,#REF!) -> #REF! | H52: =SUM(#REF!,#REF!) -> #REF! | I52: =SUM(#REF!,#REF!) -> #REF! | J52: =(D52-G52)+(E52-G52) -> #REF! | K52: =(E52-H52)+(F52-H52) -> #REF! | L52: =(D52-I52)+(F52-I52) -> #REF! | M52: =SUM(#REF!,#REF!) -> #REF! | N52: =SUM(#REF!,#REF!) -> #REF! | O52: =SUM(#REF!,#REF!) -> #REF! | P52: =(M52-O52)+(N52-O52) -> #REF! | Q52: =D52-I52 -> #REF! | R52: =F52-H52 -> #REF!
A53: 45 | B53: 4.04.17 | C53: Badan Pengelolaan Keuangan dan Aset Daerah | D53: =SUM(#REF!) -> #REF! | E53: =SUM(#REF!) -> #REF! | F53: =SUM(#REF!) -> #REF! | G53: =SUM(#REF!) -> #REF! | H53: =SUM(#REF!) -> #REF! | I53: =SUM(#REF!) -> #REF! | J53: =(D53-G53)+(E53-G53) -> #REF! | K53: =(E53-H53)+(F53-H53) -> #REF! | L53: =(D53-I53)+(F53-I53) -> #REF! | M53: =SUM(#REF!) -> #REF! | N53: =SUM(#REF!) -> #REF! | O53: =SUM(#REF!) -> #REF! | P53: =(M53-O53)+(N53-O53) -> #REF! | Q53: =D53-I53 -> #REF! | R53: =F53-H53 -> #REF!
A54: 46 | B54: 4.04.18 | C54: =#REF! -> #REF! | D54: =SUM(#REF!) -> #REF! | E54: =SUM(#REF!) -> #REF! | F54: =SUM(#REF!) -> #REF! | G54: =SUM(#REF!) -> #REF! | H54: =SUM(#REF!) -> #REF! | I54: =SUM(#REF!) -> #REF! | J54: =(D54-G54)+(E54-G54) -> #REF! | K54: =(E54-H54)+(F54-H54) -> #REF! | L54: =(D54-I54)+(F54-I54) -> #REF! | M54: =SUM(#REF!) -> #REF! | N54: =SUM(#REF!) -> #REF! | O54: =SUM(#REF!) -> #REF! | P54: =(M54-O54)+(N54-O54) -> #REF! | Q54: =D54-I54 -> #REF! | R54: =F54-H54 -> #REF!
A55: 47 | B55: 4.05.13 | C55: Badan Kepegawaian, Pendidikan dan Pelatihan | D55: =SUM(#REF!) -> #REF! | E55: =SUM(#REF!) -> #REF! | F55: =SUM(#REF!) -> #REF! | G55: =SUM(#REF!) -> #REF! | H55: =SUM(#REF!) -> #REF! | I55: =SUM(#REF!) -> #REF! | J55: =(D55-G55)+(E55-G55) -> #REF! | K55: =(E55-H55)+(F55-H55) -> #REF! | L55: =(D55-I55)+(F55-I55) -> #REF! | M55: =SUM(#REF!) -> #REF! | N55: =SUM(#REF!) -> #REF! | O55: =SUM(#REF!) -> #REF! | P55: =(M55-O55)+(N55-O55) -> #REF! | Q55: =D55-I55 -> #REF! | R55: =F55-H55 -> #REF!
A57: J U M L A H | D57: =SUM(D9:D56) -> #REF! | E57: =SUM(E9:E56) -> #REF! | F57: =SUM(F9:F56) -> #REF! | G57: =SUM(G9:G56) -> #REF! | H57: =SUM(H9:H56) -> #REF! | I57: =SUM(I9:I56) -> #REF! | J57: =SUM(J9:J56) -> #REF! | K57: =SUM(K9:K56) -> #REF! | ... Q57: =SUM(Q9:Q56) -> #REF! | R57: =L57-Q57 -> #REF!
A59: Keterangan :
A60: 1. | B60: Kolom 1 memuat nomor urut.
A61: 2. | B61: Kolom 2 memuat kode perangkat daerah dilingkungan Pemerintah Kabupaten Berau.
A62: 3. | B62: Kolom 3 memuat perangkat daerah dilingkungan Pemerintah Kabupaten Berau
A63: 4. | B63: Kolom 4 memuat jumlah program yang dilaksanakan masing-masing perangkat daerah sebagaimana yang tercantum dalam Perda Nomor 3 Tahun 2016 tentang RPJMD.
A64: 5. | B64: Kolom 5 memuat jumlah program masing-masing perangkat daerah sebagaimana yang tercantum dalam RKPD Perubahan Tahun 2017.
A65: 6. | B65: Kolom 6 memuat jumlah program yang dilaksanakan masing-masing perangkat daerah sebagaimana yang tercantum dalam APBD Perubahan Tahun 2017.
A66: 7. | B66: Kolom 7 memuat jumlah judul program yang sama-sama direncanakan dalam dokumen RKPD dan RPJMD untuk tahun 2017.
A67: 8. | B67: Kolom 8 memuat jumlah judul program yang direncanakan dalam RKPD dan dianggarkan dalam APBD tahun 2017.
A68: 9. | B68: Kolom 9 memuat jumlah judul program yang direncanakan dalam RPJMD dan dianggarkan dalam APBD Tahun 2017.
A69: 10. | B69: Kolom 10 memuat jumlah program yang direncanakan dalam RKPD tetapi tidak direncanakan dalam RPJMD atau sebaliknya untuk tahun 2017 ((kolom 10) = (kolom 4 - kolom 7) + (kolom 5 - kolom 7)).
A70: 11. | B70: Kolom 11 memuat jumlah program yang direncanakan dalam RKPD tetapi tidak dianggarkan dalam APBD atau sebaliknya untuk tahun 2017 ((kolom 11) = (kolom 5 - kolom 8) + (kolom 6 - kolom 8)).
A71: 12. | B71: Kolom 12 memuat jumlah program yang direncanakan dalam RPJMD tetapi tidak dianggarkan dalam APBD atau sebaliknya untuk tahun 2017 ((kolom 12) = (kolom 4 - kolom 9) + (kolom 6 - kolom 9)).
... A75: 16. | B75: Kolom 16 memuat jumlah kegiatan yang direncanakan dalam RKPD tetapi tidak direncanakan dalam APBD atau sebaliknya untuk tahun 2017 ((kolom 16) = (kolom 13 - kolom 15) + (kolom 14 - kolom 15)).

Sheet kons PR (L3)
A1: LAMPIRAN 3
A2: PERBANDINGAN ANTARA PENDANAAN INDIKATIF DAN ANGGARAN PEMBANGUNAN
A3: KABUPATEN BERAU TAHUN 2017
N4: (dalam ribuan rupiah)
A5: No. Urut | B5: Kode OPD | C5: SKPD | D5: Kerangka Pendanaan dan Anggaran OPD Tahun 2017 | I5: Selisih Kerangka Pendanaan dan Anggaran
D6: RPJMD | E6: RKPD | G6: APBD
D7: Rp. | E7: Rp. | F7: % RPJMD | G7: Rp. | H7: % RPJMD | I7: RKPD & RPJMD | K7: APBD & RKPD | M7: APBD & RPJMD
A8: (1) | B8: (2) | C8: (3) | D8: (4) | E8: (5) | G8: (6) | I8: (7) | K8: (8) | M8: (9)
A9: 1 | B9: 1.01.01 | C9: Dinas Pendidikan | D9: =SUM(#REF!) -> #REF! | E9: =SUM(#REF!) -> #REF! | F9: =E9/D9*100 -> #REF! | G9: =SUM(#REF!) -> #REF! | H9: =G9/D9*100 -> #REF! | I9: =E9-D9 -> #REF! | J9: =I9/$I$57 -> #REF! | K9: =G9-E9 -> #REF! | L9: =K9/$K$57 -> #REF! | M9: =G9-D9 -> #REF! | N9: =M9/$M$57 -> #REF!
A10: =A9+1 -> 2 | B10: 1.02.01 | C10: Dinas Kesehatan | D10: =SUM(#REF!) -> #REF! | E10: =SUM(#REF!) -> #REF! | F10: =E10/D10*100 -> #REF! | G10: =SUM(#REF!) -> #REF! | H10: =G10/D10*100 -> #REF! | I10: =E10-D10 -> #REF! | J10: =I10/$I$57 -> #REF! | K10: =G10-E10 -> #REF! | L10: =K10/$K$57 -> #REF! | M10: =G10-D10 -> #REF! | N10: =M10/$M$57 -> #REF!
A11: =A10+1 -> 3 | B11: 1.02.02 | C11: RSUD Dr. Abdul Rivai | D11: =SUM(#REF!) -> #REF! | E11: =SUM(#REF!) -> #REF! | F11: =E11/D11*100 -> #REF! | G11: =SUM(#REF!) -> #REF! | H11: =G11/D11*100 -> #REF! | I11: =E11-D11 -> #REF! | J11: =I11/$I$57 -> #REF! | K11: =G11-E11 -> #REF! | L11: =K11/$K$57 -> #REF! | M11: =G11-D11 -> #REF! | N11: =M11/$M$57 -> #REF!
A12: =A11+1 -> 4 | B12: 1.03.01 | C12: Dinas Pekerjaan Umum dan Penataan Ruang | D12: =SUM(#REF!) -> #REF! | E12: =SUM(#REF!) -> #REF! | F12: =E12/D12*100 -> #REF! | G12: =SUM(#REF!) -> #REF! | H12: =G12/D12*100 -> #REF! | I12: =E12-D12 -> #REF! | J12: =I12/$I$57 -> #REF! | K12: =G12-E12 -> #REF! | L12: =K12/$K$57 -> #REF! | M12: =G12-D12 -> #REF! | N12: =M12/$M$57 -> #REF!
A13: =A12+1 -> 5 | B13: 1.04.01 | C13: Dinas Perumahan dan Kawasan Permukiman | D13: =SUM(#REF!) -> #REF! | E13: =SUM(#REF!) -> #REF! | F13: =E13/D13*100 -> #REF! | G13: =SUM(#REF!) -> #REF! | H13: =G13/D13*100 -> #REF! | I13: =E13-D13 -> #REF! | J13: =I13/$I$57 -> #REF! | K13: =G13-E13 -> #REF! | L13: =K13/$K$57 -> #REF! | M13: =G13-D13 -> #REF! | N13: =M13/$M$57 -> #REF!
A14: =A13+1 -> 6 | B14: 1.05.01 | C14: =#REF! -> #REF! | D14: =SUM(#REF!) -> #REF! | E14: =SUM(#REF!) -> #REF! | F14: =E14/D14*100 -> #REF! | G14: =SUM(#REF!) -> #REF! | H14: =G14/D14*100 -> #REF! | I14: =E14-D14 -> #REF! | J14: =I14/$I$57 -> #REF! | K14: =G14-E14 -> #REF! | L14: =K14/$K$57 -> #REF! | M14: =G14-D14 -> #REF! | N14: =M14/$M$57 -> #REF!
A15: =A14+1 -> 7 | B15: 1.05.02 | C15: Badan Penanggulangan Bencana Daerah | D15: =SUM(#REF!,#REF!) -> #REF! | E15: =SUM(#REF!,#REF!) -> #REF! | F15: =E15/D15*100 -> #REF! | G15: =SUM(#REF!,#REF!) -> #REF! | H15: =G15/D15*100 -> #REF! | I15: =E15-D15 -> #REF! | J15: =I15/$I$57 -> #REF! | K15: =G15-E15 -> #REF! | L15: =K15/$K$57 -> #REF! | M15: =G15-D15 -> #REF! | N15: =M15/$M$57 -> #REF!
A16: =A15+1 -> 8 | B16: 1.05.03 | C16: Kantor Satuan Polisi Pamong Praja | D16: =SUM(#REF!) -> #REF! | E16: =SUM(#REF!) -> #REF! | F16: =E16/D16*100 -> #REF! | G16: =SUM(#REF!) -> #REF! | H16: =G16/D16*100 -> #REF! | I16: =E16-D16 -> #REF! | J16: =I16/$I$57 -> #REF! | K16: =G16-E16 -> #REF! | L16: =K16/$K$57 -> #REF! | M16: =G16-D16 -> #REF! | N16: =M16/$M$57 -> #REF!
A17: =A16+1 -> 9 | B17: 1.06.01 | C17: Dinas Sosial | D17: =SUM(#REF!) -> #REF! | E17: =SUM(#REF!) -> #REF! | F17: =E17/D17*100 -> #REF! | G17: =SUM(#REF!) -> #REF! | H17: =G17/D17*100 -> #REF! | I17: =E17-D17 -> #REF! | J17: =I17/$I$57 -> #REF! | K17: =G17-E17 -> #REF! | L17: =K17/$K$57 -> #REF! | M17: =G17-D17 -> #REF! | N17: =M17/$M$57 -> #REF!
A18: =A17+1 -> 10 | B18: 2.01.01 | C18: Dinas Tenaga Kerja dan Transmigrasi | D18: =SUM(#REF!,#REF!) -> #REF! | E18: =SUM(#REF!,#REF!) -> #REF! | F18: =E18/D18*100 -> #REF! | G18: =SUM(#REF!,#REF!) -> #REF! | H18: =G18/D18*100 -> #REF! | I18: =E18-D18 -> #REF! | J18: =I18/$I$57 -> #REF! | K18: =G18-E18 -> #REF! | L18: =K18/$K$57 -> #REF! | M18: =G18-D18 -> #REF! | N18: =M18/$M$57 -> #REF!
A19: =A18+1 -> 11 | B19: 2.02.01 | C19: =#REF! -> #REF! | D19: =SUM(#REF!,#REF!) -> #REF! | E19: =SUM(#REF!,#REF!) -> #REF! | F19: =E19/D19*100 -> #REF! | G19: =SUM(#REF!,#REF!) -> #REF! | H19: =G19/D19*100 -> #REF! | I19: =E19-D19 -> #REF! | J19: =I19/$I$57 -> #REF! | K19: =G19-E19 -> #REF! | L19: =K19/$K$57 -> #REF! | M19: =G19-D19 -> #REF! | N19: =M19/$M$57 -> #REF!
A20: =A19+1 -> 12 | B20: 2.03.01 | C20: =#REF! -> #REF! | D20: =SUM(#REF!) -> #REF! | E20: =SUM(#REF!) -> #REF! | F20: =E20/D20*100 -> #REF! | G20: =SUM(#REF!) -> #REF! | H20: =G20/D20*100 -> #REF! | I20: =E20-D20 -> #REF! | J20: =I20/$I$57 -> #REF! | K20: =G20-E20 -> #REF! | L20: =K20/$K$57 -> #REF! | M20: =G20-D20 -> #REF! | N20: =M20/$M$57 -> #REF!
A21: =A20+1 -> 13 | B21: 2.04.01 | C21: =#REF! -> #REF! | D21: =SUM(#REF!) -> #REF! | E21: =SUM(#REF!) -> #REF! | F21: =E21/D21*100 -> #REF! | G21: =SUM(#REF!) -> #REF! | H21: =G21/D21*100 -> #REF! | I21: =E21-D21 -> #REF! | J21: =I21/$I$57 -> #REF! | K21: =G21-E21 -> #REF! | L21: =K21/$K$57 -> #REF! | M21: =G21-D21 -> #REF! | N21: =M21/$M$57 -> #REF!
A22: =A21+1 -> 14 | B22: 2.05.01 | C22: =#REF! -> #REF! | D22: =SUM(#REF!) -> #REF! | E22: =SUM(#REF!) -> #REF! | F22: =E22/D22*100 -> #REF! | G22: =SUM(#REF!) -> #REF! | H22: =G22/D22*100 -> #REF! | I22: =E22-D22 -> #REF! | J22: =I22/$I$57 -> #REF! | K22: =G22-E22 -> #REF! | L22: =K22/$K$57 -> #REF! | M22: =G22-D22 -> #REF! | N22: =M22/$M$57 -> #REF!
A23: =A22+1 -> 15 | B23: 2.06.01 | C23: =#REF! -> #REF! | D23: =SUM(#REF!) -> #REF! | E23: =SUM(#REF!) -> #REF! | F23: =E23/D23*100 -> #REF! | G23: =SUM(#REF!) -> #REF! | H23: =G23/D23*100 -> #REF! | I23: =E23-D23 -> #REF! | J23: =I23/$I$57 -> #REF! | K23: =G23-E23 -> #REF! | L23: =K23/$K$57 -> #REF! | M23: =G23-D23 -> #REF! | N23: =M23/$M$57 -> #REF!
A24: =A23+1 -> 16 | B24: 2.07.01 | C24: =#REF! -> #REF! | D24: =SUM(#REF!) -> #REF! | E24: =SUM(#REF!) -> #REF! | F24: =E24/D24*100 -> #REF! | G24: =SUM(#REF!) -> #REF! | H24: =G24/D24*100 -> #REF! | I24: =E24-D24 -> #REF! | J24: =I24/$I$57 -> #REF! | K24: =G24-E24 -> #REF! | L24: =K24/$K$57 -> #REF! | M24: =G24-D24 -> #REF! | N24: =M24/$M$57 -> #REF!
A25: =A24+1 -> 17 | B25: 2.09.01 | C25: =#REF! -> #REF! | D25: =SUM(#REF!) -> #REF! | E25: =SUM(#REF!) -> #REF! | F25: =E25/D25*100 -> #REF! | G25: =SUM(#REF!) -> #REF! | H25: =G25/D25*100 -> #REF! | I25: =E25-D25 -> #REF! | J25: =I25/$I$57 -> #REF! | K25: =G25-E25 -> #REF! | L25: =K25/$K$57 -> #REF! | M25: =G25-D25 -> #REF! | N25: =M25/$M$57 -> #REF!
A26: =A25+1 -> 18 | B26: 2.10.01 | C26: =#REF! -> #REF! | D26: =SUM(#REF!) -> #REF! | E26: =SUM(#REF!) -> #REF! | F26: =E26/D26*100 -> #REF! | G26: =SUM(#REF!) -> #REF! | H26: =G26/D26*100 -> #REF! | I26: =E26-D26 -> #REF! | J26: =I26/$I$57 -> #REF! | K26: =G26-E26 -> #REF! | L26: =K26/$K$57 -> #REF! | M26: =G26-D26 -> #REF! | N26: =M26/$M$57 -> #REF!
A27: =A26+1 -> 19 | B27: 2.11.01 | C27: Dinas Koperasi, Perindustrian dan Perdagangan | D27: =SUM(#REF!,#REF!) -> #REF! | E27: =SUM(#REF!,#REF!) -> #REF! | F27: =E27/D27*100 -> #REF! | G27: =SUM(#REF!,#REF!) -> #REF! | H27: =G27/D27*100 -> #REF! | I27: =E27-D27 -> #REF! | J27: =I27/$I$57 -> #REF! | K27: =G27-E27 -> #REF! | L27: =K27/$K$57 -> #REF! | M27: =G27-D27 -> #REF! | N27: =M27/$M$57 -> #REF!
A28: =A27+1 -> 20 | B28: 2.12.01 | C28: =#REF! -> #REF! | D28: =SUM(#REF!) -> #REF! | E28: =SUM(#REF!) -> #REF! | F28: =E28/D28*100 -> #REF! | G28: =SUM(#REF!) -> #REF! | H28: =G28/D28*100 -> #REF! | I28: =E28-D28 -> #REF! | J28: =I28/$I$57 -> #REF! | K28: =G28-E28 -> #REF! | L28: =K28/$K$57 -> #REF! | M28: =G28-D28 -> #REF! | N28: =M28/$M$57 -> #REF!
A29: =A28+1 -> 21 | B29: 2.13.01 | C29: =#REF! -> #REF! | D29: =SUM(#REF!) -> #REF! | E29: =SUM(#REF!) -> #REF! | F29: =E29/D29*100 -> #REF! | G29: =SUM(#REF!) -> #REF! | H29: =G29/D29*100 -> #REF! | I29: =E29-D29 -> #REF! | J29: =I29/$I$57 -> #REF! | K29: =G29-E29 -> #REF! | L29: =K29/$K$57 -> #REF! | M29: =G29-D29 -> #REF! | N29: =M29/$M$57 -> #REF!
A30: =A29+1 -> 22 | B30: 2.16.01 | C30: Dinas Kebudayaan dan Pariwisata | D30: =SUM(#REF!,#REF!) -> #REF! | E30: =SUM(#REF!,#REF!) -> #REF! | F30: =E30/D30*100 -> #REF! | G30: =SUM(#REF!,#REF!) -> #REF! | H30: =G30/D30*100 -> #REF! | I30: =E30-D30 -> #REF! | J30: =I30/$I$57 -> #REF! | K30: =G30-E30 -> #REF! | L30: =K30/$K$57 -> #REF! | M30: =G30-D30 -> #REF! | N30: =M30/$M$57 -> #REF!
A31: =A30+1 -> 23 | B31: 2.17.01 | C31: =#REF! -> #REF! | D31: =SUM(#REF!) -> #REF! | E31: =SUM(#REF!) -> #REF! | F31: =E31/D31*100 -> #REF! | G31: =SUM(#REF!) -> #REF! | H31: =G31/D31*100 -> #REF! | I31: =E31-D31 -> #REF! | J31: =I31/$I$57 -> #REF! | K31: =G31-E31 -> #REF! | L31: =K31/$K$57 -> #REF! | M31: =G31-D31 -> #REF! | N31: =M31/$M$57 -> #REF!
A32: =A31+1 -> 24 | B32: 3.01.01 | C32: =#REF! -> #REF! | D32: =SUM(#REF!) -> #REF! | E32: =SUM(#REF!) -> #REF! | F32: =E32/D32*100 -> #REF! | G32: =SUM(#REF!) -> #REF! | H32: =G32/D32*100 -> #REF! | I32: =E32-D32 -> #REF! | J32: =I32/$I$57 -> #REF! | K32: =G32-E32 -> #REF! | L32: =K32/$K$57 -> #REF! | M32: =G32-D32 -> #REF! | N32: =M32/$M$57 -> #REF!
A33: =A32+1 -> 25 | B33: 3.03.01 | C33: =#REF! -> #REF! | D33: =SUM(#REF!) -> #REF! | E33: =SUM(#REF!) -> #REF! | F33: =E33/D33*100 -> #REF! | G33: =SUM(#REF!) -> #REF! | H33: =G33/D33*100 -> #REF! | I33: =E33-D33 -> #REF! | J33: =I33/$I$57 -> #REF! | K33: =G33-E33 -> #REF! | L33: =K33/$K$57 -> #REF! | M33: =G33-D33 -> #REF! | N33: =M33/$M$57 -> #REF!
A34: =A33+1 -> 26 | B34: 3.03.02 | C34: Dinas Perkebunan | D34: =SUM(#REF!) -> #REF! | E34: =SUM(#REF!) -> #REF! | F34: =E34/D34*100 -> #REF! | G34: =SUM(#REF!) -> #REF! | H34: =G34/D34*100 -> #REF! | I34: =E34-D34 -> #REF! | J34: =I34/$I$57 -> #REF! | K34: =G34-E34 -> #REF! | L34: =K34/$K$57 -> #REF! | M34: =G34-D34 -> #REF! | N34: =M34/$M$57 -> #REF!
A35: =A34+1 -> 27 | B35: 4.01.03 | C35: Sekretariat Daerah | D35: =SUM(#REF!,#REF!,#REF!,#REF!) -> #REF! | E35: =SUM(#REF!,#REF!,#REF!,#REF!) -> #REF! | F35: =E35/D35*100 -> #REF! | G35: =SUM(#REF!,#REF!,#REF!,#REF!) -> #REF! | H35: =G35/D35*100 -> #REF! | I35: =E35-D35 -> #REF! | J35: =I35/$I$57 -> #REF! | K35: =G35-E35 -> #REF! | L35: =K35/$K$57 -> #REF! | M35: =G35-D35 -> #REF! | N35: =M35/$M$57 -> #REF!
A36: =A35+1 -> 28 | B36: 4.01.04 | C36: Sekretariat DPRD | D36: =SUM(#REF!) -> #REF! | E36: =SUM(#REF!) -> #REF! | F36: =E36/D36*100 -> #REF! | G36: =SUM(#REF!) -> #REF! | H36: =G36/D36*100 -> #REF! | I36: =E36-D36 -> #REF! | J36: =I36/$I$57 -> #REF! | K36: =G36-E36 -> #REF! | L36: =K36/$K$57 -> #REF! | M36: =G36-D36 -> #REF! | N36: =M36/$M$57 -> #REF!
A37: =A36+1 -> 29 | B37: 4.01.09 | C37: Kecamatan Tanjung Redeb | D37: =SUM(#REF!) -> #REF! | E37: =SUM(#REF!) -> #REF! | F37: =E37/D37*100 -> #REF! | G37: =SUM(#REF!) -> #REF! | H37: =G37/D37*100 -> #REF! | I37: =E37-D37 -> #REF! | J37: =I37/$I$57 -> #REF! | K37: =G37-E37 -> #REF! | L37: =K37/$K$57 -> #REF! | M37: =G37-D37 -> #REF! | N37: =M37/$M$57 -> #REF!
A38: =A37+1 -> 30 | B38: 4.01.09 | C38: Kecamatan Gunung Tabur | D38: =SUM(#REF!) -> #REF! | E38: =SUM(#REF!) -> #REF! | F38: =E38/D38*100 -> #REF! | G38: =SUM(#REF!) -> #REF! | H38: =G38/D38*100 -> #REF! | I38: =E38-D38 -> #REF! | J38: =I38/$I$57 -> #REF! | K38: =G38-E38 -> #REF! | L38: =K38/$K$57 -> #REF! | M38: =G38-D38 -> #REF! | N38: =M38/$M$57 -> #REF!
A39: =A38+1 -> 31 | B39: 4.01.09 | C39: Kecamatan Sambaliung | D39: =SUM(#REF!) -> #REF! | E39: =SUM(#REF!) -> #REF! | F39: =E39/D39*100 -> #REF! | G39: =SUM(#REF!) -> #REF! | H39: =G39/D39*100 -> #REF! | I39: =E39-D39 -> #REF! | J39: =I39/$I$57 -> #REF! | K39: =G39-E39 -> #REF! | L39: =K39/$K$57 -> #REF! | M39: =G39-D39 -> #REF! | N39: =M39/$M$57 -> #REF!
A40: =A39+1 -> 32 | B40: 4.01.09 | C40: Kecamatan Teluk Bayur | D40: =SUM(#REF!) -> #REF! | E40: =SUM(#REF!) -> #REF! | F40: =E40/D40*100 -> #REF! | G40: =SUM(#REF!) -> #REF! | H40: =G40/D40*100 -> #REF! | I40: =E40-D40 -> #REF! | J40: =I40/$I$57 -> #REF! | K40: =G40-E40 -> #REF! | L40: =K40/$K$57 -> #REF! | M40: =G40-D40 -> #REF! | N40: =M40/$M$57 -> #REF!
A41: =A40+1 -> 33 | B41: 4.01.09 | C41: Kecamatan Segah | D41: =SUM(#REF!) -> #REF! | E41: =SUM(#REF!) -> #REF! | F41: =E41/D41*100 -> #REF! | G41: =SUM(#REF!) -> #REF! | H41: =G41/D41*100 -> #REF! | I41: =E41-D41 -> #REF! | J41: =I41/$I$57 -> #REF! | K41: =G41-E41 -> #REF! | L41: =K41/$K$57 -> #REF! | M41: =G41-D41 -> #REF! | N41: =M41/$M$57 -> #REF!
A42: =A41+1 -> 34 | B42: 4.01.09 | C42: Kecamatan Kelay | D42: =SUM(#REF!) -> #REF! | E42: =SUM(#REF!) -> #REF! | F42: =E42/D42*100 -> #REF! | G42: =SUM(#REF!) -> #REF! | H42: =G42/D42*100 -> #REF! | I42: =E42-D42 -> #REF! | J42: =I42/$I$57 -> #REF! | K42: =G42-E42 -> #REF! | L42: =K42/$K$57 -> #REF! | M42: =G42-D42 -> #REF! | N42: =M42/$M$57 -> #REF!
A43: =A42+1 -> 35 | B43: 4.01.09 | C43: Kecamatan Pulau Derawan | D43: =SUM(#REF!) -> #REF! | E43: =SUM(#REF!) -> #REF! | F43: =E43/D43*100 -> #REF! | G43: =SUM(#REF!) -> #REF! | H43: =G43/D43*100 -> #REF! | I43: =E43-D43 -> #REF! | J43: =I43/$I$57 -> #REF! | K43: =G43-E43 -> #REF! | L43: =K43/$K$57 -> #REF! | M43: =G43-D43 -> #REF! | N43: =M43/$M$57 -> #REF!
A44: =A43+1 -> 36 | B44: 4.01.09 | C44: Kecamatan Talisayan | D44: =SUM(#REF!) -> #REF! | E44: =SUM(#REF!) -> #REF! | F44: =E44/D44*100 -> #REF! | G44: =SUM(#REF!) -> #REF! | H44: =G44/D44*100 -> #REF! | I44: =E44-D44 -> #REF! | J44: =I44/$I$57 -> #REF! | K44: =G44-E44 -> #REF! | L44: =K44/$K$57 -> #REF! | M44: =G44-D44 -> #REF! | N44: =M44/$M$57 -> #REF!
A45: =A44+1 -> 37 | B45: 4.01.09 | C45: Kecamatan Biduk-Biduk | D45: =SUM(#REF!) -> #REF! | E45: =SUM(#REF!) -> #REF! | F45: =E45/D45*100 -> #REF! | G45: =SUM(#REF!) -> #REF! | H45: =G45/D45*100 -> #REF! | I45: =E45-D45 -> #REF! | J45: =I45/$I$57 -> #REF! | K45: =G45-E45 -> #REF! | L45: =K45/$K$57 -> #REF! | M45: =G45-D45 -> #REF! | N45: =M45/$M$57 -> #REF!
A46: =A45+1 -> 38 | B46: 4.01.09 | C46: Kecamatan Maratua | D46: =SUM(#REF!) -> #REF! | E46: =SUM(#REF!) -> #REF! | F46: =E46/D46*100 -> #REF! | G46: =SUM(#REF!) -> #REF! | H46: =G46/D46*100 -> #REF! | I46: =E46-D46 -> #REF! | J46: =I46/$I$57 -> #REF! | K46: =G46-E46 -> #REF! | L46: =K46/$K$57 -> #REF! | M46: =G46-D46 -> #REF! | N46: =M46/$M$57 -> #REF!
A47: =A46+1 -> 39 | B47: 4.01.09 | C47: Kecamatan Tabalar | D47: =SUM(#REF!) -> #REF! | E47: =SUM(#REF!) -> #REF! | F47: =E47/D47*100 -> #REF! | G47: =SUM(#REF!) -> #REF! | H47: =G47/D47*100 -> #REF! | I47: =E47-D47 -> #REF! | J47: =I47/$I$57 -> #REF! | K47: =G47-E47 -> #REF! | L47: =K47/$K$57 -> #REF! | M47: =G47-D47 -> #REF! | N47: =M47/$M$57 -> #REF!
... A49: =A48+1 -> 41 | B49: 4.01.09 | C49: Kecamatan Biatan | D49: =SUM(#REF!) -> #REF! | E49: =SUM(#REF!) -> #REF! | F49: =E49/D49*100 -> #REF! | G49: =SUM(#REF!) -> #REF! | H49: =G49/D49*100 -> #REF! | I49: =E49-D49 -> #REF! | J49: =I49/$I$57 -> #REF! | K49: =G49-E49 -> #REF! | L49: =K49/$K$57 -> #REF! | M49: =G49-D49 -> #REF! | N49: =M49/$M$57 -> #REF!
A50: =A49+1 -> 42 | B50: 4.01.14 | C50: Sekretariat Dewan Pengurus KORPRI | D50: =SUM(#REF!,#REF!) -> #REF! | E50: =SUM(#REF!,#REF!) -> #REF! | F50: =E50/D50*100 -> #REF! | G50: =SUM(#REF!,#REF!) -> #REF! | H50: =G50/D50*100 -> #REF! | I50: =E50-D50 -> #REF! | J50: =I50/$I$57 -> #REF! | K50: =G50-E50 -> #REF! | L50: =K50/$K$57 -> #REF! | M50: =G50-D50 -> #REF! | N50: =M50/$M$57 -> #REF!
A51: =A50+1 -> 43 | B51: 4.02.01 | C51: Inspektorat | D51: =SUM(#REF!) -> #REF! | E51: =SUM(#REF!) -> #REF! | F51: =E51/D51*100 -> #REF! | G51: =SUM(#REF!) -> #REF! | H51: =G51/D51*100 -> #REF! | I51: =E51-D51 -> #REF! | J51: =I51/$I$57 -> #REF! | K51: =G51-E51 -> #REF! | L51: =K51/$K$57 -> #REF! | M51: =G51-D51 -> #REF! | N51: =M51/$M$57 -> #REF!
A52: =A51+1 -> 44 | B52: 4.03.01 | C52: =#REF! -> #REF! | D52: =SUM(#REF!,#REF!) -> #REF! | E52: =SUM(#REF!,#REF!) -> #REF! | F52: =E52/D52*100 -> #REF! | G52: =SUM(#REF!,#REF!) -> #REF! | H52: =G52/D52*100 -> #REF! | I52: =E52-D52 -> #REF! | J52: =I52/$I$57 -> #REF! | K52: =G52-E52 -> #REF! | L52: =K52/$K$57 -> #REF! | M52: =G52-D52 -> #REF! | N52: =M52/$M$57 -> #REF!
A53: =A52+1 -> 45 | B53: 4.04.17 | C53: Badan Pengelolaan Keuangan dan Aset Daerah | D53: =SUM(#REF!) -> #REF! | E53: =SUM(#REF!) -> #REF! | F53: =E53/D53*100 -> #REF! | G53: =SUM(#REF!) -> #REF! | H53: =G53/D53*100 -> #REF! | I53: =E53-D53 -> #REF! | J53: =I53/$I$57 -> #REF! | K53: =G53-E53 -> #REF! | L53: =K53/$K$57 -> #REF! | M53: =G53-D53 -> #REF! | N53: =M53/$M$57 -> #REF!
A54: =A53+1 -> 46 | B54: 4.04.18 | C54: =#REF! -> #REF! | D54: =SUM(#REF!) -> #REF! | E54: =SUM(#REF!) -> #REF! | F54: =E54/D54*100 -> #REF! | G54: =SUM(#REF!) -> #REF! | H54: =G54/D54*100 -> #REF! | I54: =E54-D54 -> #REF! | J54: =I54/$I$57 -> #REF! | K54: =G54-E54 -> #REF! | L54: =K54/$K$57 -> #REF! | M54: =G54-D54 -> #REF! | N54: =M54/$M$57 -> #REF!
A55: =A54+1 -> 47 | B55: 4.05.13 | C55: Badan Kepegawaian, Pendidikan dan Pelatihan | D55: =SUM(#REF!) -> #REF! | E55: =SUM(#REF!) -> #REF! | F55: =E55/D55*100 -> #REF! | G55: =SUM(#REF!) -> #REF! | H55: =G55/D55*100 -> #REF! | I55: =E55-D55 -> #REF! | J55: =I55/$I$57 -> #REF! | K55: =G55-E55 -> #REF! | L55: =K55/$K$57 -> #REF! | M55: =G55-D55 -> #REF! | N55: =M55/$M$57 -> #REF!
A57: J U M L A H | D57: =SUM(D9:D56) -> #REF! | E57: =SUM(E9:E56) -> #REF! | F57: =E57/D57*100 -> #REF! | G57: =SUM(G9:G56) -> #REF! | H57: =G57/D57*100 -> #REF! | I57: =SUM(I9:I56) -> #REF! | J57: =SUM(J9:J56) -> #REF! | K57: =SUM(K9:K56) -> #REF! | L57: =SUM(L9:L56) -> #REF! | M57: =SUM(M9:M56) -> #REF! | N57: =SUM(N9:N56) -> #REF!
A60: Keterangan :
A61: 1. | B61: Kolom 1 memuat nomor urut.
A62: 2. | B62: Kolom 2 memuat kode perangkat daerah dilingkungan Pemerintah Kabupaten Berau.
A63: 3. | B63: Kolom 3 memuat perangkat daerah dilingkungan Pemerintah Kabupaten Berau
A64: 4. | B64: Kolom 4 memuat jumlah pagu indikatif seluruh program pada masing-masing perangkat daerah sebagaimana yang tercantum dalam Perda Nomor 3 Tahun 2016 tentang RPJMD.
A65: 5. | B65: Kolom 5 memuat jumlah pagu indikatif seluruh program pada masing-masing perangkat daerah sebagaimana yang tercantum dalam RKPD Kabupaten Berau Tahun 2017.
A66: 6. | B66: Kolom 6 memuat jumlah pagu anggaran seluruh program yang dilaksanakan masing-masing perangkat daerah sebagaimana yang tercantum dalam Perda APBD Perubahan Tahun 2017.
A67: 7. | B67: Kolom 7 memuat jumlah dan persentase selisih pagu indikatif antara RKPD dan RPJMD untuk tahun 2017 ((kolom 7) = (kolom 5) - (kolom 4)).
A68: 8. | B68: Kolom 8 memuat jumlah dan persentase selisih pagu indikatif antara APBD dengan RKPD tahun 2017 ((kolom 8) = (kolom 6) - (kolom 5)).
A69: 9. | B69: Kolom 9 memuat jumlah dan persentase selisih pagu indikatif antara APBD dengan RPJMD untuk tahun 2017 ((kolom 9) = (kolom 6) - (kolom 4)).

Sheet realisasi (L4)
A1: LAMPIRAN 4
A2: REALISASI PENDANAAN PEMBANGUNAN KABUPATEN BERAU
A3: TAHUN 2017
M5: (dalam ribuan rupiah)
A6: No. Urut | B6: Kode OPD | C6: SKPD | D6: Realisasi Pendanaan Program | J6: Sisa APBD | L6: Selisih Realisasi
D7: RPJMD | F7: RKPD | H7: APBD | L7: RKPD & RPJMD | M7: APBD & RKPD | N7: APBD & RPJMD
A9: (1) | B9: (2) | C9: (3) | D9: (4) | F9: (5) | H9: (6) | J9: (7) | L9: (8) | M9: (9) | N9: (10)
A10: 1 | B10: 1.01.01 | C10: Dinas Pendidikan | D10: =SUM(#REF!) -> #REF! | E10: =D10/'kons PR (L3)'!D9 -> #REF! | F10: =SUM(#REF!) -> #REF! | G10: =F10/'kons PR (L3)'!E9 -> #REF! | H10: =SUM(#REF!) -> #REF! | I10: =H10/'kons PR (L3)'!G9 -> #REF! | J10: ='kons PR (L3)'!G9-'realisasi (L4)'!H10 -> #REF! | K10: =J10/'kons PR (L3)'!G9 -> #REF! | L10: =F10-D10 -> #REF! | M10: =H10-F10 -> #REF! | N10: =H10-D10 -> #REF!
A11: =A10+1 -> 2 | B11: 1.02.01 | C11: Dinas Kesehatan | D11: =SUM(#REF!) -> #REF! | E11: =D11/'kons PR (L3)'!D10 -> #REF! | F11: =SUM(#REF!) -> #REF! | G11: =F11/'kons PR (L3)'!E10 -> #REF! | H11: =SUM(#REF!) -> #REF! | I11: =H11/'kons PR (L3)'!G10 -> #REF! | J11: ='kons PR (L3)'!G10-'realisasi (L4)'!H11 -> #REF! | K11: =J11/'kons PR (L3)'!G10 -> #REF! | L11: =F11-D11 -> #REF! | M11: =H11-F11 -> #REF! | N11: =H11-D11 -> #REF!
A12: =A11+1 -> 3 | B12: 1.02.02 | C12: RSUD Dr. Abdul Rivai | D12: =SUM(#REF!) -> #REF! | E12: =D12/'kons PR (L3)'!D11 -> #REF! | F12: =SUM(#REF!) -> #REF! | G12: =F12/'kons PR (L3)'!E11 -> #REF! | H12: =SUM(#REF!) -> #REF! | I12: =H12/'kons PR (L3)'!G11 -> #REF! | J12: ='kons PR (L3)'!G11-'realisasi (L4)'!H12 -> #REF! | K12: =J12/'kons PR (L3)'!G11 -> #REF! | L12: =F12-D12 -> #REF! | M12: =H12-F12 -> #REF! | N12: =H12-D12 -> #REF!
A13: =A12+1 -> 4 | B13: 1.03.01 | C13: Dinas Pekerjaan Umum dan Penataan Ruang | D13: =SUM(#REF!) -> #REF! | E13: =D13/'kons PR (L3)'!D12 -> #REF! | F13: =SUM(#REF!) -> #REF! | G13: =F13/'kons PR (L3)'!E12 -> #REF! | H13: =SUM(#REF!) -> #REF! | I13: =H13/'kons PR (L3)'!G12 -> #REF! | J13: ='kons PR (L3)'!G12-'realisasi (L4)'!H13 -> #REF! | K13: =J13/'kons PR (L3)'!G12 -> #REF! | L13: =F13-D13 -> #REF! | M13: =H13-F13 -> #REF! | N13: =H13-D13 -> #REF!
A14: =A13+1 -> 5 | B14: 1.04.01 | C14: Dinas Perumahan dan Kawasan Permukiman | D14: =SUM(#REF!) -> #REF! | E14: =D14/'kons PR (L3)'!D13 -> #REF! | F14: =SUM(#REF!) -> #REF! | G14: =F14/'kons PR (L3)'!E13 -> #REF! | H14: =SUM(#REF!) -> #REF! | I14: =H14/'kons PR (L3)'!G13 -> #REF! | J14: ='kons PR (L3)'!G13-'realisasi (L4)'!H14 -> #REF! | K14: =J14/'kons PR (L3)'!G13 -> #REF! | L14: =F14-D14 -> #REF! | M14: =H14-F14 -> #REF! | N14: =H14-D14 -> #REF!
A15: =A14+1 -> 6 | B15: 1.05.01 | C15: =#REF! -> #REF! | D15: =SUM(#REF!) -> #REF! | E15: =D15/'kons PR (L3)'!D14 -> #REF! | F15: =SUM(#REF!) -> #REF! | G15: =F15/'kons PR (L3)'!E14 -> #REF! | H15: =SUM(#REF!) -> #REF! | I15: =H15/'kons PR (L3)'!G14 -> #REF! | J15: ='kons PR (L3)'!G14-'realisasi (L4)'!H15 -> #REF! | K15: =J15/'kons PR (L3)'!G14 -> #REF! | L15: =F15-D15 -> #REF! | M15: =H15-F15 -> #REF! | N15: =H15-D15 -> #REF!
A16: =A15+1 -> 7 | B16: 1.05.02 | C16: Badan Penanggulangan Bencana Daerah | D16: =SUM(#REF!,#REF!) -> #REF! | E16: =D16/'kons PR (L3)'!D15 -> #REF! | F16: =SUM(#REF!,#REF!) -> #REF! | G16: =F16/'kons PR (L3)'!E15 -> #REF! | H16: =SUM(#REF!,#REF!) -> #REF! | I16: =H16/'kons PR (L3)'!G15 -> #REF! | J16: ='kons PR (L3)'!G15-'realisasi (L4)'!H16 -> #REF! | K16: =J16/'kons PR (L3)'!G15 -> #REF! | L16: =F16-D16 -> #REF! | M16: =H16-F16 -> #REF! | N16: =H16-D16 -> #REF!
A17: =A16+1 -> 8 | B17: 1.05.03 | C17: Kantor Satuan Polisi Pamong Praja | D17: =SUM(#REF!) -> #REF! | E17: =D17/'kons PR (L3)'!D16 -> #REF! | F17: =SUM(#REF!) -> #REF! | G17: =F17/'kons PR (L3)'!E16 -> #REF! | H17: =SUM(#REF!) -> #REF! | I17: =H17/'kons PR (L3)'!G16 -> #REF! | J17: ='kons PR (L3)'!G16-'realisasi (L4)'!H17 -> #REF! | K17: =J17/'kons PR (L3)'!G16 -> #REF! | L17: =F17-D17 -> #REF! | M17: =H17-F17 -> #REF! | N17: =H17-D17 -> #REF!
A18: =A17+1 -> 9 | B18: 1.06.01 | C18: Dinas Sosial | D18: =SUM(#REF!) -> #REF! | E18: =D18/'kons PR (L3)'!D17 -> #REF! | F18: =SUM(#REF!) -> #REF! | G18: =F18/'kons PR (L3)'!E17 -> #REF! | H18: =SUM(#REF!) -> #REF! | I18: =H18/'kons PR (L3)'!G17 -> #REF! | J18: ='kons PR (L3)'!G17-'realisasi (L4)'!H18 -> #REF! | K18: =J18/'kons PR (L3)'!G17 -> #REF! | L18: =F18-D18 -> #REF! | M18: =H18-F18 -> #REF! | N18: =H18-D18 -> #REF!
A19: =A18+1 -> 10 | B19: 2.01.01 | C19: Dinas Tenaga Kerja dan Transmigrasi | D19: =SUM(#REF!,#REF!) -> #REF! | E19: =D19/'kons PR (L3)'!D18 -> #REF! | F19: =SUM(#REF!,#REF!) -> #REF! | G19: =F19/'kons PR (L3)'!E18 -> #REF! | H19: =SUM(#REF!,#REF!) -> #REF! | I19: =H19/'kons PR (L3)'!G18 -> #REF! | J19: ='kons PR (L3)'!G18-'realisasi (L4)'!H19 -> #REF! | K19: =J19/'kons PR (L3)'!G18 -> #REF! | L19: =F19-D19 -> #REF! | M19: =H19-F19 -> #REF! | N19: =H19-D19 -> #REF!
A20: =A19+1 -> 11 | B20: 2.02.01 | C20: =#REF! -> #REF! | D20: =SUM(#REF!,#REF!) -> #REF! | E20: =D20/'kons PR (L3)'!D19 -> #REF! | F20: =SUM(#REF!,#REF!) -> #REF! | G20: =F20/'kons PR (L3)'!E19 -> #REF! | H20: =SUM(#REF!,#REF!) -> #REF! | I20: =H20/'kons PR (L3)'!G19 -> #REF! | J20: ='kons PR (L3)'!G19-'realisasi (L4)'!H20 -> #REF! | K20: =J20/'kons PR (L3)'!G19 -> #REF! | L20: =F20-D20 -> #REF! | M20: =H20-F20 -> #REF! | N20: =H20-D20 -> #REF!
A21: =A20+1 -> 12 | B21: 2.03.01 | C21: =#REF! -> #REF! | D21: =SUM(#REF!) -> #REF! | E21: =D21/'kons PR (L3)'!D20 -> #REF! | F21: =SUM(#REF!) -> #REF! | G21: =F21/'kons PR (L3)'!E20 -> #REF! | H21: =SUM(#REF!) -> #REF! | I21: =H21/'kons PR (L3)'!G20 -> #REF! | J21: ='kons PR (L3)'!G20-'realisasi (L4)'!H21 -> #REF! | K21: =J21/'kons PR (L3)'!G20 -> #REF! | L21: =F21-D21 -> #REF! | M21: =H21-F21 -> #REF! | N21: =H21-D21 -> #REF!
A22: =A21+1 -> 13 | B22: 2.04.01 | C22: =#REF! -> #REF! | D22: =SUM(#REF!) -> #REF! | E22: =D22/'kons PR (L3)'!D21 -> #REF! | F22: =SUM(#REF!) -> #REF! | G22: =F22/'kons PR (L3)'!E21 -> #REF! | H22: =SUM(#REF!) -> #REF! | I22: =H22/'kons PR (L3)'!G21 -> #REF! | J22: ='kons PR (L3)'!G21-'realisasi (L4)'!H22 -> #REF! | K22: =J22/'kons PR (L3)'!G21 -> #REF! | L22: =F22-D22 -> #REF! | M22: =H22-F22 -> #REF! | N22: =H22-D22 -> #REF!
A23: =A22+1 -> 14 | B23: 2.05.01 | C23: =#REF! -> #REF! | D23: =SUM(#REF!) -> #REF! | E23: =D23/'kons PR (L3)'!D22 -> #REF! | F23: =SUM(#REF!) -> #REF! | G23: =F23/'kons PR (L3)'!E22 -> #REF! | H23: =SUM(#REF!) -> #REF! | I23: =H23/'kons PR (L3)'!G22 -> #REF! | J23: ='kons PR (L3)'!G22-'realisasi (L4)'!H23 -> #REF! | K23: =J23/'kons PR (L3)'!G22 -> #REF! | L23: =F23-D23 -> #REF! | M23: =H23-F23 -> #REF! | N23: =H23-D23 -> #REF!
A24: =A23+1 -> 15 | B24: 2.06.01 | C24: =#REF! -> #REF! | D24: =SUM(#REF!) -> #REF! | E24: =D24/'kons PR (L3)'!D23 -> #REF! | F24: =SUM(#REF!) -> #REF! | G24: =F24/'kons PR (L3)'!E23 -> #REF! | H24: =SUM(#REF!) -> #REF! | I24: =H24/'kons PR (L3)'!G23 -> #REF! | J24: ='kons PR (L3)'!G23-'realisasi (L4)'!H24 -> #REF! | K24: =J24/'kons PR (L3)'!G23 -> #REF! | L24: =F24-D24 -> #REF! | M24: =H24-F24 -> #REF! | N24: =H24-D24 -> #REF!
A25: =A24+1 -> 16 | B25: 2.07.01 | C25: =#REF! -> #REF! | D25: =SUM(#REF!) -> #REF! | E25: =D25/'kons PR (L3)'!D24 -> #REF! | F25: =SUM(#REF!) -> #REF! | G25: =F25/'kons PR (L3)'!E24 -> #REF! | H25: =SUM(#REF!) -> #REF! | I25: =H25/'kons PR (L3)'!G24 -> #REF! | J25: ='kons PR (L3)'!G24-'realisasi (L4)'!H25 -> #REF! | K25: =J25/'kons PR (L3)'!G24 -> #REF! | L25: =F25-D25 -> #REF! | M25: =H25-F25 -> #REF! | N25: =H25-D25 -> #REF!
A26: =A25+1 -> 17 | B26: 2.09.01 | C26: =#REF! -> #REF! | D26: =SUM(#REF!) -> #REF! | E26: =D26/'kons PR (L3)'!D25 -> #REF! | F26: =SUM(#REF!) -> #REF! | G26: =F26/'kons PR (L3)'!E25 -> #REF! | H26: =SUM(#REF!) -> #REF! | I26: =H26/'kons PR (L3)'!G25 -> #REF! | J26: ='kons PR (L3)'!G25-'realisasi (L4)'!H26 -> #REF! | K26: =J26/'kons PR (L3)'!G25 -> #REF! | L26: =F26-D26 -> #REF! | M26: =H26-F26 -> #REF! | N26: =H26-D26 -> #REF!
A27: =A26+1 -> 18 | B27: 2.10.01 | C27: =#REF! -> #REF! | D27: =SUM(#REF!) -> #REF! | E27: =D27/'kons PR (L3)'!D26 -> #REF! | F27: =SUM(#REF!) -> #REF! | G27: =F27/'kons PR (L3)'!E26 -> #REF! | H27: =SUM(#REF!) -> #REF! | I27: =H27/'kons PR (L3)'!G26 -> #REF! | J27: ='kons PR (L3)'!G26-'realisasi (L4)'!H27 -> #REF! | K27: =J27/'kons PR (L3)'!G26 -> #REF! | L27: =F27-D27 -> #REF! | M27: =H27-F27 -> #REF! | N27: =H27-D27 -> #REF!
A28: =A27+1 -> 19 | B28: 2.11.01 | C28: Dinas Koperasi, Perindustrian dan Perdagangan | D28: =SUM(#REF!,#REF!) -> #REF! | E28: =D28/'kons PR (L3)'!D27 -> #REF! | F28: =SUM(#REF!,#REF!) -> #REF! | G28: =F28/'kons PR (L3)'!E27 -> #REF! | H28: =SUM(#REF!,#REF!) -> #REF! | I28: =H28/'kons PR (L3)'!G27 -> #REF! | J28: ='kons PR (L3)'!G27-'realisasi (L4)'!H28 -> #REF! | K28: =J28/'kons PR (L3)'!G27 -> #REF! | L28: =F28-D28 -> #REF! | M28: =H28-F28 -> #REF! | N28: =H28-D28 -> #REF!
A29: =A28+1 -> 20 | B29: 2.12.01 | C29: =#REF! -> #REF! | D29: =SUM(#REF!) -> #REF! | E29: =D29/'kons PR (L3)'!D28 -> #REF! | F29: =SUM(#REF!) -> #REF! | G29: =F29/'kons PR (L3)'!E28 -> #REF! | H29: =SUM(#REF!) -> #REF! | I29: =H29/'kons PR (L3)'!G28 -> #REF! | J29: ='kons PR (L3)'!G28-'realisasi (L4)'!H29 -> #REF! | K29: =J29/'kons PR (L3)'!G28 -> #REF! | L29: =F29-D29 -> #REF! | M29: =H29-F29 -> #REF! | N29: =H29-D29 -> #REF!
A30: =A29+1 -> 21 | B30: 2.13.01 | C30: =#REF! -> #REF! | D30: =SUM(#REF!) -> #REF! | E30: =D30/'kons PR (L3)'!D29 -> #REF! | F30: =SUM(#REF!) -> #REF! | G30: =F30/'kons PR (L3)'!E29 -> #REF! | H30: =SUM(#REF!) -> #REF! | I30: =H30/'kons PR (L3)'!G29 -> #REF! | J30: ='kons PR (L3)'!G29-'realisasi (L4)'!H30 -> #REF! | K30: =J30/'kons PR (L3)'!G29 -> #REF! | L30: =F30-D30 -> #REF! | M30: =H30-F30 -> #REF! | N30: =H30-D30 -> #REF!
A31: =A30+1 -> 22 | B31: 2.16.01 | C31: Dinas Kebudayaan dan Pariwisata | D31: =SUM(#REF!,#REF!) -> #REF! | E31: =D31/'kons PR (L3)'!D30 -> #REF! | F31: =SUM(#REF!,#REF!) -> #REF! | G31: =F31/'kons PR (L3)'!E30 -> #REF! | H31: =SUM(#REF!,#REF!) -> #REF! | I31: =H31/'kons PR (L3)'!G30 -> #REF! | J31: ='kons PR (L3)'!G30-'realisasi (L4)'!H31 -> #REF! | K31: =J31/'kons PR (L3)'!G30 -> #REF! | L31: =F31-D31 -> #REF! | M31: =H31-F31 -> #REF! | N31: =H31-D31 -> #REF!
A32: =A31+1 -> 23 | B32: 2.17.01 | C32: =#REF! -> #REF! | D32: =SUM(#REF!) -> #REF! | E32: =D32/'kons PR (L3)'!D31 -> #REF! | F32: =SUM(#REF!) -> #REF! | G32: =F32/'kons PR (L3)'!E31 -> #REF! | H32: =SUM(#REF!) -> #REF! | I32: =H32/'kons PR (L3)'!G31 -> #REF! | J32: ='kons PR (L3)'!G31-'realisasi (L4)'!H32 -> #REF! | K32: =J32/'kons PR (L3)'!G31 -> #REF! | L32: =F32-D32 -> #REF! | M32: =H32-F32 -> #REF! | N32: =H32-D32 -> #REF!
A33: =A32+1 -> 24 | B33: 3.01.01 | C33: =#REF! -> #REF! | D33: =SUM(#REF!) -> #REF! | E33: =D33/'kons PR (L3)'!D32 -> #REF! | F33: =SUM(#REF!) -> #REF! | G33: =F33/'kons PR (L3)'!E32 -> #REF! | H33: =SUM(#REF!) -> #REF! | I33: =H33/'kons PR (L3)'!G32 -> #REF! | J33: ='kons PR (L3)'!G32-'realisasi (L4)'!H33 -> #REF! | K33: =J33/'kons PR (L3)'!G32 -> #REF! | L33: =F33-D33 -> #REF! | M33: =H33-F33 -> #REF! | N33: =H33-D33 -> #REF!
A34: =A33+1 -> 25 | B34: 3.03.01 | C34: =#REF! -> #REF! | D34: =SUM(#REF!) -> #REF! | E34: =D34/'kons PR (L3)'!D33 -> #REF! | F34: =SUM(#REF!) -> #REF! | G34: =F34/'kons PR (L3)'!E33 -> #REF! | H34: =SUM(#REF!) -> #REF! | I34: =H34/'kons PR (L3)'!G33 -> #REF! | J34: ='kons PR (L3)'!G33-'realisasi (L4)'!H34 -> #REF! | K34: =J34/'kons PR (L3)'!G33 -> #REF! | L34: =F34-D34 -> #REF! | M34: =H34-F34 -> #REF! | N34: =H34-D34 -> #REF!
A35: =A34+1 -> 26 | B35: 3.03.02 | C35: Dinas Perkebunan | D35: =SUM(#REF!) -> #REF! | E35: =D35/'kons PR (L3)'!D34 -> #REF! | F35: =SUM(#REF!) -> #REF! | G35: =F35/'kons PR (L3)'!E34 -> #REF! | H35: =SUM(#REF!) -> #REF! | I35: =H35/'kons PR (L3)'!G34 -> #REF! | J35: ='kons PR (L3)'!G34-'realisasi (L4)'!H35 -> #REF! | K35: =J35/'kons PR (L3)'!G34 -> #REF! | L35: =F35-D35 -> #REF! | M35: =H35-F35 -> #REF! | N35: =H35-D35 -> #REF!
A36: =A35+1 -> 27 | B36: 4.01.03 | C36: Sekretariat Daerah | D36: =SUM(#REF!,#REF!,#REF!,#REF!) -> #REF! | E36: =D36/'kons PR (L3)'!D35 -> #REF! | F36: =SUM(#REF!,#REF!,#REF!,#REF!) -> #REF! | G36: =F36/'kons PR (L3)'!E35 -> #REF! | H36: =SUM(#REF!,#REF!,#REF!,#REF!) -> #REF! | I36: =H36/'kons PR (L3)'!G35 -> #REF! | J36: ='kons PR (L3)'!G35-'realisasi (L4)'!H36 -> #REF! | K36: =J36/'kons PR (L3)'!G35 -> #REF! | L36: =F36-D36 -> #REF! | M36: =H36-F36 -> #REF! | N36: =H36-D36 -> #REF!
A37: =A36+1 -> 28 | B37: 4.01.04 | C37: Sekretariat DPRD | D37: =SUM(#REF!) -> #REF! | E37: =D37/'kons PR (L3)'!D36 -> #REF! | F37: =SUM(#REF!) -> #REF! | G37: =F37/'kons PR (L3)'!E36 -> #REF! | H37: =SUM(#REF!) -> #REF! | I37: =H37/'kons PR (L3)'!G36 -> #REF! | J37: ='kons PR (L3)'!G36-'realisasi (L4)'!H37 -> #REF! | K37: =J37/'kons PR (L3)'!G36 -> #REF! | L37: =F37-D37 -> #REF! | M37: =H37-F37 -> #REF! | N37: =H37-D37 -> #REF!
A38: =A37+1 -> 29 | B38: 4.01.09 | C38: Kecamatan Tanjung Redeb | D38: =SUM(#REF!) -> #REF! | E38: =D38/'kons PR (L3)'!D37 -> #REF! | F38: =SUM(#REF!) -> #REF! | G38: =F38/'kons PR (L3)'!E37 -> #REF! | H38: =SUM(#REF!) -> #REF! | I38: =H38/'kons PR (L3)'!G37 -> #REF! | J38: ='kons PR (L3)'!G37-'realisasi (L4)'!H38 -> #REF! | K38: =J38/'kons PR (L3)'!G37 -> #REF! | L38: =F38-D38 -> #REF! | M38: =H38-F38 -> #REF! | N38: =H38-D38 -> #REF!
A39: =A38+1 -> 30 | B39: 4.01.09 | C39: Kecamatan Gunung Tabur | D39: =SUM(#REF!) -> #REF! | E39: =D39/'kons PR (L3)'!D38 -> #REF! | F39: =SUM(#REF!) -> #REF! | G39: =F39/'kons PR (L3)'!E38 -> #REF! | H39: =SUM(#REF!) -> #REF! | I39: =H39/'kons PR (L3)'!G38 -> #REF! | J39: ='kons PR (L3)'!G38-'realisasi (L4)'!H39 -> #REF! | K39: =J39/'kons PR (L3)'!G38 -> #REF! | L39: =F39-D39 -> #REF! | M39: =H39-F39 -> #REF! | N39: =H39-D39 -> #REF!
A40: =A39+1 -> 31 | B40: 4.01.09 | C40: Kecamatan Sambaliung | D40: =SUM(#REF!) -> #REF! | E40: =D40/'kons PR (L3)'!D39 -> #REF! | F40: =SUM(#REF!) -> #REF! | G40: =F40/'kons PR (L3)'!E39 -> #REF! | H40: =SUM(#REF!) -> #REF! | I40: =H40/'kons PR (L3)'!G39 -> #REF! | J40: ='kons PR (L3)'!G39-'realisasi (L4)'!H40 -> #REF! | K40: =J40/'kons PR (L3)'!G39 -> #REF! | L40: =F40-D40 -> #REF! | M40: =H40-F40 -> #REF! | N40: =H40-D40 -> #REF!
A41: =A40+1 -> 32 | B41: 4.01.09 | C41: Kecamatan Teluk Bayur | D41: =SUM(#REF!) -> #REF! | E41: =D41/'kons PR (L3)'!D40 -> #REF! | F41: =SUM(#REF!) -> #REF! | G41: =F41/'kons PR (L3)'!E40 -> #REF! | H41: =SUM(#REF!) -> #REF! | I41: =H41/'kons PR (L3)'!G40 -> #REF! | J41: ='kons PR (L3)'!G40-'realisasi (L4)'!H41 -> #REF! | K41: =J41/'kons PR (L3)'!G40 -> #REF! | L41: =F41-D41 -> #REF! | M41: =H41-F41 -> #REF! | N41: =H41-D41 -> #REF!
A42: =A41+1 -> 33 | B42: 4.01.09 | C42: Kecamatan Segah | D42: =SUM(#REF!) -> #REF! | E42: =D42/'kons PR (L3)'!D41 -> #REF! | F42: =SUM(#REF!) -> #REF! | G42: =F42/'kons PR (L3)'!E41 -> #REF! | H42: =SUM(#REF!) -> #REF! | I42: =H42/'kons PR (L3)'!G41 -> #REF! | J42: ='kons PR (L3)'!G41-'realisasi (L4)'!H42 -> #REF! | K42: =J42/'kons PR (L3)'!G41 -> #REF! | L42: =F42-D42 -> #REF! | M42: =H42-F42 -> #REF! | N42: =H42-D42 -> #REF!
A43: =A42+1 -> 34 | B43: 4.01.09 | C43: Kecamatan Kelay | D43: =SUM(#REF!) -> #REF! | E43: =D43/'kons PR (L3)'!D42 -> #REF! | F43: =SUM(#REF!) -> #REF! | G43: =F43/'kons PR (L3)'!E42 -> #REF! | H43: =SUM(#REF!) -> #REF! | I43: =H43/'kons PR (L3)'!G42 -> #REF! | J43: ='kons PR (L3)'!G42-'realisasi (L4)'!H43 -> #REF! | K43: =J43/'kons PR (L3)'!G42 -> #REF! | L43: =F43-D43 -> #REF! | M43: =H43-F43 -> #REF! | N43: =H43-D43 -> #REF!
A44: =A43+1 -> 35 | B44: 4.01.09 | C44: Kecamatan Pulau Derawan | D44: =SUM(#REF!) -> #REF! | E44: =D44/'kons PR (L3)'!D43 -> #REF! | F44: =SUM(#REF!) -> #REF! | G44: =F44/'kons PR (L3)'!E43 -> #REF! | H44: =SUM(#REF!) -> #REF! | I44: =H44/'kons PR (L3)'!G43 -> #REF! | J44: ='kons PR (L3)'!G43-'realisasi (L4)'!H44 -> #REF! | K44: =J44/'kons PR (L3)'!G43 -> #REF! | L44: =F44-D44 -> #REF! | M44: =H44-F44 -> #REF! | N44: =H44-D44 -> #REF!
A45: =A44+1 -> 36 | B45: 4.01.09 | C45: Kecamatan Talisayan | D45: =SUM(#REF!) -> #REF! | E45: =D45/'kons PR (L3)'!D44 -> #REF! | F45: =SUM(#REF!) -> #REF! | G45: =F45/'kons PR (L3)'!E44 -> #REF! | H45: =SUM(#REF!) -> #REF! | I45: =H45/'kons PR (L3)'!G44 -> #REF! | J45: ='kons PR (L3)'!G44-'realisasi (L4)'!H45 -> #REF! | K45: =J45/'kons PR (L3)'!G44 -> #REF! | L45: =F45-D45 -> #REF! | M45: =H45-F45 -> #REF! | N45: =H45-D45 -> #REF!
A46: =A45+1 -> 37 | B46: 4.01.09 | C46: Kecamatan Biduk-Biduk | D46: =SUM(#REF!) -> #REF! | E46: =D46/'kons PR (L3)'!D45 -> #REF! | F46: =SUM(#REF!) -> #REF! | G46: =F46/'kons PR (L3)'!E45 -> #REF! | H46: =SUM(#REF!) -> #REF! | I46: =H46/'kons PR (L3)'!G45 -> #REF! | J46: ='kons PR (L3)'!G45-'realisasi (L4)'!H46 -> #REF! | K46: =J46/'kons PR (L3)'!G45 -> #REF! | L46: =F46-D46 -> #REF! | M46: =H46-F46 -> #REF! | N46: =H46-D46 -> #REF!
A47: =A46+1 -> 38 | B47: 4.01.09 | C47: Kecamatan Maratua | D47: =SUM(#REF!) -> #REF! | E47: =D47/'kons PR (L3)'!D46 -> #REF! | F47: =SUM(#REF!) -> #REF! | G47: =F47/'kons PR (L3)'!E46 -> #REF! | H47: =SUM(#REF!) -> #REF! | I47: =H47/'kons PR (L3)'!G46 -> #REF! | J47: ='kons PR (L3)'!G46-'realisasi (L4)'!H47 -> #REF! | K47: =J47/'kons PR (L3)'!G46 -> #REF! | L47: =F47-D47 -> #REF! | M47: =H47-F47 -> #REF! | N47: =H47-D47 -> #REF!
A48: =A47+1 -> 39 | B48: 4.01.09 | C48: Kecamatan Tabalar | D48: =SUM(#REF!) -> #REF! | E48: =D48/'kons PR (L3)'!D47 -> #REF! | F48: =SUM(#REF!) -> #REF! | G48: =F48/'kons PR (L3)'!E47 -> #REF! | H48: =SUM(#REF!) -> #REF! | I48: =H48/'kons PR (L3)'!G47 -> #REF! | J48: ='kons PR (L3)'!G47-'realisasi (L4)'!H48 -> #REF! | K48: =J48/'kons PR (L3)'!G47 -> #REF! | L48: =F48-D48 -> #REF! | M48: =H48-F48 -> #REF! | N48: =H48-D48 -> #REF!
... A50: =A49+1 -> 41 | B50: 4.01.09 | C50: Kecamatan Biatan | D50: =SUM(#REF!) -> #REF! | E50: =D50/'kons PR (L3)'!D49 -> #REF! | F50: =SUM(#REF!) -> #REF! | G50: =F50/'kons PR (L3)'!E49 -> #REF! | H50: =SUM(#REF!) -> #REF! | I50: =H50/'kons PR (L3)'!G49 -> #REF! | J50: ='kons PR (L3)'!G49-'realisasi (L4)'!H50 -> #REF! | K50: =J50/'kons PR (L3)'!G49 -> #REF! | L50: =F50-D50 -> #REF! | M50: =H50-F50 -> #REF! | N50: =H50-D50 -> #REF!
A51: =A50+1 -> 42 | B51: 4.01.14 | C51: Sekretariat Dewan Pengurus KORPRI | D51: =SUM(#REF!,#REF!) -> #REF! | E51: =D51/'kons PR (L3)'!D50 -> #REF! | F51: =SUM(#REF!,#REF!) -> #REF! | G51: =F51/'kons PR (L3)'!E50 -> #REF! | H51: =SUM(#REF!,#REF!) -> #REF! | I51: =H51/'kons PR (L3)'!G50 -> #REF! | J51: ='kons PR (L3)'!G50-'realisasi (L4)'!H51 -> #REF! | K51: =J51/'kons PR (L3)'!G50 -> #REF! | L51: =F51-D51 -> #REF! | M51: =H51-F51 -> #REF! | N51: =H51-D51 -> #REF!
A52: =A51+1 -> 43 | B52: 4.02.01 | C52: Inspektorat | D52: =SUM(#REF!) -> #REF! | E52: =D52/'kons PR (L3)'!D51 -> #REF! | F52: =SUM(#REF!) -> #REF! | G52: =F52/'kons PR (L3)'!E51 -> #REF! | H52: =SUM(#REF!) -> #REF! | I52: =H52/'kons PR (L3)'!G51 -> #REF! | J52: ='kons PR (L3)'!G51-'realisasi (L4)'!H52 -> #REF! | K52: =J52/'kons PR (L3)'!G51 -> #REF! | L52: =F52-D52 -> #REF! | M52: =H52-F52 -> #REF! | N52: =H52-D52 -> #REF!
A53: =A52+1 -> 44 | B53: 4.03.01 | C53: =#REF! -> #REF! | D53: =SUM(#REF!,#REF!) -> #REF! | E53: =D53/'kons PR (L3)'!D52 -> #REF! | F53: =SUM(#REF!,#REF!) -> #REF! | G53: =F53/'kons PR (L3)'!E52 -> #REF! | H53: =SUM(#REF!,#REF!) -> #REF! | I53: =H53/'kons PR (L3)'!G52 -> #REF! | J53: ='kons PR (L3)'!G52-'realisasi (L4)'!H53 -> #REF! | K53: =J53/'kons PR (L3)'!G52 -> #REF! | L53: =F53-D53 -> #REF! | M53: =H53-F53 -> #REF! | N53: =H53-D53 -> #REF!
A54: =A53+1 -> 45 | B54: 4.04.17 | C54: Badan Pengelolaan Keuangan dan Aset Daerah | D54: =SUM(#REF!) -> #REF! | E54: =D54/'kons PR (L3)'!D53 -> #REF! | F54: =SUM(#REF!) -> #REF! | G54: =F54/'kons PR (L3)'!E53 -> #REF! | H54: =SUM(#REF!) -> #REF! | I54: =H54/'kons PR (L3)'!G53 -> #REF! | J54: ='kons PR (L3)'!G53-'realisasi (L4)'!H54 -> #REF! | K54: =J54/'kons PR (L3)'!G53 -> #REF! | L54: =F54-D54 -> #REF! | M54: =H54-F54 -> #REF! | N54: =H54-D54 -> #REF!
A55: =A54+1 -> 46 | B55: 4.04.18 | C55: =#REF! -> #REF! | D55: =SUM(#REF!) -> #REF! | E55: =D55/'kons PR (L3)'!D54 -> #REF! | F55: =SUM(#REF!) -> #REF! | G55: =F55/'kons PR (L3)'!E54 -> #REF! | H55: =SUM(#REF!) -> #REF! | I55: =H55/'kons PR (L3)'!G54 -> #REF! | J55: ='kons PR (L3)'!G54-'realisasi (L4)'!H55 -> #REF! | K55: =J55/'kons PR (L3)'!G54 -> #REF! | L55: =F55-D55 -> #REF! | M55: =H55-F55 -> #REF! | N55: =H55-D55 -> #REF!
A56: =A55+1 -> 47 | B56: 4.05.13 | C56: Badan Kepegawaian, Pendidikan dan Pelatihan | D56: =SUM(#REF!) -> #REF! | E56: =D56/'kons PR (L3)'!D55 -> #REF! | F56: =SUM(#REF!) -> #REF! | G56: =F56/'kons PR (L3)'!E55 -> #REF! | H56: =SUM(#REF!) -> #REF! | I56: =H56/'kons PR (L3)'!G55 -> #REF! | J56: ='kons PR (L3)'!G55-'realisasi (L4)'!H56 -> #REF! | K56: =J56/'kons PR (L3)'!G55 -> #REF! | L56: =F56-D56 -> #REF! | M56: =H56-F56 -> #REF! | N56: =H56-D56 -> #REF!
A58: J U M L A H | D58: =SUM(D10:D57) -> #REF! | E58: =D58/'kons PR (L3)'!D57 -> #REF! | F58: =SUM(F10:F57) -> #REF! | G58: =F58/'kons PR (L3)'!E57 -> #REF! | H58: =SUM(H10:H57) -> #REF! | I58: =H58/'kons PR (L3)'!G57 -> #REF! | J58: =SUM(J10:J57) -> #REF! | K58: =J58/'kons PR (L3)'!G57 -> #REF! | L58: =SUM(L10:L57) -> #REF! | M58: =SUM(M10:M57) -> #REF! | N58: =SUM(N10:N57) -> #REF!
A60: Keterangan :
A61: 1. | B61: Kolom 1 memuat nomor urut.
A62: 2. | B62: Kolom 2 memuat kode perangkat daerah dilingkungan Pemerintah Kabupaten Berau.
A63: 3. | B63: Kolom 3 memuat perangkat daerah dilingkungan Pemerintah Kabupaten Berau
A64: 4. | B64: Kolom 4 memuat jumlah dan persentase realisasi pendanaan program RPJMD untuk Tahun 2017 berdasarkan pelaksanaan APBD tahun 2017.
A65: 5. | B65: Kolom 5 memuat jumlah dan persentase realisasi pendanaan RKPD Tahun 2017 berdasarkan pelaksanaan APBD tahun 2017.
A66: 6. | B66: Kolom 6 memuat jumlah dan persentase realisasi anggaran APBD Tahun 2017.
A67: 7. | B67: Kolom 7 memuat sisa APBD yang tidak terserap pada masing-masing SKPD.
A68: 8. | B68: Kolom 8 memuat selisih realisasi pendanaan RKPD dan RPJMD untuk tahun 2017 ((kolom 7) = (kolom 5) - (kolom 4)).
A69: 9. | B69: Kolom 9 memuat selisih realisasi pendanaan APBD dan RKPD ((kolom 8) = (kolom 6) - (kolom 5)).
A70: 10. | B70: Kolom 10 memuat selisih realisasi pendanaan APBD dan RPJMD ((kolom 9) = (kolom 6) - (kolom 4)).

Sheet hasil OPD (L5)
A1: LAMPIRAN 5
A2: HASIL PELAKSANAAN RKPD KABUPATEN BERAU TAHUN 2017
A4: No. Urut | B4: Kode OPD | C4: SKPD | D4: Jumlah | F4: Pagu dan Realisasi Anggaran | J4: Rata-rata Capaian Kinerja (%) dan Predikat Kinerja Perangkat Daerah
D5: Prog | E5: Keg | F5: Pagu | G5: % | H5: Realisasi | I5: %
F6: (Rp.000) | H6: (Rp.000) | J6: K | K6: Rp | L6: K | M6: Rp
A7: (1) | B7: (2) | C7: (3) | D7: (4) | E7: (5) | F7: (6) | G7: (7) | H7: (8) | I7: (9) | J7: (10) | K7: (11) | L7: (12) | M7: (13)
A8: 1 | B8: 1.01.01 | C8: Dinas Pendidikan | D8: ='kons PK (L2)'!E9 -> #REF! | E8: ='kons PK (L2)'!M9 -> #REF! | F8: ='kons PR (L3)'!E9 -> #REF! | G8: =F8/$F$56*100 -> #REF! | H8: ='realisasi (L4)'!F10 -> #REF! | I8: =H8/F8*100 -> #REF! | J8: =AVERAGE(#REF!) -> #REF! | K8: =AVERAGE(#REF!) -> #REF! | L8: =IF(J8<=50,"SR",IF(J8<=65,"R",IF(J8<=75,"S",IF(J8<=90,"T","ST")))) -> #REF! | M8: =IF(K8<=50,"SR",IF(K8<=65,"R",IF(K8<=75,"S",IF(K8<=90,"T","ST")))) -> #REF!
A9: =A8+1 -> 2 | B9: 1.02.01 | C9: Dinas Kesehatan | D9: ='kons PK (L2)'!E10 -> #REF! | E9: ='kons PK (L2)'!M10 -> #REF! | F9: ='kons PR (L3)'!E10 -> #REF! | G9: =F9/$F$56*100 -> #REF! | H9: ='realisasi (L4)'!F11 -> #REF! | I9: =H9/F9*100 -> #REF! | J9: =AVERAGE(#REF!) -> #REF! | K9: =AVERAGE(#REF!) -> #REF! | L9: =IF(J9<=50,"SR",IF(J9<=65,"R",IF(J9<=75,"S",IF(J9<=90,"T","ST")))) -> #REF! | M9: =IF(K9<=50,"SR",IF(K9<=65,"R",IF(K9<=75,"S",IF(K9<=90,"T","ST")))) -> #REF!
A10: =A9+1 -> 3 | B10: 1.02.02 | C10: RSUD Dr. Abdul Rivai | D10: ='kons PK (L2)'!E11 -> #REF! | E10: ='kons PK (L2)'!M11 -> #REF! | F10: ='kons PR (L3)'!E11 -> #REF! | G10: =F10/$F$56*100 -> #REF! | H10: ='realisasi (L4)'!F12 -> #REF! | I10: =H10/F10*100 -> #REF! | J10: =AVERAGE(#REF!) -> #REF! | K10: =AVERAGE(#REF!) -> #REF! | L10: =IF(J10<=50,"SR",IF(J10<=65,"R",IF(J10<=75,"S",IF(J10<=90,"T","ST")))) -> #REF! | M10: =IF(K10<=50,"SR",IF(K10<=65,"R",IF(K10<=75,"S",IF(K10<=90,"T","ST")))) -> #REF!
A11: =A10+1 -> 4 | B11: 1.03.01 | C11: Dinas Pekerjaan Umum dan Penataan Ruang | D11: ='kons PK (L2)'!E12 -> #REF! | E11: ='kons PK (L2)'!M12 -> #REF! | F11: ='kons PR (L3)'!E12 -> #REF! | G11: =F11/$F$56*100 -> #REF! | H11: ='realisasi (L4)'!F13 -> #REF! | I11: =H11/F11*100 -> #REF! | J11: =AVERAGE(#REF!) -> #REF! | K11: =AVERAGE(#REF!) -> #REF! | L11: =IF(J11<=50,"SR",IF(J11<=65,"R",IF(J11<=75,"S",IF(J11<=90,"T","ST")))) -> #REF! | M11: =IF(K11<=50,"SR",IF(K11<=65,"R",IF(K11<=75,"S",IF(K11<=90,"T","ST")))) -> #REF!
A12: =A11+1 -> 5 | B12: 1.04.01 | C12: Dinas Perumahan dan Kawasan Permukiman | D12: ='kons PK (L2)'!E13 -> #REF! | E12: ='kons PK (L2)'!M13 -> #REF! | F12: ='kons PR (L3)'!E13 -> #REF! | G12: =F12/$F$56*100 -> #REF! | H12: ='realisasi (L4)'!F14 -> #REF! | I12: =H12/F12*100 -> #REF! | J12: =AVERAGE(#REF!) -> #REF! | K12: =AVERAGE(#REF!) -> #REF! | L12: =IF(J12<=50,"SR",IF(J12<=65,"R",IF(J12<=75,"S",IF(J12<=90,"T","ST")))) -> #REF! | M12: =IF(K12<=50,"SR",IF(K12<=65,"R",IF(K12<=75,"S",IF(K12<=90,"T","ST")))) -> #REF!
A13: =A12+1 -> 6 | B13: 1.05.01 | C13: =#REF! -> #REF! | D13: ='kons PK (L2)'!E14 -> #REF! | E13: ='kons PK (L2)'!M14 -> #REF! | F13: ='kons PR (L3)'!E14 -> #REF! | G13: =F13/$F$56*100 -> #REF! | H13: ='realisasi (L4)'!F15 -> #REF! | I13: =H13/F13*100 -> #REF! | J13: =AVERAGE(#REF!) -> #REF! | K13: =AVERAGE(#REF!) -> #REF! | L13: =IF(J13<=50,"SR",IF(J13<=65,"R",IF(J13<=75,"S",IF(J13<=90,"T","ST")))) -> #REF! | M13: =IF(K13<=50,"SR",IF(K13<=65,"R",IF(K13<=75,"S",IF(K13<=90,"T","ST")))) -> #REF!
A14: =A13+1 -> 7 | B14: 1.05.02 | C14: Badan Penanggulangan Bencana Daerah | D14: ='kons PK (L2)'!E15 -> #REF! | E14: ='kons PK (L2)'!M15 -> #REF! | F14: ='kons PR (L3)'!E15 -> #REF! | G14: =F14/$F$56*100 -> #REF! | H14: ='realisasi (L4)'!F16 -> #REF! | I14: =H14/F14*100 -> #REF! | J14: =AVERAGE(#REF!,#REF!) -> #REF! | K14: =AVERAGE(#REF!,#REF!) -> #REF! | L14: =IF(J14<=50,"SR",IF(J14<=65,"R",IF(J14<=75,"S",IF(J14<=90,"T","ST")))) -> #REF! | M14: =IF(K14<=50,"SR",IF(K14<=65,"R",IF(K14<=75,"S",IF(K14<=90,"T","ST")))) -> #REF!
A15: =A14+1 -> 8 | B15: 1.05.03 | C15: Kantor Satuan Polisi Pamong Praja | D15: ='kons PK (L2)'!E16 -> #REF! | E15: ='kons PK (L2)'!M16 -> #REF! | F15: ='kons PR (L3)'!E16 -> #REF! | G15: =F15/$F$56*100 -> #REF! | H15: ='realisasi (L4)'!F17 -> #REF! | I15: =H15/F15*100 -> #REF! | J15: =AVERAGE(#REF!) -> #REF! | K15: =AVERAGE(#REF!) -> #REF! | L15: =IF(J15<=50,"SR",IF(J15<=65,"R",IF(J15<=75,"S",IF(J15<=90,"T","ST")))) -> #REF! | M15: =IF(K15<=50,"SR",IF(K15<=65,"R",IF(K15<=75,"S",IF(K15<=90,"T","ST")))) -> #REF!
A16: =A15+1 -> 9 | B16: 1.06.01 | C16: Dinas Sosial | D16: ='kons PK (L2)'!E17 -> #REF! | E16: ='kons PK (L2)'!M17 -> #REF! | F16: ='kons PR (L3)'!E17 -> #REF! | G16: =F16/$F$56*100 -> #REF! | H16: ='realisasi (L4)'!F18 -> #REF! | I16: =H16/F16*100 -> #REF! | J16: =AVERAGE(#REF!) -> #REF! | K16: =AVERAGE(#REF!) -> #REF! | L16: =IF(J16<=50,"SR",IF(J16<=65,"R",IF(J16<=75,"S",IF(J16<=90,"T","ST")))) -> #REF! | M16: =IF(K16<=50,"SR",IF(K16<=65,"R",IF(K16<=75,"S",IF(K16<=90,"T","ST")))) -> #REF!
A17: =A16+1 -> 10 | B17: 2.01.01 | C17: Dinas Tenaga Kerja dan Transmigrasi | D17: ='kons PK (L2)'!E18 -> #REF! | E17: ='kons PK (L2)'!M18 -> #REF! | F17: ='kons PR (L3)'!E18 -> #REF! | G17: =F17/$F$56*100 -> #REF! | H17: ='realisasi (L4)'!F19 -> #REF! | I17: =H17/F17*100 -> #REF! | J17: =AVERAGE(#REF!,#REF!) -> #REF! | K17: =AVERAGE(#REF!,#REF!) -> #REF! | L17: =IF(J17<=50,"SR",IF(J17<=65,"R",IF(J17<=75,"S",IF(J17<=90,"T","ST")))) -> #REF! | M17: =IF(K17<=50,"SR",IF(K17<=65,"R",IF(K17<=75,"S",IF(K17<=90,"T","ST")))) -> #REF!
A18: =A17+1 -> 11 | B18: 2.02.01 | C18: =#REF! -> #REF! | D18: ='kons PK (L2)'!E19 -> #REF! | E18: ='kons PK (L2)'!M19 -> #REF! | F18: ='kons PR (L3)'!E19 -> #REF! | G18: =F18/$F$56*100 -> #REF! | H18: ='realisasi (L4)'!F20 -> #REF! | I18: =H18/F18*100 -> #REF! | J18: =AVERAGE(#REF!,#REF!) -> #REF! | K18: =AVERAGE(#REF!,#REF!) -> #REF! | L18: =IF(J18<=50,"SR",IF(J18<=65,"R",IF(J18<=75,"S",IF(J18<=90,"T","ST")))) -> #REF! | M18: =IF(K18<=50,"SR",IF(K18<=65,"R",IF(K18<=75,"S",IF(K18<=90,"T","ST")))) -> #REF!
A19: =A18+1 -> 12 | B19: 2.03.01 | C19: =#REF! -> #REF! | D19: ='kons PK (L2)'!E20 -> #REF! | E19: ='kons PK (L2)'!M20 -> #REF! | F19: ='kons PR (L3)'!E20 -> #REF! | G19: =F19/$F$56*100 -> #REF! | H19: ='realisasi (L4)'!F21 -> #REF! | I19: =H19/F19*100 -> #REF! | J19: =AVERAGE(#REF!) -> #REF! | K19: =AVERAGE(#REF!) -> #REF! | L19: =IF(J19<=50,"SR",IF(J19<=65,"R",IF(J19<=75,"S",IF(J19<=90,"T","ST")))) -> #REF! | M19: =IF(K19<=50,"SR",IF(K19<=65,"R",IF(K19<=75,"S",IF(K19<=90,"T","ST")))) -> #REF!
A20: =A19+1 -> 13 | B20: 2.04.01 | C20: =#REF! -> #REF! | D20: ='kons PK (L2)'!E21 -> #REF! | E20: ='kons PK (L2)'!M21 -> #REF! | F20: ='kons PR (L3)'!E21 -> #REF! | G20: =F20/$F$56*100 -> #REF! | H20: ='realisasi (L4)'!F22 -> #REF! | I20: =H20/F20*100 -> #REF! | J20: =AVERAGE(#REF!) -> #REF! | K20: =AVERAGE(#REF!) -> #REF! | L20: =IF(J20<=50,"SR",IF(J20<=65,"R",IF(J20<=75,"S",IF(J20<=90,"T","ST")))) -> #REF! | M20: =IF(K20<=50,"SR",IF(K20<=65,"R",IF(K20<=75,"S",IF(K20<=90,"T","ST")))) -> #REF!
A21: =A20+1 -> 14 | B21: 2.05.01 | C21: =#REF! -> #REF! | D21: ='kons PK (L2)'!E22 -> #REF! | E21: ='kons PK (L2)'!M22 -> #REF! | F21: ='kons PR (L3)'!E22 -> #REF! | G21: =F21/$F$56*100 -> #REF! | H21: ='realisasi (L4)'!F23 -> #REF! | I21: =H21/F21*100 -> #REF! | J21: =AVERAGE(#REF!) -> #REF! | K21: =AVERAGE(#REF!) -> #REF! | L21: =IF(J21<=50,"SR",IF(J21<=65,"R",IF(J21<=75,"S",IF(J21<=90,"T","ST")))) -> #REF! | M21: =IF(K21<=50,"SR",IF(K21<=65,"R",IF(K21<=75,"S",IF(K21<=90,"T","ST")))) -> #REF!
A22: =A21+1 -> 15 | B22: 2.06.01 | C22: =#REF! -> #REF! | D22: ='kons PK (L2)'!E23 -> #REF! | E22: ='kons PK (L2)'!M23 -> #REF! | F22: ='kons PR (L3)'!E23 -> #REF! | G22: =F22/$F$56*100 -> #REF! | H22: ='realisasi (L4)'!F24 -> #REF! | I22: =H22/F22*100 -> #REF! | J22: =AVERAGE(#REF!) -> #REF! | K22: =AVERAGE(#REF!) -> #REF! | L22: =IF(J22<=50,"SR",IF(J22<=65,"R",IF(J22<=75,"S",IF(J22<=90,"T","ST")))) -> #REF! | M22: =IF(K22<=50,"SR",IF(K22<=65,"R",IF(K22<=75,"S",IF(K22<=90,"T","ST")))) -> #REF!
A23: =A22+1 -> 16 | B23: 2.07.01 | C23: =#REF! -> #REF! | D23: ='kons PK (L2)'!E24 -> #REF! | E23: ='kons PK (L2)'!M24 -> #REF! | F23: ='kons PR (L3)'!E24 -> #REF! | G23: =F23/$F$56*100 -> #REF! | H23: ='realisasi (L4)'!F25 -> #REF! | I23: =H23/F23*100 -> #REF! | J23: =AVERAGE(#REF!) -> #REF! | K23: =AVERAGE(#REF!) -> #REF! | L23: =IF(J23<=50,"SR",IF(J23<=65,"R",IF(J23<=75,"S",IF(J23<=90,"T","ST")))) -> #REF! | M23: =IF(K23<=50,"SR",IF(K23<=65,"R",IF(K23<=75,"S",IF(K23<=90,"T","ST")))) -> #REF!
A24: =A23+1 -> 17 | B24: 2.09.01 | C24: =#REF! -> #REF! | D24: ='kons PK (L2)'!E25 -> #REF! | E24: ='kons PK (L2)'!M25 -> #REF! | F24: ='kons PR (L3)'!E25 -> #REF! | G24: =F24/$F$56*100 -> #REF! | H24: ='realisasi (L4)'!F26 -> #REF! | I24: =H24/F24*100 -> #REF! | J24: =AVERAGE(#REF!) -> #REF! | K24: =AVERAGE(#REF!) -> #REF! | L24: =IF(J24<=50,"SR",IF(J24<=65,"R",IF(J24<=75,"S",IF(J24<=90,"T","ST")))) -> #REF! | M24: =IF(K24<=50,"SR",IF(K24<=65,"R",IF(K24<=75,"S",IF(K24<=90,"T","ST")))) -> #REF!
A25: =A24+1 -> 18 | B25: 2.10.01 | C25: =#REF! -> #REF! | D25: ='kons PK (L2)'!E26 -> #REF! | E25: ='kons PK (L2)'!M26 -> #REF! | F25: ='kons PR (L3)'!E26 -> #REF! | G25: =F25/$F$56*100 -> #REF! | H25: ='realisasi (L4)'!F27 -> #REF! | I25: =H25/F25*100 -> #REF! | J25: =AVERAGE(#REF!) -> #REF! | K25: =AVERAGE(#REF!) -> #REF! | L25: =IF(J25<=50,"SR",IF(J25<=65,"R",IF(J25<=75,"S",IF(J25<=90,"T","ST")))) -> #REF! | M25: =IF(K25<=50,"SR",IF(K25<=65,"R",IF(K25<=75,"S",IF(K25<=90,"T","ST")))) -> #REF!
A26: =A25+1 -> 19 | B26: 2.11.01 | C26: Dinas Koperasi, Perindustrian dan Perdagangan | D26: ='kons PK (L2)'!E27 -> #REF! | E26: ='kons PK (L2)'!M27 -> #REF! | F26: ='kons PR (L3)'!E27 -> #REF! | G26: =F26/$F$56*100 -> #REF! | H26: ='realisasi (L4)'!F28 -> #REF! | I26: =H26/F26*100 -> #REF! | J26: =AVERAGE(#REF!,#REF!) -> #REF! | K26: =AVERAGE(#REF!,#REF!) -> #REF! | L26: =IF(J26<=50,"SR",IF(J26<=65,"R",IF(J26<=75,"S",IF(J26<=90,"T","ST")))) -> #REF! | M26: =IF(K26<=50,"SR",IF(K26<=65,"R",IF(K26<=75,"S",IF(K26<=90,"T","ST")))) -> #REF!
A27: =A26+1 -> 20 | B27: 2.12.01 | C27: =#REF! -> #REF! | D27: ='kons PK (L2)'!E28 -> #REF! | E27: ='kons PK (L2)'!M28 -> #REF! | F27: ='kons PR (L3)'!E28 -> #REF! | G27: =F27/$F$56*100 -> #REF! | H27: ='realisasi (L4)'!F29 -> #REF! | I27: =H27/F27*100 -> #REF! | J27: =AVERAGE(#REF!) -> #REF! | K27: =AVERAGE(#REF!) -> #REF! | L27: =IF(J27<=50,"SR",IF(J27<=65,"R",IF(J27<=75,"S",IF(J27<=90,"T","ST")))) -> #REF! | M27: =IF(K27<=50,"SR",IF(K27<=65,"R",IF(K27<=75,"S",IF(K27<=90,"T","ST")))) -> #REF!
A28: =A27+1 -> 21 | B28: 2.13.01 | C28: =#REF! -> #REF! | D28: ='kons PK (L2)'!E29 -> #REF! | E28: ='kons PK (L2)'!M29 -> #REF! | F28: ='kons PR (L3)'!E29 -> #REF! | G28: =F28/$F$56*100 -> #REF! | H28: ='realisasi (L4)'!F30 -> #REF! | I28: =H28/F28*100 -> #REF! | J28: =AVERAGE(#REF!) -> #REF! | K28: =AVERAGE(#REF!) -> #REF! | L28: =IF(J28<=50,"SR",IF(J28<=65,"R",IF(J28<=75,"S",IF(J28<=90,"T","ST")))) -> #REF! | M28: =IF(K28<=50,"SR",IF(K28<=65,"R",IF(K28<=75,"S",IF(K28<=90,"T","ST")))) -> #REF!
A29: =A28+1 -> 22 | B29: 2.16.01 | C29: Dinas Kebudayaan dan Pariwisata | D29: ='kons PK (L2)'!E30 -> #REF! | E29: ='kons PK (L2)'!M30 -> #REF! | F29: ='kons PR (L3)'!E30 -> #REF! | G29: =F29/$F$56*100 -> #REF! | H29: ='realisasi (L4)'!F31 -> #REF! | I29: =H29/F29*100 -> #REF! | J29: =AVERAGE(#REF!,#REF!) -> #REF! | K29: =AVERAGE(#REF!,#REF!) -> #REF! | L29: =IF(J29<=50,"SR",IF(J29<=65,"R",IF(J29<=75,"S",IF(J29<=90,"T","ST")))) -> #REF! | M29: =IF(K29<=50,"SR",IF(K29<=65,"R",IF(K29<=75,"S",IF(K29<=90,"T","ST")))) -> #REF!
A30: =A29+1 -> 23 | B30: 2.17.01 | C30: =#REF! -> #REF! | D30: ='kons PK (L2)'!E31 -> #REF! | E30: ='kons PK (L2)'!M31 -> #REF! | F30: ='kons PR (L3)'!E31 -> #REF! | G30: =F30/$F$56*100 -> #REF! | H30: ='realisasi (L4)'!F32 -> #REF! | I30: =H30/F30*100 -> #REF! | J30: =AVERAGE(#REF!) -> #REF! | K30: =AVERAGE(#REF!) -> #REF! | L30: =IF(J30<=50,"SR",IF(J30<=65,"R",IF(J30<=75,"S",IF(J30<=90,"T","ST")))) -> #REF! | M30: =IF(K30<=50,"SR",IF(K30<=65,"R",IF(K30<=75,"S",IF(K30<=90,"T","ST")))) -> #REF!
A31: =A30+1 -> 24 | B31: 3.01.01 | C31: =#REF! -> #REF! | D31: ='kons PK (L2)'!E32 -> #REF! | E31: ='kons PK (L2)'!M32 -> #REF! | F31: ='kons PR (L3)'!E32 -> #REF! | G31: =F31/$F$56*100 -> #REF! | H31: ='realisasi (L4)'!F33 -> #REF! | I31: =H31/F31*100 -> #REF! | J31: =AVERAGE(#REF!) -> #REF! | K31: =AVERAGE(#REF!) -> #REF! | L31: =IF(J31<=50,"SR",IF(J31<=65,"R",IF(J31<=75,"S",IF(J31<=90,"T","ST")))) -> #REF! | M31: =IF(K31<=50,"SR",IF(K31<=65,"R",IF(K31<=75,"S",IF(K31<=90,"T","ST")))) -> #REF!
A32: =A31+1 -> 25 | B32: 3.03.01 | C32: =#REF! -> #REF! | D32: ='kons PK (L2)'!E33 -> #REF! | E32: ='kons PK (L2)'!M33 -> #REF! | F32: ='kons PR (L3)'!E33 -> #REF! | G32: =F32/$F$56*100 -> #REF! | H32: ='realisasi (L4)'!F34 -> #REF! | I32: =H32/F32*100 -> #REF! | J32: =AVERAGE(#REF!) -> #REF! | K32: =AVERAGE(#REF!) -> #REF! | L32: =IF(J32<=50,"SR",IF(J32<=65,"R",IF(J32<=75,"S",IF(J32<=90,"T","ST")))) -> #REF! | M32: =IF(K32<=50,"SR",IF(K32<=65,"R",IF(K32<=75,"S",IF(K32<=90,"T","ST")))) -> #REF!
A33: =A32+1 -> 26 | B33: 3.03.02 | C33: Dinas Perkebunan | D33: ='kons PK (L2)'!E34 -> #REF! | E33: ='kons PK (L2)'!M34 -> #REF! | F33: ='kons PR (L3)'!E34 -> #REF! | G33: =F33/$F$56*100 -> #REF! | H33: ='realisasi (L4)'!F35 -> #REF! | I33: =H33/F33*100 -> #REF! | J33: =AVERAGE(#REF!) -> #REF! | K33: =AVERAGE(#REF!) -> #REF! | L33: =IF(J33<=50,"SR",IF(J33<=65,"R",IF(J33<=75,"S",IF(J33<=90,"T","ST")))) -> #REF! | M33: =IF(K33<=50,"SR",IF(K33<=65,"R",IF(K33<=75,"S",IF(K33<=90,"T","ST")))) -> #REF!
A34: =A33+1 -> 27 | B34: 4.01.03 | C34: Sekretariat Daerah | D34: ='kons PK (L2)'!E35 -> #REF! | E34: ='kons PK (L2)'!M35 -> #REF! | F34: ='kons PR (L3)'!E35 -> #REF! | G34: =F34/$F$56*100 -> #REF! | H34: ='realisasi (L4)'!F36 -> #REF! | I34: =H34/F34*100 -> #REF! | J34: =AVERAGE(#REF!,#REF!,#REF!,#REF!) -> #REF! | K34: =AVERAGE(#REF!,#REF!,#REF!,#REF!) -> #REF! | L34: =IF(J34<=50,"SR",IF(J34<=65,"R",IF(J34<=75,"S",IF(J34<=90,"T","ST")))) -> #REF! | M34: =IF(K34<=50,"SR",IF(K34<=65,"R",IF(K34<=75,"S",IF(K34<=90,"T","ST")))) -> #REF!
A35: =A34+1 -> 28 | B35: 4.01.04 | C35: Sekretariat DPRD | D35: ='kons PK (L2)'!E36 -> #REF! | E35: ='kons PK (L2)'!M36 -> #REF! | F35: ='kons PR (L3)'!E36 -> #REF! | G35: =F35/$F$56*100 -> #REF! | H35: ='realisasi (L4)'!F37 -> #REF! | I35: =H35/F35*100 -> #REF! | J35: =AVERAGE(#REF!) -> #REF! | K35: =AVERAGE(#REF!) -> #REF! | L35: =IF(J35<=50,"SR",IF(J35<=65,"R",IF(J35<=75,"S",IF(J35<=90,"T","ST")))) -> #REF! | M35: =IF(K35<=50,"SR",IF(K35<=65,"R",IF(K35<=75,"S",IF(K35<=90,"T","ST")))) -> #REF!
A36: =A35+1 -> 29 | B36: 4.01.09 | C36: Kecamatan Tanjung Redeb | D36: ='kons PK (L2)'!E37 -> #REF! | E36: ='kons PK (L2)'!M37 -> #REF! | F36: ='kons PR (L3)'!E37 -> #REF! | G36: =F36/$F$56*100 -> #REF! | H36: ='realisasi (L4)'!F38 -> #REF! | I36: =H36/F36*100 -> #REF! | J36: =AVERAGE(#REF!) -> #REF! | K36: =AVERAGE(#REF!) -> #REF! | L36: =IF(J36<=50,"SR",IF(J36<=65,"R",IF(J36<=75,"S",IF(J36<=90,"T","ST")))) -> #REF! | M36: =IF(K36<=50,"SR",IF(K36<=65,"R",IF(K36<=75,"S",IF(K36<=90,"T","ST")))) -> #REF!
A37: =A36+1 -> 30 | B37: 4.01.09 | C37: Kecamatan Gunung Tabur | D37: ='kons PK (L2)'!E38 -> #REF! | E37: ='kons PK (L2)'!M38 -> #REF! | F37: ='kons PR (L3)'!E38 -> #REF! | G37: =F37/$F$56*100 -> #REF! | H37: ='realisasi (L4)'!F39 -> #REF! | I37: =H37/F37*100 -> #REF! | J37: =AVERAGE(#REF!) -> #REF! | K37: =AVERAGE(#REF!) -> #REF! | L37: =IF(J37<=50,"SR",IF(J37<=65,"R",IF(J37<=75,"S",IF(J37<=90,"T","ST")))) -> #REF! | M37: =IF(K37<=50,"SR",IF(K37<=65,"R",IF(K37<=75,"S",IF(K37<=90,"T","ST")))) -> #REF!
A38: =A37+1 -> 31 | B38: 4.01.09 | C38: Kecamatan Sambaliung | D38: ='kons PK (L2)'!E39 -> #REF! | E38: ='kons PK (L2)'!M39 -> #REF! | F38: ='kons PR (L3)'!E39 -> #REF! | G38: =F38/$F$56*100 -> #REF! | H38: ='realisasi (L4)'!F40 -> #REF! | I38: =H38/F38*100 -> #REF! | J38: =AVERAGE(#REF!) -> #REF! | K38: =AVERAGE(#REF!) -> #REF! | L38: =IF(J38<=50,"SR",IF(J38<=65,"R",IF(J38<=75,"S",IF(J38<=90,"T","ST")))) -> #REF! | M38: =IF(K38<=50,"SR",IF(K38<=65,"R",IF(K38<=75,"S",IF(K38<=90,"T","ST")))) -> #REF!
A39: =A38+1 -> 32 | B39: 4.01.09 | C39: Kecamatan Teluk Bayur | D39: ='kons PK (L2)'!E40 -> #REF! | E39: ='kons PK (L2)'!M40 -> #REF! | F39: ='kons PR (L3)'!E40 -> #REF! | G39: =F39/$F$56*100 -> #REF! | H39: ='realisasi (L4)'!F41 -> #REF! | I39: =H39/F39*100 -> #REF! | J39: =AVERAGE(#REF!) -> #REF! | K39: =AVERAGE(#REF!) -> #REF! | L39: =IF(J39<=50,"SR",IF(J39<=65,"R",IF(J39<=75,"S",IF(J39<=90,"T","ST")))) -> #REF! | M39: =IF(K39<=50,"SR",IF(K39<=65,"R",IF(K39<=75,"S",IF(K39<=90,"T","ST")))) -> #REF!
A40: =A39+1 -> 33 | B40: 4.01.09 | C40: Kecamatan Segah | D40: ='kons PK (L2)'!E41 -> #REF! | E40: ='kons PK (L2)'!M41 -> #REF! | F40: ='kons PR (L3)'!E41 -> #REF! | G40: =F40/$F$56*100 -> #REF! | H40: ='realisasi (L4)'!F42 -> #REF! | I40: =H40/F40*100 -> #REF! | J40: =AVERAGE(#REF!) -> #REF! | K40: =AVERAGE(#REF!) -> #REF! | L40: =IF(J40<=50,"SR",IF(J40<=65,"R",IF(J40<=75,"S",IF(J40<=90,"T","ST")))) -> #REF! | M40: =IF(K40<=50,"SR",IF(K40<=65,"R",IF(K40<=75,"S",IF(K40<=90,"T","ST")))) -> #REF!
A41: =A40+1 -> 34 | B41: 4.01.09 | C41: Kecamatan Kelay | D41: ='kons PK (L2)'!E42 -> #REF! | E41: ='kons PK (L2)'!M42 -> #REF! | F41: ='kons PR (L3)'!E42 -> #REF! | G41: =F41/$F$56*100 -> #REF! | H41: ='realisasi (L4)'!F43 -> #REF! | I41: =H41/F41*100 -> #REF! | J41: =AVERAGE(#REF!) -> #REF! | K41: =AVERAGE(#REF!) -> #REF! | L41: =IF(J41<=50,"SR",IF(J41<=65,"R",IF(J41<=75,"S",IF(J41<=90,"T","ST")))) -> #REF! | M41: =IF(K41<=50,"SR",IF(K41<=65,"R",IF(K41<=75,"S",IF(K41<=90,"T","ST")))) -> #REF!
A42: =A41+1 -> 35 | B42: 4.01.09 | C42: Kecamatan Pulau Derawan | D42: ='kons PK (L2)'!E43 -> #REF! | E42: ='kons PK (L2)'!M43 -> #REF! | F42: ='kons PR (L3)'!E43 -> #REF! | G42: =F42/$F$56*100 -> #REF! | H42: ='realisasi (L4)'!F44 -> #REF! | I42: =H42/F42*100 -> #REF! | J42: =AVERAGE(#REF!) -> #REF! | K42: =AVERAGE(#REF!) -> #REF! | L42: =IF(J42<=50,"SR",IF(J42<=65,"R",IF(J42<=75,"S",IF(J42<=90,"T","ST")))) -> #REF! | M42: =IF(K42<=50,"SR",IF(K42<=65,"R",IF(K42<=75,"S",IF(K42<=90,"T","ST")))) -> #REF!
A43: =A42+1 -> 36 | B43: 4.01.09 | C43: Kecamatan Talisayan | D43: ='kons PK (L2)'!E44 -> #REF! | E43: ='kons PK (L2)'!M44 -> #REF! | F43: ='kons PR (L3)'!E44 -> #REF! | G43: =F43/$F$56*100 -> #REF! | H43: ='realisasi (L4)'!F45 -> #REF! | I43: =H43/F43*100 -> #REF! | J43: =AVERAGE(#REF!) -> #REF! | K43: =AVERAGE(#REF!) -> #REF! | L43: =IF(J43<=50,"SR",IF(J43<=65,"R",IF(J43<=75,"S",IF(J43<=90,"T","ST")))) -> #REF! | M43: =IF(K43<=50,"SR",IF(K43<=65,"R",IF(K43<=75,"S",IF(K43<=90,"T","ST")))) -> #REF!
A44: =A43+1 -> 37 | B44: 4.01.09 | C44: Kecamatan Biduk-Biduk | D44: ='kons PK (L2)'!E45 -> #REF! | E44: ='kons PK (L2)'!M45 -> #REF! | F44: ='kons PR (L3)'!E45 -> #REF! | G44: =F44/$F$56*100 -> #REF! | H44: ='realisasi (L4)'!F46 -> #REF! | I44: =H44/F44*100 -> #REF! | J44: =AVERAGE(#REF!) -> #REF! | K44: =AVERAGE(#REF!) -> #REF! | L44: =IF(J44<=50,"SR",IF(J44<=65,"R",IF(J44<=75,"S",IF(J44<=90,"T","ST")))) -> #REF! | M44: =IF(K44<=50,"SR",IF(K44<=65,"R",IF(K44<=75,"S",IF(K44<=90,"T","ST")))) -> #REF!
A45: =A44+1 -> 38 | B45: 4.01.09 | C45: Kecamatan Maratua | D45: ='kons PK (L2)'!E46 -> #REF! | E45: ='kons PK (L2)'!M46 -> #REF! | F45: ='kons PR (L3)'!E46 -> #REF! | G45: =F45/$F$56*100 -> #REF! | H45: ='realisasi (L4)'!F47 -> #REF! | I45: =H45/F45*100 -> #REF! | J45: =AVERAGE(#REF!) -> #REF! | K45: =AVERAGE(#REF!) -> #REF! | L45: =IF(J45<=50,"SR",IF(J45<=65,"R",IF(J45<=75,"S",IF(J45<=90,"T","ST")))) -> #REF! | M45: =IF(K45<=50,"SR",IF(K45<=65,"R",IF(K45<=75,"S",IF(K45<=90,"T","ST")))) -> #REF!
A46: =A45+1 -> 39 | B46: 4.01.09 | C46: Kecamatan Tabalar | D46: ='kons PK (L2)'!E47 -> #REF! | E46: ='kons PK (L2)'!M47 -> #REF! | F46: ='kons PR (L3)'!E47 -> #REF! | G46: =F46/$F$56*100 -> #REF! | H46: ='realisasi (L4)'!F48 -> #REF! | I46: =H46/F46*100 -> #REF! | J46: =AVERAGE(#REF!) -> #REF! | K46: =AVERAGE(#REF!) -> #REF! | L46: =IF(J46<=50,"SR",IF(J46<=65,"R",IF(J46<=75,"S",IF(J46<=90,"T","ST")))) -> #REF! | M46: =IF(K46<=50,"SR",IF(K46<=65,"R",IF(K46<=75,"S",IF(K46<=90,"T","ST")))) -> #REF!
... A48: =A47+1 -> 41 | B48: 4.01.09 | C48: Kecamatan Biatan | D48: ='kons PK (L2)'!E49 -> #REF! | E48: ='kons PK (L2)'!M49 -> #REF! | F48: ='kons PR (L3)'!E49 -> #REF! | G48: =F48/$F$56*100 -> #REF! | H48: ='realisasi (L4)'!F50 -> #REF! | I48: =H48/F48*100 -> #REF! | J48: =AVERAGE(#REF!) -> #REF! | K48: =AVERAGE(#REF!) -> #REF! | L48: =IF(J48<=50,"SR",IF(J48<=65,"R",IF(J48<=75,"S",IF(J48<=90,"T","ST")))) -> #REF! | M48: =IF(K48<=50,"SR",IF(K48<=65,"R",IF(K48<=75,"S",IF(K48<=90,"T","ST")))) -> #REF!
A49: =A48+1 -> 42 | B49: 4.01.14 | C49: Sekretariat Dewan Pengurus KORPRI | D49: ='kons PK (L2)'!E50 -> #REF! | E49: ='kons PK (L2)'!M50 -> #REF! | F49: ='kons PR (L3)'!E50 -> #REF! | G49: =F49/$F$56*100 -> #REF! | H49: ='realisasi (L4)'!F51 -> #REF! | I49: =H49/F49*100 -> #REF! | J49: =AVERAGE(#REF!,#REF!) -> #REF! | K49: =AVERAGE(#REF!,#REF!) -> #REF! | L49: =IF(J49<=50,"SR",IF(J49<=65,"R",IF(J49<=75,"S",IF(J49<=90,"T","ST")))) -> #REF! | M49: =IF(K49<=50,"SR",IF(K49<=65,"R",IF(K49<=75,"S",IF(K49<=90,"T","ST")))) -> #REF!
A50: =A49+1 -> 43 | B50: 4.02.01 | C50: Inspektorat | D50: ='kons PK (L2)'!E51 -> #REF! | E50: ='kons PK (L2)'!M51 -> #REF! | F50: ='kons PR (L3)'!E51 -> #REF! | G50: =F50/$F$56*100 -> #REF! | H50: ='realisasi (L4)'!F52 -> #REF! | I50: =H50/F50*100 -> #REF! | J50: =AVERAGE(#REF!) -> #REF! | K50: =AVERAGE(#REF!) -> #REF! | L50: =IF(J50<=50,"SR",IF(J50<=65,"R",IF(J50<=75,"S",IF(J50<=90,"T","ST")))) -> #REF! | M50: =IF(K50<=50,"SR",IF(K50<=65,"R",IF(K50<=75,"S",IF(K50<=90,"T","ST")))) -> #REF!
A51: =A50+1 -> 44 | B51: 4.03.01 | C51: =#REF! -> #REF! | D51: ='kons PK (L2)'!E52 -> #REF! | E51: ='kons PK (L2)'!M52 -> #REF! | F51: ='kons PR (L3)'!E52 -> #REF! | G51: =F51/$F$56*100 -> #REF! | H51: ='realisasi (L4)'!F53 -> #REF! | I51: =H51/F51*100 -> #REF! | J51: =AVERAGE(#REF!,#REF!) -> #REF! | K51: =AVERAGE(#REF!,#REF!) -> #REF! | L51: =IF(J51<=50,"SR",IF(J51<=65,"R",IF(J51<=75,"S",IF(J51<=90,"T","ST")))) -> #REF! | M51: =IF(K51<=50,"SR",IF(K51<=65,"R",IF(K51<=75,"S",IF(K51<=90,"T","ST")))) -> #REF!
A52: =A51+1 -> 45 | B52: 4.04.17 | C52: Badan Pengelolaan Keuangan dan Aset Daerah | D52: ='kons PK (L2)'!E53 -> #REF! | E52: ='kons PK (L2)'!M53 -> #REF! | F52: ='kons PR (L3)'!E53 -> #REF! | G52: =F52/$F$56*100 -> #REF! | H52: ='realisasi (L4)'!F54 -> #REF! | I52: =H52/F52*100 -> #REF! | J52: =AVERAGE(#REF!) -> #REF! | K52: =AVERAGE(#REF!) -> #REF! | L52: =IF(J52<=50,"SR",IF(J52<=65,"R",IF(J52<=75,"S",IF(J52<=90,"T","ST")))) -> #REF! | M52: =IF(K52<=50,"SR",IF(K52<=65,"R",IF(K52<=75,"S",IF(K52<=90,"T","ST")))) -> #REF!
A53: =A52+1 -> 46 | B53: 4.04.18 | C53: =#REF! -> #REF! | D53: ='kons PK (L2)'!E54 -> #REF! | E53: ='kons PK (L2)'!M54 -> #REF! | F53: ='kons PR (L3)'!E54 -> #REF! | G53: =F53/$F$56*100 -> #REF! | H53: ='realisasi (L4)'!F55 -> #REF! | I53: =H53/F53*100 -> #REF! | J53: =AVERAGE(#REF!) -> #REF! | K53: =AVERAGE(#REF!) -> #REF! | L53: =IF(J53<=50,"SR",IF(J53<=65,"R",IF(J53<=75,"S",IF(J53<=90,"T","ST")))) -> #REF! | M53: =IF(K53<=50,"SR",IF(K53<=65,"R",IF(K53<=75,"S",IF(K53<=90,"T","ST")))) -> #REF!
A54: =A53+1 -> 47 | B54: 4.05.13 | C54: Badan Kepegawaian, Pendidikan dan Pelatihan | D54: ='kons PK (L2)'!E55 -> #REF! | E54: ='kons PK (L2)'!M55 -> #REF! | F54: ='kons PR (L3)'!E55 -> #REF! | G54: =F54/$F$56*100 -> #REF! | H54: ='realisasi (L4)'!F56 -> #REF! | I54: =H54/F54*100 -> #REF! | J54: =AVERAGE(#REF!) -> #REF! | K54: =AVERAGE(#REF!) -> #REF! | L54: =IF(J54<=50,"SR",IF(J54<=65,"R",IF(J54<=75,"S",IF(J54<=90,"T","ST")))) -> #REF! | M54: =IF(K54<=50,"SR",IF(K54<=65,"R",IF(K54<=75,"S",IF(K54<=90,"T","ST")))) -> #REF!
A56: J U M L A H | D56: =SUM(D8:D55) -> #REF! | E56: =SUM(E8:E55) -> #REF! | F56: =SUM(F8:F55) -> #REF! | G56: =SUM(G8:G55) -> #REF! | H56: =SUM(H8:H55) -> #REF! | I56: =H56/F56*100 -> #REF! | J56: =AVERAGE(J8:J54) -> #REF! | K56: =AVERAGE(K8:K54) -> #REF! | L56: =IF(J56<=50,"SR",IF(J56<=65,"R",IF(J56<=75,"S",IF(J56<=90,"T","ST")))) -> #REF! | M56: =IF(K56<=50,"SR",IF(K56<=65,"R",IF(K56<=75,"S",IF(K56<=90,"T","ST")))) -> #REF!
A58: Keterangan :
A59: 1. | B59: Kolom 1 memuat nomor urut SKPD.
A60: 2. | B60: Kolom 2 memuat kode perangkat daerah dilingkungan Pemerintah Kabupaten Berau.
A61: 3. | B61: Kolom 3 memuat perangkat daerah dilingkungan Pemerintah Kabupaten Berau.
A62: 4. | B62: Kolom 4 memuat jumlah program masing-masing perangkat daerah yang tercantum dalam RKPD Kabupaten Berau Tahun 2017.
A63: 5. | B63: Kolom 5 memuat jumlah kegiatan masing-masing perangkat daerah yang tercantum dalam RKPD Kabupaten Berau Tahun 2017.
A64: 6. | B64: Kolom 6 memuat jumlah pagu indikatif masing-masing perangkat daerah yang tercantum dalam RKPD Kabupaten Berau Tahun 2017.
A65: 7. | B65: Kolom 7 memuat persentase pagu indikatif masing-masing perangkat daerah terhadap total pagu indikatif RKPD Kabupaten Berau Tahun 2017.
A66: 8. | B66: Kolom 8 memuat realisasi anggaran RKPD Tahun 2017 untuk masing-masing perangkat daerah sebagai hasil pelaksanaan APBD Kabupaten Berau Tahun 2017.
A67: 9. | B67: Kolom 9 memuat persentase realisasi anggaran RKPD Kabupaten Berau Tahun 2017 untuk masing-masing perangkat daerah (realisasi dibagi pagu x 100).
A68: 10 | B68: Kolom 10 memuat rata-rata capaian target kinerja kegiatan RKPD Tahun 2017 untuk masing-masing perangkat daerah (output).
A69: 11 | B69: Kolom 11 memuat rata-rata capaian anggaran kegiatan RKPD Tahun 2017 untuk masing-masing perangkat daerah.
A70: 12 | B70: Kolom 12 memuat predikat kinerja capaian kinerja RKPD Kabupaten Berau Tahun 2017 untuk masing-masing perangkat daerah.
B71: Kolom 13 memuat predikat kinerja capaian anggaran kegiatan RKPD Kabupaten Berau Tahun 2017 untuk masing-masing perangkat daerah.
B72: (Predikat kinerja pada kolom 12 dan kolom 13 mengacu pada Permendagri Nomor 86 Tahun 2017).

Sheet bid ur  (L6)
A1: LAMPIRAN 6
A2: HASIL PELAKSANAAN RKPD KABUPATEN BERAU TAHUN 2017
A3: MENURUT BIDANG URUSAN PEMERINTAHAN (berdasarkan UU Nomor 23 Tahun 2014)
A5: Kode | B5: Urusan/Bidang Urusan | C5: Jumlah | E5: Pagu dan Realisasi Anggaran | I5: Rata-rata Capaian Kinerja Kegiatan (%) dan Predikat Kinerja
C7: Prog | D7: Keg | E7: Pagu | F7: % | G7: Realisasi | H7: % | I7: K | J7: Rp | K7: K | L7: Rp
A8: (1) | B8: (2) | C8: (3) | D8: (4) | E8: (5) | F8: (6) | G8: (7) | H8: (8) | I8: (9) | J8: (10) | K8: (11) | L8: (12)
A9: 1 | B9: Urusan Wajib Pelayanan Dasar | C9: =SUM(C10:C15) -> #REF! | D9: =SUM(D10:D15) -> #REF! | E9: =SUM(E10:E15) -> #REF! | F9: =E9/$E$54*100 -> #REF! | G9: =SUM(G10:G15) -> #REF! | H9: =G9/E9*100 -> #REF! | I9: =AVERAGE(I10:I15) -> #REF! | J9: =AVERAGE(J10:J15) -> #REF! | K9: =IF(I9<50,"SR",IF(I9<65,"R",IF(I9<75,"S",IF(I9<90,"T","ST")))) -> #REF! | L9: =IF(J9<50,"SR",IF(J9<65,"R",IF(J9<75,"S",IF(J9<90,"T","ST")))) -> #REF!
A10: 1.01 | B10: Pendidikan | C10: =SUM(#REF!) -> #REF! | D10: =SUM(#REF!) -> #REF! | E10: =SUM(#REF!) -> #REF! | F10: =E10/$E$54*100 -> #REF! | G10: =SUM(#REF!) -> #REF! | H10: =G10/E10*100 -> #REF! | I10: =AVERAGE(#REF!) -> #REF! | J10: =AVERAGE(#REF!) -> #REF! | K10: =IF(I10<50,"SR",IF(I10<65,"R",IF(I10<75,"S",IF(I10<90,"T","ST")))) -> #REF! | L10: =IF(J10<50,"SR",IF(J10<65,"R",IF(J10<75,"S",IF(J10<90,"T","ST")))) -> #REF!
A11: 1.02 | B11: Kesehatan | C11: =SUM(#REF!) -> #REF! | D11: =SUM(#REF!) -> #REF! | E11: =SUM(#REF!) -> #REF! | F11: =E11/$E$54*100 -> #REF! | G11: =SUM(#REF!) -> #REF! | H11: =G11/E11*100 -> #REF! | I11: =AVERAGE(#REF!) -> #REF! | J11: =AVERAGE(#REF!) -> #REF! | K11: =IF(I11<50,"SR",IF(I11<65,"R",IF(I11<75,"S",IF(I11<90,"T","ST")))) -> #REF! | L11: =IF(J11<50,"SR",IF(J11<65,"R",IF(J11<75,"S",IF(J11<90,"T","ST")))) -> #REF!
A12: 1.03 | B12: Pekerjaan Umum dan Penataan Ruang | C12: =SUM(#REF!) -> #REF! | D12: =SUM(#REF!) -> #REF! | E12: =SUM(#REF!) -> #REF! | F12: =E12/$E$54*100 -> #REF! | G12: =SUM(#REF!) -> #REF! | H12: =G12/E12*100 -> #REF! | I12: =AVERAGE(#REF!) -> #REF! | J12: =AVERAGE(#REF!) -> #REF! | K12: =IF(I12<50,"SR",IF(I12<65,"R",IF(I12<75,"S",IF(I12<90,"T","ST")))) -> #REF! | L12: =IF(J12<50,"SR",IF(J12<65,"R",IF(J12<75,"S",IF(J12<90,"T","ST")))) -> #REF!
A13: 1.04 | B13: Perumahan Rakyat dan Kawasan Permukiman | C13: =SUM(#REF!) -> #REF! | D13: =SUM(#REF!) -> #REF! | E13: =SUM(#REF!) -> #REF! | F13: =E13/$E$54*100 -> #REF! | G13: =SUM(#REF!) -> #REF! | H13: =G13/E13*100 -> #REF! | I13: =AVERAGE(#REF!) -> #REF! | J13: =AVERAGE(#REF!) -> #REF! | K13: =IF(I13<50,"SR",IF(I13<65,"R",IF(I13<75,"S",IF(I13<90,"T","ST")))) -> #REF! | L13: =IF(J13<50,"SR",IF(J13<65,"R",IF(J13<75,"S",IF(J13<90,"T","ST")))) -> #REF!
A14: 1.05 | B14: Ketenteraman, Ketertiban Umum, dan Perlindungan Masyarakat | C14: =SUM(#REF!) -> #REF! | D14: =SUM(#REF!) -> #REF! | E14: =SUM(#REF!) -> #REF! | F14: =E14/$E$54*100 -> #REF! | G14: =SUM(#REF!) -> #REF! | H14: =G14/E14*100 -> #REF! | I14: =AVERAGE(#REF!) -> #REF! | J14: =AVERAGE(#REF!) -> #REF! | K14: =IF(I14<50,"SR",IF(I14<65,"R",IF(I14<75,"S",IF(I14<90,"T","ST")))) -> #REF! | L14: =IF(J14<50,"SR",IF(J14<65,"R",IF(J14<75,"S",IF(J14<90,"T","ST")))) -> #REF!
A15: 1.06 | B15: Sosial | C15: =SUM(#REF!) -> #REF! | D15: =SUM(#REF!) -> #REF! | E15: =SUM(#REF!) -> #REF! | F15: =E15/$E$54*100 -> #REF! | G15: =SUM(#REF!) -> #REF! | H15: =G15/E15*100 -> #REF! | I15: =AVERAGE(#REF!) -> #REF! | J15: =AVERAGE(#REF!) -> #REF! | K15: =IF(I15<50,"SR",IF(I15<65,"R",IF(I15<75,"S",IF(I15<90,"T","ST")))) -> #REF! | L15: =IF(J15<50,"SR",IF(J15<65,"R",IF(J15<75,"S",IF(J15<90,"T","ST")))) -> #REF!
A17: 2 | B17: Urusan Wajib Bukan Pelayanan Dasar | C17: =SUM(C18:C35) -> #REF! | D17: =SUM(D18:D35) -> #REF! | E17: =SUM(E18:E35) -> #REF! | F17: =E17/$E$54*100 -> #REF! | G17: =SUM(G18:G35) -> #REF! | H17: =G17/E17*100 -> #REF! | I17: =AVERAGE(I18:I35) -> #REF! | J17: =AVERAGE(J18:J35) -> #REF! | K17: =IF(I17<50,"SR",IF(I17<65,"R",IF(I17<75,"S",IF(I17<90,"T","ST")))) -> #REF! | L17: =IF(J17<50,"SR",IF(J17<65,"R",IF(J17<75,"S",IF(J17<90,"T","ST")))) -> #REF!
A18: 2.01 | B18: Tenaga Kerja | C18: =SUM(#REF!) -> #REF! | D18: =SUM(#REF!) -> #REF! | E18: =SUM(#REF!) -> #REF! | F18: =E18/$E$54*100 -> #REF! | G18: =SUM(#REF!) -> #REF! | H18: =G18/E18*100 -> #REF! | I18: =AVERAGE(#REF!) -> #REF! | J18: =AVERAGE(#REF!) -> #REF! | K18: =IF(I18<50,"SR",IF(I18<65,"R",IF(I18<75,"S",IF(I18<90,"T","ST")))) -> #REF! | L18: =IF(J18<50,"SR",IF(J18<65,"R",IF(J18<75,"S",IF(J18<90,"T","ST")))) -> #REF!
A19: 2.02 | B19: Pemberdayaan Perempuan dan Perlindungan Anak | C19: =SUM(#REF!) -> #REF! | D19: =SUM(#REF!) -> #REF! | E19: =SUM(#REF!) -> #REF! | F19: =E19/$E$54*100 -> #REF! | G19: =SUM(#REF!) -> #REF! | H19: =G19/E19*100 -> #REF! | I19: =AVERAGE(#REF!) -> #REF! | J19: =AVERAGE(#REF!) -> #REF! | K19: =IF(I19<50,"SR",IF(I19<65,"R",IF(I19<75,"S",IF(I19<90,"T","ST")))) -> #REF! | L19: =IF(J19<50,"SR",IF(J19<65,"R",IF(J19<75,"S",IF(J19<90,"T","ST")))) -> #REF!
A20: 2.03 | B20: Pangan | C20: =SUM(#REF!) -> #REF! | D20: =SUM(#REF!) -> #REF! | E20: =SUM(#REF!) -> #REF! | F20: =E20/$E$54*100 -> #REF! | G20: =SUM(#REF!) -> #REF! | H20: =G20/E20*100 -> #REF! | I20: =AVERAGE(#REF!) -> #REF! | J20: =AVERAGE(#REF!) -> #REF! | K20: =IF(I20<50,"SR",IF(I20<65,"R",IF(I20<75,"S",IF(I20<90,"T","ST")))) -> #REF! | L20: =IF(J20<50,"SR",IF(J20<65,"R",IF(J20<75,"S",IF(J20<90,"T","ST")))) -> #REF!
A21: 2.04 | B21: Pertanahan | C21: =SUM(#REF!) -> #REF! | D21: =SUM(#REF!) -> #REF! | E21: =SUM(#REF!) -> #REF! | F21: =E21/$E$54*100 -> #REF! | G21: =SUM(#REF!) -> #REF! | H21: =G21/E21*100 -> #REF! | I21: =AVERAGE(#REF!) -> #REF! | J21: =AVERAGE(#REF!) -> #REF! | K21: =IF(I21<50,"SR",IF(I21<65,"R",IF(I21<75,"S",IF(I21<90,"T","ST")))) -> #REF! | L21: =IF(J21<50,"SR",IF(J21<65,"R",IF(J21<75,"S",IF(J21<90,"T","ST")))) -> #REF!
A22: 2.05 | B22: Lingkungan Hidup | C22: =SUM(#REF!) -> #REF! | D22: =SUM(#REF!) -> #REF! | E22: =SUM(#REF!) -> #REF! | F22: =E22/$E$54*100 -> #REF! | G22: =SUM(#REF!) -> #REF! | H22: =G22/E22*100 -> #REF! | I22: =AVERAGE(#REF!) -> #REF! | J22: =AVERAGE(#REF!) -> #REF! | K22: =IF(I22<50,"SR",IF(I22<65,"R",IF(I22<75,"S",IF(I22<90,"T","ST")))) -> #REF! | L22: =IF(J22<50,"SR",IF(J22<65,"R",IF(J22<75,"S",IF(J22<90,"T","ST")))) -> #REF!
A23: 2.06 | B23: Administrasi Kependudukan dan Pencatatan Sipil | C23: =SUM(#REF!) -> #REF! | D23: =SUM(#REF!) -> #REF! | E23: =SUM(#REF!) -> #REF! | F23: =E23/$E$54*100 -> #REF! | G23: =SUM(#REF!) -> #REF! | H23: =G23/E23*100 -> #REF! | I23: =AVERAGE(#REF!) -> #REF! | J23: =AVERAGE(#REF!) -> #REF! | K23: =IF(I23<50,"SR",IF(I23<65,"R",IF(I23<75,"S",IF(I23<90,"T","ST")))) -> #REF! | L23: =IF(J23<50,"SR",IF(J23<65,"R",IF(J23<75,"S",IF(J23<90,"T","ST")))) -> #REF!
A24: 2.07 | B24: Pemberdayaan Masyarakat dan Desa | C24: =SUM(#REF!) -> #REF! | D24: =SUM(#REF!) -> #REF! | E24: =SUM(#REF!) -> #REF! | F24: =E24/$E$54*100 -> #REF! | G24: =SUM(#REF!) -> #REF! | H24: =G24/E24*100 -> #REF! | I24: =AVERAGE(#REF!) -> #REF! | J24: =AVERAGE(#REF!) -> #REF! | K24: =IF(I24<50,"SR",IF(I24<65,"R",IF(I24<75,"S",IF(I24<90,"T","ST")))) -> #REF! | L24: =IF(J24<50,"SR",IF(J24<65,"R",IF(J24<75,"S",IF(J24<90,"T","ST")))) -> #REF!
A25: 2.08 | B25: Pengendalian Penduduk dan Keluarga Berencana | C25: =SUM(#REF!) -> #REF! | D25: =SUM(#REF!) -> #REF! | E25: =SUM(#REF!) -> #REF! | F25: =E25/$E$54*100 -> #REF! | G25: =SUM(#REF!) -> #REF! | H25: =G25/E25*100 -> #REF! | I25: =AVERAGE(#REF!) -> #REF! | J25: =AVERAGE(#REF!) -> #REF! | K25: =IF(I25<50,"SR",IF(I25<65,"R",IF(I25<75,"S",IF(I25<90,"T","ST")))) -> #REF! | L25: =IF(J25<50,"SR",IF(J25<65,"R",IF(J25<75,"S",IF(J25<90,"T","ST")))) -> #REF!
A26: 2.09 | B26: Perhubungan | C26: =SUM(#REF!) -> #REF! | D26: =SUM(#REF!) -> #REF! | E26: =SUM(#REF!) -> #REF! | F26: =E26/$E$54*100 -> #REF! | G26: =SUM(#REF!) -> #REF! | H26: =G26/E26*100 -> #REF! | I26: =AVERAGE(#REF!) -> #REF! | J26: =AVERAGE(#REF!) -> #REF! | K26: =IF(I26<50,"SR",IF(I26<65,"R",IF(I26<75,"S",IF(I26<90,"T","ST")))) -> #REF! | L26: =IF(J26<50,"SR",IF(J26<65,"R",IF(J26<75,"S",IF(J26<90,"T","ST")))) -> #REF!
A27: 2.10 | B27: Komunikasi dan Informatika | C27: =SUM(#REF!) -> #REF! | D27: =SUM(#REF!)-D32 -> #REF! | E27: =SUM(#REF!)-E32 -> #REF! | F27: =E27/$E$54*100 -> #REF! | G27: =SUM(#REF!)-G32 -> #REF! | H27: =G27/E27*100 -> #REF! | I27: =AVERAGE(#REF!)-I32 -> #REF! | J27: =AVERAGE(#REF!)-J32 -> #REF! | K27: =IF(I27<50,"SR",IF(I27<65,"R",IF(I27<75,"S",IF(I27<90,"T","ST")))) -> #REF! | L27: =IF(J27<50,"SR",IF(J27<65,"R",IF(J27<75,"S",IF(J27<90,"T","ST")))) -> #REF!
A28: 2.11 | B28: Koperasi, Usaha Kecil, dan Menengah | C28: =SUM(#REF!) -> #REF! | D28: =SUM(#REF!) -> #REF! | E28: =SUM(#REF!) -> #REF! | F28: =E28/$E$54*100 -> #REF! | G28: =SUM(#REF!) -> #REF! | H28: =G28/E28*100 -> #REF! | I28: =AVERAGE(#REF!) -> #REF! | J28: =AVERAGE(#REF!) -> #REF! | K28: =IF(I28<50,"SR",IF(I28<65,"R",IF(I28<75,"S",IF(I28<90,"T","ST")))) -> #REF! | L28: =IF(J28<50,"SR",IF(J28<65,"R",IF(J28<75,"S",IF(J28<90,"T","ST")))) -> #REF!
A29: 2.12 | B29: Penanaman Modal | C29: =SUM(#REF!) -> #REF! | D29: =SUM(#REF!) -> #REF! | E29: =SUM(#REF!) -> #REF! | F29: =E29/$E$54*100 -> #REF! | G29: =SUM(#REF!) -> #REF! | H29: =G29/E29*100 -> #REF! | I29: =AVERAGE(#REF!) -> #REF! | J29: =AVERAGE(#REF!) -> #REF! | K29: =IF(I29<50,"SR",IF(I29<65,"R",IF(I29<75,"S",IF(I29<90,"T","ST")))) -> #REF! | L29: =IF(J29<50,"SR",IF(J29<65,"R",IF(J29<75,"S",IF(J29<90,"T","ST")))) -> #REF!
A30: 2.13 | B30: Kepemudaan dan Olahraga | C30: =SUM(#REF!) -> #REF! | D30: =SUM(#REF!) -> #REF! | E30: =SUM(#REF!) -> #REF! | F30: =E30/$E$54*100 -> #REF! | G30: =SUM(#REF!) -> #REF! | H30: =G30/E30*100 -> #REF! | I30: =AVERAGE(#REF!) -> #REF! | J30: =AVERAGE(#REF!) -> #REF! | K30: =IF(I30<50,"SR",IF(I30<65,"R",IF(I30<75,"S",IF(I30<90,"T","ST")))) -> #REF! | L30: =IF(J30<50,"SR",IF(J30<65,"R",IF(J30<75,"S",IF(J30<90,"T","ST")))) -> #REF!
A31: 2.14 | B31: Statistik | C31: =SUM(#REF!) -> #REF! | D31: =SUM(#REF!) -> #REF! | E31: =SUM(#REF!) -> #REF! | F31: =E31/$E$54*100 -> #REF! | G31: =SUM(#REF!) -> #REF! | H31: =G31/E31*100 -> #REF! | I31: =AVERAGE(#REF!) -> #REF! | J31: =AVERAGE(#REF!) -> #REF! | K31: =IF(I31<50,"SR",IF(I31<65,"R",IF(I31<75,"S",IF(I31<90,"T","ST")))) -> #REF! | L31: =IF(J31<50,"SR",IF(J31<65,"R",IF(J31<75,"S",IF(J31<90,"T","ST")))) -> #REF!
A32: 2.15 | B32: Persandian | C32: 0 | D32: =#REF!+#REF! -> #REF! | E32: =#REF!+#REF! -> #REF! | F32: =E32/$E$54*100 -> #REF! | G32: =#REF!+#REF! -> #REF! | H32: =G32/E32*100 -> #REF! | I32: =AVERAGE(#REF!,#REF!) -> #REF! | J32: =AVERAGE(#REF!,#REF!) -> #REF! | K32: =IF(I32<50,"SR",IF(I32<65,"R",IF(I32<75,"S",IF(I32<90,"T","ST")))) -> #REF! | L32: =IF(J32<50,"SR",IF(J32<65,"R",IF(J32<75,"S",IF(J32<90,"T","ST")))) -> #REF!
A33: 2.16 | B33: Kebudayaan | C33: =SUM(#REF!) -> #REF! | D33: =SUM(#REF!) -> #REF! | E33: =SUM(#REF!) -> #REF! | F33: =E33/$E$54*100 -> #REF! | G33: =SUM(#REF!) -> #REF! | H33: =G33/E33*100 -> #REF! | I33: =AVERAGE(#REF!) -> #REF! | J33: =AVERAGE(#REF!) -> #REF! | K33: =IF(I33<50,"SR",IF(I33<65,"R",IF(I33<75,"S",IF(I33<90,"T","ST")))) -> #REF! | L33: =IF(J33<50,"SR",IF(J33<65,"R",IF(J33<75,"S",IF(J33<90,"T","ST")))) -> #REF!
A34: 2.17 | B34: Perpustakaan | C34: =SUM(#REF!) -> #REF! | D34: =SUM(#REF!) -> #REF! | E34: =SUM(#REF!) -> #REF! | F34: =E34/$E$54*100 -> #REF! | G34: =SUM(#REF!) -> #REF! | H34: =G34/E34*100 -> #REF! | I34: =AVERAGE(#REF!) -> #REF! | J34: =AVERAGE(#REF!) -> #REF! | K34: =IF(I34<50,"SR",IF(I34<65,"R",IF(I34<75,"S",IF(I34<90,"T","ST")))) -> #REF! | L34: =IF(J34<50,"SR",IF(J34<65,"R",IF(J34<75,"S",IF(J34<90,"T","ST")))) -> #REF!
A35: 2.18 | B35: Kearsipan | C35: =SUM(#REF!) -> #REF! | D35: =SUM(#REF!) -> #REF! | E35: =SUM(#REF!) -> #REF! | F35: =E35/$E$54*100 -> #REF! | G35: =SUM(#REF!) -> #REF! | H35: =G35/E35*100 -> #REF! | I35: =AVERAGE(#REF!) -> #REF! | J35: =AVERAGE(#REF!) -> #REF! | K35: =IF(I35<50,"SR",IF(I35<65,"R",IF(I35<75,"S",IF(I35<90,"T","ST")))) -> #REF! | L35: =IF(J35<50,"SR",IF(J35<65,"R",IF(J35<75,"S",IF(J35<90,"T","ST")))) -> #REF!
A37: 3 | B37: Urusan Pilihan | C37: =SUM(C38:C45) -> #REF! | D37: =SUM(D38:D45) -> #REF! | E37: =SUM(E38:E45) -> #REF! | F37: =E37/$E$54*100 -> #REF! | G37: =SUM(G38:G45) -> #REF! | H37: =G37/E37*100 -> #REF! | I37: =AVERAGE(I38:I45) -> #REF! | J37: =AVERAGE(J38:J45) -> #REF! | K37: =IF(I37<50,"SR",IF(I37<65,"R",IF(I37<75,"S",IF(I37<90,"T","ST")))) -> #REF! | L37: =IF(J37<50,"SR",IF(J37<65,"R",IF(J37<75,"S",IF(J37<90,"T","ST")))) -> #REF!
A38: 3.01 | B38: Kelautan dan Perikanan | C38: =SUM(#REF!) -> #REF! | D38: =SUM(#REF!) -> #REF! | E38: =SUM(#REF!) -> #REF! | F38: =E38/$E$54*100 -> #REF! | G38: =SUM(#REF!) -> #REF! | H38: =G38/E38*100 -> #REF! | I38: =AVERAGE(#REF!) -> #REF! | J38: =AVERAGE(#REF!) -> #REF! | K38: =IF(I38<50,"SR",IF(I38<65,"R",IF(I38<75,"S",IF(I38<90,"T","ST")))) -> #REF! | L38: =IF(J38<50,"SR",IF(J38<65,"R",IF(J38<75,"S",IF(J38<90,"T","ST")))) -> #REF!
A39: 3.02 | B39: Pariwisata | C39: =SUM(#REF!) -> #REF! | D39: =SUM(#REF!) -> #REF! | E39: =SUM(#REF!) -> #REF! | F39: =E39/$E$54*100 -> #REF! | G39: =SUM(#REF!) -> #REF! | H39: =G39/E39*100 -> #REF! | I39: =AVERAGE(#REF!) -> #REF! | J39: =AVERAGE(#REF!) -> #REF! | K39: =IF(I39<50,"SR",IF(I39<65,"R",IF(I39<75,"S",IF(I39<90,"T","ST")))) -> #REF! | L39: =IF(J39<50,"SR",IF(J39<65,"R",IF(J39<75,"S",IF(J39<90,"T","ST")))) -> #REF!
A40: 3.03 | B40: Pertanian | C40: =SUM(#REF!) -> #REF! | D40: =SUM(#REF!) -> #REF! | E40: =SUM(#REF!) -> #REF! | F40: =E40/$E$54*100 -> #REF! | G40: =SUM(#REF!) -> #REF! | H40: =G40/E40*100 -> #REF! | I40: =AVERAGE(#REF!) -> #REF! | J40: =AVERAGE(#REF!) -> #REF! | K40: =IF(I40<50,"SR",IF(I40<65,"R",IF(I40<75,"S",IF(I40<90,"T","ST")))) -> #REF! | L40: =IF(J40<50,"SR",IF(J40<65,"R",IF(J40<75,"S",IF(J40<90,"T","ST")))) -> #REF!
A41: 3.04 | B41: Kehutanan | F41: =E41/$E$54*100 -> #REF!
A42: 3.05 | B42: Energi dan Sumberdaya Mineral | F42: =E42/$E$54*100 -> #REF!
A43: 3.06 | B43: Perdagangan | C43: =SUM(#REF!) -> #REF! | D43: =SUM(#REF!) -> #REF! | E43: =SUM(#REF!) -> #REF! | F43: =E43/$E$54*100 -> #REF! | G43: =SUM(#REF!) -> #REF! | H43: =G43/E43*100 -> #REF! | I43: =AVERAGE(#REF!) -> #REF! | J43: =AVERAGE(#REF!) -> #REF! | K43: =IF(I43<50,"SR",IF(I43<65,"R",IF(I43<75,"S",IF(I43<90,"T","ST")))) -> #REF! | L43: =IF(J43<50,"SR",IF(J43<65,"R",IF(J43<75,"S",IF(J43<90,"T","ST")))) -> #REF!
A44: 3.07 | B44: Perindustrian | C44: =SUM(#REF!) -> #REF! | D44: =SUM(#REF!) -> #REF! | E44: =SUM(#REF!) -> #REF! | F44: =E44/$E$54*100 -> #REF! | G44: =SUM(#REF!) -> #REF! | H44: =G44/E44*100 -> #REF! | I44: =AVERAGE(#REF!) -> #REF! | J44: =AVERAGE(#REF!) -> #REF! | K44: =IF(I44<50,"SR",IF(I44<65,"R",IF(I44<75,"S",IF(I44<90,"T","ST")))) -> #REF! | L44: =IF(J44<50,"SR",IF(J44<65,"R",IF(J44<75,"S",IF(J44<90,"T","ST")))) -> #REF!
A45: 3.08 | B45: Ketransmigrasian | C45: =SUM(#REF!) -> #REF! | D45: =SUM(#REF!) -> #REF! | E45: =SUM(#REF!) -> #REF! | F45: =E45/$E$54*100 -> #REF! | G45: =SUM(#REF!) -> #REF!
A47: 4 | B47: Urusan Pemerintahan Fungsi Penunjang | C47: =SUM(C48:C52) -> #REF! | D47: =SUM(D48:D52) -> #REF! | E47: =SUM(E48:E52) -> #REF! | F47: =E47/$E$54*100 -> #REF! | G47: =SUM(G48:G52) -> #REF! | H47: =G47/E47*100 -> #REF! | I47: =AVERAGE(I48:I52) -> #REF! | J47: =AVERAGE(J48:J52) -> #REF! | K47: =IF(I47<50,"SR",IF(I47<65,"R",IF(I47<75,"S",IF(I47<90,"T","ST")))) -> #REF! | L47: =IF(J47<50,"SR",IF(J47<65,"R",IF(J47<75,"S",IF(J47<90,"T","ST")))) -> #REF!
A48: 4.01 | B48: Administrasi Pemerintahan | C48: =SUM(#REF!) -> #REF! | D48: =SUM(#REF!) -> #REF! | E48: =SUM(#REF!) -> #REF! | F48: =E48/$E$54*100 -> #REF! | G48: =SUM(#REF!) -> #REF! | H48: =G48/E48*100 -> #REF! | I48: =AVERAGE(#REF!) -> #REF! | J48: =AVERAGE(#REF!) -> #REF! | K48: =IF(I48<50,"SR",IF(I48<65,"R",IF(I48<75,"S",IF(I48<90,"T","ST")))) -> #REF! | L48: =IF(J48<50,"SR",IF(J48<65,"R",IF(J48<75,"S",IF(J48<90,"T","ST")))) -> #REF!
A49: 4.02 | B49: Pengawasan | C49: =SUM(#REF!) -> #REF! | D49: =SUM(#REF!) -> #REF! | E49: =SUM(#REF!) -> #REF! | F49: =E49/$E$54*100 -> #REF! | G49: =SUM(#REF!) -> #REF! | H49: =G49/E49*100 -> #REF! | I49: =AVERAGE(#REF!) -> #REF! | J49: =AVERAGE(#REF!) -> #REF! | K49: =IF(I49<50,"SR",IF(I49<65,"R",IF(I49<75,"S",IF(I49<90,"T","ST")))) -> #REF! | L49: =IF(J49<50,"SR",IF(J49<65,"R",IF(J49<75,"S",IF(J49<90,"T","ST")))) -> #REF!
A50: 4.03 | B50: Perencanaan Pembangunan | C50: =SUM(#REF!) -> #REF! | D50: =SUM(#REF!) -> #REF! | E50: =SUM(#REF!) -> #REF! | F50: =E50/$E$54*100 -> #REF! | G50: =SUM(#REF!) -> #REF! | H50: =G50/E50*100 -> #REF! | I50: =AVERAGE(#REF!) -> #REF! | J50: =AVERAGE(#REF!) -> #REF! | K50: =IF(I50<50,"SR",IF(I50<65,"R",IF(I50<75,"S",IF(I50<90,"T","ST")))) -> #REF! | L50: =IF(J50<50,"SR",IF(J50<65,"R",IF(J50<75,"S",IF(J50<90,"T","ST")))) -> #REF!
A51: 4.04 | B51: Keuangan | C51: =SUM(#REF!) -> #REF! | D51: =SUM(#REF!) -> #REF! | E51: =SUM(#REF!) -> #REF! | F51: =E51/$E$54*100 -> #REF! | G51: =SUM(#REF!) -> #REF! | H51: =G51/E51*100 -> #REF! | I51: =AVERAGE(#REF!) -> #REF! | J51: =AVERAGE(#REF!) -> #REF! | K51: =IF(I51<50,"SR",IF(I51<65,"R",IF(I51<75,"S",IF(I51<90,"T","ST")))) -> #REF! | L51: =IF(J51<50,"SR",IF(J51<65,"R",IF(J51<75,"S",IF(J51<90,"T","ST")))) -> #REF!
A52: 4.05 | B52: Kepegawaian | C52: =SUM(#REF!) -> #REF! | D52: =SUM(#REF!) -> #REF! | E52: =SUM(#REF!) -> #REF! | F52: =E52/$E$54*100 -> #REF! | G52: =SUM(#REF!) -> #REF! | H52: =G52/E52*100 -> #REF! | I52: =AVERAGE(#REF!) -> #REF! | J52: =AVERAGE(#REF!) -> #REF! | K52: =IF(I52<50,"SR",IF(I52<65,"R",IF(I52<75,"S",IF(I52<90,"T","ST")))) -> #REF! | L52: =IF(J52<50,"SR",IF(J52<65,"R",IF(J52<75,"S",IF(J52<90,"T","ST")))) -> #REF!
A54: J U M L A H | C54: =C9+C17+C37+C47 -> #REF! | D54: =D9+D17+D37+D47 -> #REF! | E54: =E9+E17+E37+E47 -> #REF! | F54: =F9+F17+F37+F47 -> #REF! | G54: =G9+G17+G37+G47 -> #REF! | H54: =G54/E54*100 -> #REF!
A55: Rata-rata Capaian Kinerja (%) dan Predikat Kinerja | I55: =AVERAGE(I10:I15,I18:I35,I38:I45,I48:I52) -> #REF! | J55: =AVERAGE(J10:J15,J18:J35,J38:J45,J48:J52) -> #REF! | K55: =IF(I55<50,"SR",IF(I55<65,"R",IF(I55<75,"S",IF(I55<90,"T","ST")))) -> #REF! | L55: =IF(J55<50,"SR",IF(J55<65,"R",IF(J55<75,"S",IF(J55<90,"T","ST")))) -> #REF!
A57: Keterangan :
A58: 1. | B58: Kolom 1 memuat kode urusan dan bidang urusan.
A59: 2. | B59: Kolom 2 memuat uraian urusan dan bidang urusan berdasarkan UU Nomor 23 Tahun 2014 dan Perda Kabupaten Berau Nomor 3 Tahun 2016 Tentang RPJMD
B60: Kabupaten Berau Tahun 2016-2021.
A61: 3. | B61: Kolom 3 memuat jumlah program masing-masing urusan/bidang urusan yang tercantum dalam RKPD Kabupaten Berau Tahun 2017.
A62: 4. | B62: Kolom 4 memuat jumlah kegiatan masing-masing urusan/bidang urusan yang tercantum dalam RKPD Kabupaten Berau Tahun 2017.
A63: 5. | B63: Kolom 5 memuat jumlah pagu indikatif masing-masing urusan/bidang urusan yang tercantum dalam RKPD Kabupaten Berau Tahun 2017.
A64: 6. | B64: Kolom 6 memuat persentase pagu indikatif masing-masing urusan/bidang urusan terhadap total pagu indikatif RKPD Kabupaten Berau Tahun 2017.
A65: 7. | B65: Kolom 7 memuat realisasi anggaran RKPD Tahun 2017 masing-masing bidang urusan 2017 sebagai hasil pelaksanaan APBD Kabupaten Berau Tahun 2017.
A66: 8. | B66: Kolom 8 memuat persentase realisasi anggaran RKPD Kabupaten Berau Tahun 2017 untuk masing-masing urusan/bidang urusan (realisasi dibagi pagu x 100).
A67: 9. | B67: Kolom 9 memuat rata-rata capaian target kinerja kegiatan RKPD Kabupaten Berau Tahun 2017 untuk masing-masing urusan/bidang urusan (output).
A68: 10 | B68: Kolom 10 memuat rata-rata capaian anggaran kegiatan RKPD Kabupaten Berau Tahun 2017 untuk masing-masing urusan/bidang urusan.
A69: 11 | B69: Kolom 11 memuat predikat kinerja capaian kinerja RKPD Kabupaten Berau Tahun 2017 untuk masing-masing urusan/bidang urusan.
A70: 12 | B70: Kolom 12 memuat predikat kinerja capaian anggaran kegiatan RKPD Kabupaten Berau Tahun 2017 untuk masing-masing urusan/bidang urusan.
B71: Predikat kinerja pada kolom 11 dan kolom 12 mengacu pada Permendagri Nomor 54 Tahun 2010.

Sheet PPr RPJMD (L7)
A1: Lampiran 7
A2: Target dan Kinerja Program Prioritas RPJMD Kabupaten Berau Tahun 2017
A4: No. | B4: Program Prioritas | C4: Indikator Kinerja (outcome) | D4: Target RPJMD | E4: Pendanaan Tahun 2017 (Rp.000) | K4: Rata-rata Capaian Kegiatan RKPD (%) | M4: Kondisi Saat Ini | N4: Target RPJMD (2021) | O4: Capaian Target RPJMD (%) | P4: SKPD Penanggung Jawab Program | Q4: Keterangan
E5: RPJMD | F5: RKPD | G5: APBD | H5: Realisasi (Rp.000)
H6: RKPD | I6: APBD | J6: % RPJMD | K6: Kinerja | L6: Rp.
A7: (1) | B7: (2) | C7: (3) | D7: (4) | E7: (5) | F7: (6) | G7: (7) | H7: (8) | I7: (9) | J7: (10) | K7: (11) | L7: (12) | M7: (13) | N7: (14) | O7: (15) | P7: (16) | Q7: (17)
A8: Bidang Sosial Budaya
A9: 1 | B9: Program wajib belajar pendidikan dasar 9 tahun | C9: APK (SD/MI/SDLB) | D9: 90,00 | E9: =#REF! -> #REF! | F9: =#REF! -> #REF! | G9: =#REF! -> #REF! | H9: =#REF! -> #REF! | I9: =#REF! -> #REF! | J9: =I9/E9*100 -> #REF! | K9: =#REF! -> #REF! | L9: =#REF! -> #REF! | M9: 111.28 | N9: 100 | O9: =M9/N9*100 -> 111.28 | P9: Dinas Pendidikan
C10: APM (SD/MI/SDLB) | D10: 94,23 | M10: 97.88 | N10: 96 | O10: =M10/N10*100 -> 101.95833
C11: APK (SMP/ MTs/SMPLB | D11: 93.55 | M11: 92.36 | N11: 95 | O11: =M11/N11*100 -> 97.221053
C12: APM (SMP/ MTs/SMPLB | D12: 58 | M12: 72.71 | N12: 90 | O12: =M12/N12*100 -> 80.788889
C13: APK SMK/SMA/MA | Q13: Menjadi kewenangan Provinsi (UU 23/2014)
C14: APM SML/SMA/MA
A15: =A9+1 -> 2 | B15: Program manajemen pelayanan pendidikan | C15: Jumlah tenaga pendidik dan kependidikan yang memenuhi standar pelayanan minimal (orang) | D15: 4838 | E15: =#REF! -> #REF! | F15: =#REF! -> #REF! | G15: =#REF! -> #REF! | H15: =#REF! -> #REF! | I15: =#REF! -> #REF! | J15: =I15/E15*100 -> #REF! | K15: =#REF! -> #REF! | L15: =#REF! -> #REF! | M15: 3091 | N15: 5322 | O15: =M15/N15*100 -> 58.079669 | P15: Dinas Pendidikan
C16: Jumlah sekolah unggulan (sekolah) | D16: 9 | M16: 9 | N16: 15 | O16: =M16/N16*100 -> 60
A17: =A15+1 -> 3 | B17: Program peningkatan mutu pendidik dan tenaga kependidikan | C17: Jumlah Guru yang memenuhi sertifikasi (orang) | D17: 1180 | E17: =#REF! -> #REF! | F17: =#REF! -> #REF! | G17: =#REF! -> #REF! | H17: =#REF! -> #REF! | I17: =#REF! -> #REF! | J17: =I17/E17*100 -> #REF! | K17: =#REF! -> #REF! | L17: =#REF! -> #REF! | M17: 886 | N17: 1729 | O17: =M17/N17*100 -> 51.243493 | P17: Dinas Pendidikan | Q17: Kuota ditentuykan dari Pusat
A18: =A17+1 -> 4 | B18: Program Pendidikan Anak Usia Dini | C18: APK PAUD (persen) | D18: 85.72 | E18: =#REF! -> #REF! | F18: =#REF! -> #REF! | G18: =#REF! -> #REF! | H18: =#REF! -> #REF! | I18: =#REF! -> #REF! | J18: =I18/E18*100 -> #REF! | K18: =#REF! -> #REF! | L18: =#REF! -> #REF! | M18: 88.06 | N18: 100 | O18: =M18/N18*100 -> 88.06 | P18: Dinas Pendidikan
A19: =A18+1 -> 5 | B19: Program Upaya Kesehatan Masyarakat | C19: Utilisasi Puskesmas (persen) | D19: 91.5 | E19: =#REF!+#REF! -> #REF! | F19: =#REF!+#REF! -> #REF! | G19: =#REF!+#REF! -> #REF! | H19: =#REF!+#REF! -> #REF! | I19: =#REF!+#REF! -> #REF! | J19: =I19/E19*100 -> #REF! | K19: =(#REF!+#REF!)/2 -> #REF! | L19: =(#REF!+#REF!)/2 -> #REF! | M19: 92 | N19: 95 | O19: =M19/N19*100 -> 96.842105 | P19: Dinas Kesehatan
A20: 6 | B20: Program Peningkatan Keselamatan Ibu melahirkan dan anak | C20: Angka Kematian Balita ( AKABA) Per 1.000 Kelahiran Hidup | D20: 20 | E20: =#REF! -> #REF! | F20: =#REF! -> #REF! | G20: =#REF! -> #REF! | H20: =#REF! -> #REF! | I20: =#REF! -> #REF! | J20: =I20/E20*100 -> #REF! | K20: =#REF! -> #REF! | L20: =#REF! -> #REF! | M20: 19 | N20: 15 | O20: =N20/M20*100 -> 78.947368 | P20: Dinas Kesehatan
C21: Jumlah Kematian Ibu Melahirkan | D21: 9 | M21: 10 | N21: 6 | O21: =N21/M21*100 -> 60
C22: Angka Kematian Bayi ( IMR) Per 1.000 Kelahiran Hidup | D22: 23 | M22: 21 | N22: 15 | O22: =N22/M22*100 -> 71.428571
A23: =A20+1 -> 7 | B23: Program Perbaikan Gizi Masyarakat | C23: Prevalensi Balita Stunting | D23: 26.6 | E23: =#REF! -> #REF! | F23: =#REF! -> #REF! | G23: =#REF! -> #REF! | H23: =#REF! -> #REF! | I23: =#REF! -> #REF! | J23: =I23/E23*100 -> #REF! | K23: =#REF! -> #REF! | L23: =#REF! -> #REF! | M23: 26.6 | N23: 21 | O23: =N23/M23*100 -> 78.947368 | P23: Dinas Kesehatan
A24: =A23+1 -> 8 | B24: Program Pencegahan dan Penanggulangan Penyakit menular dan tidak menular | C24: Persentase angka keberhasilan Pengobatan TB paru BTA positif ( success Rate ) | D24: 50 | E24: =#REF! -> #REF! | F24: =#REF! -> #REF! | G24: =#REF! -> #REF! | H24: =#REF! -> #REF! | I24: =#REF! -> #REF! | J24: =I24/E24*100 -> #REF! | K24: =#REF! -> #REF! | L24: =#REF! -> #REF! | M24: 85 | N24: 75 | O24: =M24/N24*100 -> 113.33333 | P24: Dinas Kesehatan
A25: =A24+1 -> 9 | B25: Program Pelayanan Kesehatan penduduk miskin | C25: Persentase cakupan jaminan pemeliharaan Kesehatan masyarakat miskin | D25: 100 | E25: =#REF! -> #REF! | F25: =#REF! -> #REF! | G25: =#REF! -> #REF! | H25: =#REF! -> #REF! | I25: =#REF! -> #REF! | J25: =I25/E25*100 -> #REF! | K25: =#REF! -> #REF! | L25: =#REF! -> #REF! | M25: 100 | N25: 100 | O25: =M25/N25*100 -> 100 | P25: Dinas Kesehatan
A26: 10 | B26: Program Pengembangan Lingkungan Sehat | C26: Persentase Kampung/kelurahan yang stop Buang Air Besar Sembarangan (persen) | D26: 40 | E26: =#REF! -> #REF! | F26: =#REF! -> #REF! | G26: =#REF! -> #REF! | H26: =#REF! -> #REF! | I26: =#REF! -> #REF! | J26: =I26/E26*100 -> #REF! | K26: =#REF! -> #REF! | L26: =#REF! -> #REF! | M26: 40 | N26: 70 | O26: =M26/N26*100 -> 57.142857 | P26: Dinas Kesehatan
C27: Persentase kampung/kelurahan yang melaksanakan STBM | D27: 70 | M27: 40 | N27: 70 | O27: =M27/N27*100 -> 57.142857
A28: 11 | B28: Program Promosi Kesehatan dan Pemberdayaan masyarakat | C28: Cakupan desa siaga aktif (Purnama dan Mandiri) | D28: 10 | E28: =#REF!+#REF! -> #REF! | F28: =#REF!+#REF! -> #REF! | G28: =#REF!+#REF! -> #REF! | H28: =#REF!+#REF! -> #REF! | I28: =#REF!+#REF! -> #REF! | J28: =I28/E28*100 -> #REF! | K28: =(#REF!+#REF!)/2 -> #REF! | L28: =(#REF!+#REF!)/2 -> #REF! | M28: 10 | N28: 70 | O28: =M28/N28*100 -> 14.285714 | P28: Dinas Kesehatan
A29: =A28+1 -> 12 | B29: Program Standarisasi Pelayanan Kesehatan | C29: Persentase fasilitas pelayanan kesehatan yang terakreditasi | D29: 50 | E29: =#REF!+#REF! -> #REF! | F29: =#REF!+#REF! -> #REF! | G29: =#REF!+#REF! -> #REF! | H29: =#REF!+#REF! -> #REF! | I29: =#REF!+#REF! -> #REF! | J29: =I29/E29*100 -> #REF! | K29: =(#REF!+#REF!)/2 -> #REF! | L29: =(#REF!+#REF!)/2 -> #REF! | M29: 80 | N29: 100 | O29: =M29/N29*100 -> 80 | P29: Dinas Kesehatan
A30: =A29+1 -> 13 | B30: Program Pengadaan, Peningkatan dan Perbaikan sarana dan prasarana puskesmas / Puskesmas Pembantu dan Jaringannya | C30: Persentase ketersediaan sarana dan prasarana Puskesmas dan jaringannya sesuai standar (Persen) | D30: 85 | E30: =#REF! -> #REF! | F30: =#REF! -> #REF! | G30: =#REF! -> #REF! | H30: =#REF! -> #REF! | I30: =#REF! -> #REF! | J30: =I30/E30*100 -> #REF! | K30: =#REF! -> #REF! | L30: =#REF! -> #REF! | M30: 85 | N30: 97 | O30: =M30/N30*100 -> 87.628866 | P30: Dinas Kesehatan
A31: =A30+1 -> 14 | B31: Program Pengadaan , Peningkatan Sarana Prasarana RS/RS Jiwa/RS Paru/RS Mata | C31: Persentase RS yang sesuai standar | D31: 60 | E31: =#REF!+#REF! -> #REF! | F31: =#REF!+#REF! -> #REF! | G31: =#REF!+#REF! -> #REF! | H31: =#REF!+#REF! -> #REF! | I31: =#REF!+#REF! -> #REF! | J31: =I31/E31*100 -> #REF! | K31: =(#REF!+#REF!)/2 -> #REF! | L31: =(#REF!+#REF!)/2 -> #REF! | M31: 60 | N31: 85 | O31: =M31/N31*100 -> 70.588235 | P31: Dinas Kesehatan
A32: =A31+1 -> 15 | B32: Program Peningkatan Kesiap-siagaan dan Pencegahan Bahaya Kebakaran | C32: Luas kebakaran hutan dan lahan (ha) | D32: 775 | E32: =#REF! -> #REF! | F32: =#REF! -> #REF! | G32: =#REF! -> #REF! | H32: =#REF! -> #REF! | I32: =#REF! -> #REF! | J32: =I32/E32*100 -> #REF! | K32: =#REF! -> #REF! | L32: =#REF! -> #REF! | M32: 18.5 | N32: 575 | O32: =M32/N32*100 -> 3.2173913 | P32: Badan Penanggulangan Bencana Daerah
A33: =A32+1 -> 16 | B33: Program Peningkatan dan Pengembangan Pengelolaan Keuangan Daerah | C33: Persentase laporan keuangan SKPD yang sudah terintegrasi dengan SKPKD secara online | D33: 10 | E33: =#REF! -> #REF! | F33: =#REF! -> #REF! | G33: =#REF! -> #REF! | H33: =#REF! -> #REF! | I33: =#REF! -> #REF! | J33: =I33/E33*100 -> #REF! | K33: =#REF! -> #REF! | L33: =#REF! -> #REF! | M33: 85 | N33: 100 | O33: =M33/N33*100 -> 85 | P33: Badan Pengelolaan Keuangan dan Aset Daerah
A34: =A33+1 -> 17 | B34: Program pembinaan dan pengembangan aparatur | C34: Jumlah aparatur SKPD yang mendapatkan sanksi kepegawaian (orang) | D34: 25 | E34: =#REF! -> #REF! | F34: =#REF! -> #REF! | G34: =#REF! -> #REF! | H34: =#REF! -> #REF! | I34: =#REF! -> #REF! | J34: =I34/E34*100 -> #REF! | K34: =#REF! -> #REF! | L34: =#REF! -> #REF! | M34: 9 | N34: 10 | O34: =M34/N34*100 -> 90 | P34: Badan Kepegawaian, Pendidikan dan Pelatihan
C35: Persentase jabatan eselon II yang dilakukan lelang jabatan (persen) | D35: 100 | M35: 75 | N35: 100 | O35: =M35/N35*100 -> 75
A36: =A34+1 -> 18 | B36: Program peningkatan sistem pengawasan internal dan pengen-dalian pelaksanaan kebijakan KDH | C36: Jumlah Temuan LHP (temuan) | D36: 286 | E36: =#REF! -> #REF! | F36: =#REF! -> #REF! | G36: =#REF! -> #REF! | H36: =#REF! -> #REF! | I36: =#REF! -> #REF! | J36: =I36/E36*100 -> #REF! | K36: =#REF! -> #REF! | L36: =#REF! -> #REF! | M36: 272 | N36: 245 | O36: =N36/M36*100 -> 90.073529 | P36: Inspektorat
C37: Persentase Pemeriksaan dengan temuan yang ditindak lanjuti | D37: 87 | M37: 71.69 | N37: 87 | O37: =M37/N37*100 -> 82.402299
A38: 19 | B38: Program Penataan Administrasi Kependudukan | C38: Persentase penduduk yang terlayani dalam bidang kependudukan (persen) | D38: 44.57 | E38: =#REF! -> #REF! | F38: =#REF! -> #REF! | G38: =#REF! -> #REF! | H38: =#REF! -> #REF! | I38: =#REF! -> #REF! | J38: =I38/E38*100 -> #REF! | K38: =#REF! -> #REF! | L38: =#REF! -> #REF! | M38: 91.35 | N38: 90 | O38: =M38/N38*100 -> 101.5 | P38: Dinas Kependudukan dan Pencatatan Sipil
C39: Persentase pelimpahan sebagian kewenangan administrasi kependudukan di kecamatan (KTP, KK, Akte Kelahiran dan Surat Nikah) | D39: 0 | M39: 0 | N39: 100 | Q39: Belim ada pelimpahan ke Kabupaten
A40: 20 | B40: Program pengembangan data dan informasi | C40: Persentase ketersediaan data per SKPD (persen) | D40: 75 | E40: =#REF! -> #REF! | F40: =#REF! -> #REF! | G40: =#REF! -> #REF! | H40: =#REF! -> #REF! | I40: =#REF! -> #REF! | J40: =I40/E40*100 -> #REF! | K40: =#REF! -> #REF! | L40: =#REF! -> #REF! | M40: 51 | N40: 100 | O40: =M40/N40*100 -> 51 | P40: Baplitbang
A41: =+A40+1 -> 21 | B41: Program peningkatan kapasitas kelembagaan perencanaan pembangunan daerah | C41: Persentase SKPD yang mampu menyusun Renstra dengan baik dan benar | D41: 30 | E41: =#REF! -> #REF! | F41: =#REF! -> #REF! | G41: =#REF! -> #REF! | H41: =#REF! -> #REF! | I41: =#REF! -> #REF! | J41: =I41/E41*100 -> #REF! | K41: =#REF! -> #REF! | L41: =#REF! -> #REF! | M41: 68 | N41: 75 | O41: =M41/N41*100 -> 90.666667 | P41: Baplitbang
A42: =+A41+1 -> 22 | B42: Program Penguatan Kelembagaan Organisasi Perangkat Daerah | C42: Persentase SKPD yang tertata Susunan Organisasi Tata Kerja (SOTK) | D42: 100 | E42: =#REF! -> #REF! | F42: =#REF! -> #REF! | G42: =#REF! -> #REF! | H42: =#REF! -> #REF! | I42: =#REF! -> #REF! | J42: =I42/E42*100 -> #REF! | K42: =#REF! -> #REF! | L42: =#REF! -> #REF! | M42: 100 | N42: 100 | O42: =M42/N42*100 -> 100 | P42: Bagian Organisasi, Sekretariat Daerah
A43: =+A42+1 -> 23 | B43: Program Peningkatan Kapasitas Aparatur Pemerintah Desa | C43: Jumlah kampung yang mampu menyusun RPJM-Des, RKP-Des dan APB-Des sesuai peraturan | D43: 56 | E43: =#REF! -> #REF! | F43: =#REF! -> #REF! | G43: =#REF! -> #REF! | H43: =#REF! -> #REF! | I43: =#REF! -> #REF! | J43: =I43/E43*100 -> #REF! | K43: =#REF! -> #REF! | L43: =#REF! -> #REF! | M43: 12 | N43: 100 | O43: =M43/N43*100 -> 12 | P43: Badan Pemberdayaan Masyarakat dan Kampung
A44: =A43+1 -> 24 | B44: Program Pengembangan Lembaga Ekonomi Pedesaan | C44: Jumlah kelompok usaha Ekonomi Produktif masyarakat kampung yang aktif (unit usaha) | D44: 99 | E44: =#REF! -> #REF! | F44: =#REF! -> #REF! | G44: =#REF! -> #REF! | H44: =#REF! -> #REF! | I44: =#REF! -> #REF! | J44: =I44/E44*100 -> #REF! | K44: =#REF! -> #REF! | L44: =#REF! -> #REF! | M44: 110 | N44: 200 | O44: =M44/N44*100 -> 55 | P44: Badan Pemberdayaan Masyarakat dan Kampung
A45: =A44+1 -> 25 | B45: Program Peningkatan Keberdayaan Masyarakat Pedesaan | C45: jumlah LPM berpartisipasi aktif dalam pembangunan | D45: 74 | E45: =#REF! -> #REF! | F45: =#REF! -> #REF! | G45: =#REF! -> #REF! | H45: =#REF! -> #REF! | I45: =#REF! -> #REF! | J45: =I45/E45*100 -> #REF! | K45: =#REF! -> #REF! | L45: =#REF! -> #REF! | M45: 80 | N45: 100 | O45: =M45/N45*100 -> 80 | P45: Badan Pemberdayaan Masyarakat dan Kampung
A46: =A45+1 -> 26 | B46: Program Peningkatan Sarana dan Prasarana Olahraga | C46: Prosentase IKK dengan lapangan Olah Raga yang memadai (%) | D46: 60 | E46: =#REF! -> #REF! | F46: =#REF! -> #REF! | G46: =#REF! -> #REF! | H46: =#REF! -> #REF! | I46: =#REF! -> #REF! | J46: =I46/E46*100 -> #REF! | K46: =#REF! -> #REF! | L46: =#REF! -> #REF! | M46: 60 | N46: 100 | O46: =M46/N46*100 -> 60 | P46: Dinas Kepemudaan dan Olahraga
A47: Bidang Sarana Prasarana
A48: 27 | B48: Program pengembangan kinerja pengelolaan air minum dan air limbah | C48: Kapasitas Produksi Air Bersih(' liter /detik) | D48: 380 | E48: =#REF! -> #REF! | F48: =#REF! -> #REF! | G48: =#REF! -> #REF! | H48: =#REF! -> #REF! | I48: =#REF! -> #REF! | J48: =I48/E48*100 -> #REF! | K48: =#REF! -> #REF! | L48: =#REF! -> #REF! | M48: 295 | N48: 740 | O48: =M48/N48*100 -> 39.864865 | P48: Dinas Pekerjaan Umum dan Penataan Ruang
C49: Rumah tangga pengguna air bersih (Sambungan Rumah) | D49: 48576 | M49: 8984 | N49: 49976 | O49: =M49/N49*100 -> 17.976629
A50: =A48+1 -> 28 | B50: Program Peningkatan jalan dan jembatan | C50: Prosentase Panjang jalan dalam kondisi baik (persen) | D50: 60.44 | E50: =#REF! -> #REF! | F50: =#REF! -> #REF! | G50: =#REF! -> #REF! | H50: =#REF! -> #REF! | I50: =#REF! -> #REF! | J50: =I50/E50*100 -> #REF! | K50: =#REF! -> #REF! | L50: =#REF! -> #REF! | M50: 52.64 | N50: 90 | O50: =M50/N50*100 -> 58.488889 | P50: Dinas Pekerjaan Umum dan Penataan Ruang
A51: =A50+1 -> 29 | B51: Program Pembangunan Jalan Dan Jembatan | C51: Tingkat Mobilisasi /Panjang jalan per luas wilayah (km) | D51: 55 | E51: =#REF! -> #REF! | F51: =#REF! -> #REF! | G51: =#REF! -> #REF! | H51: =#REF! -> #REF! | I51: =#REF! -> #REF! | J51: =I51/E51*100 -> #REF! | K51: =#REF! -> #REF! | L51: =#REF! -> #REF! | M51: 52 | N51: 70 | O51: =M51/N51*100 -> 74.285714 | P51: Dinas Pekerjaan Umum dan Penataan Ruang
A52: =A51+1 -> 30 | B52: Program Pembangunan Saluran Drainase / Gorong-gorong | C52: Persentase drainase/gorong-gorong dalam kondisi baik | D52: 65 | E52: =#REF! -> #REF! | F52: =#REF! -> #REF! | G52: =#REF! -> #REF! | H52: =#REF! -> #REF! | I52: =#REF! -> #REF! | J52: =I52/E52*100 -> #REF! | K52: =#REF! -> #REF! | L52: =#REF! -> #REF! | M52: 73.1 | N52: 80 | O52: =M52/N52*100 -> 91.375 | P52: Dinas Pekerjaan Umum dan Penataan Ruang
A53: =A52+1 -> 31 | B53: Program pengembangan dan pengelolaan jaringan irigasi, rawa dan jaringan pengairan lainnya | C53: Prosentase jaringan irigasi dalam kondisi baik (persen) | D53: 65 | E53: =#REF! -> #REF! | F53: =#REF! -> #REF! | G53: =#REF! -> #REF! | H53: =#REF! -> #REF! | I53: =#REF! -> #REF! | J53: =I53/E53*100 -> #REF! | K53: =#REF! -> #REF! | L53: =#REF! -> #REF! | M53: 77.7 | N53: 85 | O53: =M53/N53*100 -> 91.411765 | P53: Dinas Pekerjaan Umum dan Penataan Ruang
A54: =A53+1 -> 32 | B54: Program pembangunan infrastruktur perdesaaan | C54: Prosentase Panjang jalan desa / kampung yang berkondisi baik/layak (persen) | D54: 68.4 | E54: =#REF! -> #REF! | F54: =#REF! -> #REF! | G54: =#REF! -> #REF! | H54: =#REF! -> #REF! | I54: =#REF! -> #REF! | K54: =#REF! -> #REF! | L54: =#REF! -> #REF! | M54: 81 | N54: 85 | O54: =M54/N54*100 -> 95.294118 | P54: Dinas Pekerjaan Umum dan Penataan Ruang | Q54: Tidak ada perencanaan dan penganggaran untuk Tahun 2017
A55: =A54+1 -> 33 | B55: Program pengembangan perumahan | C55: Prosentase rumah warga dengan kondisi layak huni (persen) | D55: 78 | E55: =#REF! -> #REF! | F55: =#REF! -> #REF! | G55: =#REF! -> #REF! | H55: =#REF! -> #REF! | I55: =#REF! -> #REF! | K55: =#REF! -> #REF! | L55: =#REF! -> #REF! | M55: 86.82 | N55: 86 | O55: =M55/N55*100 -> 100.95349 | P55: Dinas Perumahan dan Kawasan Permukiman | Q55: Tidak direncanakan dalam RPJMD, tetapi ada dalam RKPD dan APBD
A56: =A55+1 -> 34 | B56: Program lingkungan sehat perumahan | C56: Luas wilayah permukiman kumuh (Ha) | D56: 145.54 | E56: =#REF! -> #REF! | F56: =#REF! -> #REF! | G56: =#REF! -> #REF! | H56: =#REF! -> #REF! | I56: =#REF! -> #REF! | J56: =I56/E56*100 -> #REF! | K56: =#REF! -> #REF! | L56: =#REF! -> #REF! | M56: 127.26 | N56: 12.5 | O56: =N56/M56*100 -> 9.8224108 | P56: Dinas Perumahan dan Kawasan Permukiman
A57: =A56+1 -> 35 | B57: Program perencanaan pengembangan kota-kota menengah dan besar | C57: Persentase wilayah permukiman bersanitasi layak | D57: 70 | E57: 0 | F57: 0 | G57: 0 | H57: 0 | I57: 0 | K57: 0 | L57: 0 | M57: 83 | N57: 90 | O57: =M57/N57*100 -> 92.222222 | P57: Dinas Perumahan dan Kawasan Permukiman | Q57: Tidak ada perencanaan dan penganggaran untuk Tahun 2017
A58: =A57+1 -> 36 | B58: Program pembangunan sarana dan prasarana perhubungan | C58: Jumlah penumpang yang menggunakan sarana transportasi umum | D58: 21214 | E58: =#REF! -> #REF! | F58: =#REF! -> #REF! | G58: =#REF! -> #REF! | H58: =#REF! -> #REF! | I58: =#REF! -> #REF! | K58: =#REF! -> #REF! | L58: =#REF! -> #REF! | M58: 21851 | N58: 25000 | O58: =M58/N58*100 -> 87.404 | P58: Dinas Perhubungan | Q58: Tidak direncanakan dalam RPJMD dan RKPD, tetapi ada dalam APBD
A59: =A58+1 -> 37 | B59: Program pembangunan prasarana dan fasilitas perhubungan | C59: Kapasitas terminal angkutan umum (Unit) | D59: 20 | E59: =#REF! -> #REF! | F59: =#REF! -> #REF! | G59: =#REF! -> #REF! | H59: =#REF! -> #REF! | I59: =#REF! -> #REF! | J59: =I59/E59*100 -> #REF! | K59: =#REF! -> #REF! | L59: =#REF! -> #REF! | M59: 20 | N59: 25 | O59: =M59/N59*100 -> 80 | P59: Dinas Perhubungan
C60: Jumlah Pelabuhan / Dermaga Pendukung Sektor Wisata & Perekonomian (Unit) | D60: 60 | M60: 61 | N60: 70 | O60: =M60/N60*100 -> 87.142857
A61: =A59+1 -> 38 | B61: Program peningkatan pelayanan angkutan | C61: Frekuensi angkutan umum yang mengakses obyek wisata (Unit) | D61: 10 | E61: =#REF! -> #REF! | F61: =#REF! -> #REF! | G61: =#REF! -> #REF! | H61: =#REF! -> #REF! | I61: =#REF! -> #REF! | J61: =I61/E61*100 -> #REF! | K61: =#REF! -> #REF! | L61: =#REF! -> #REF! | M61: 11 | N61: 15 | O61: =M61/N61*100 -> 73.333333 | P61: Dinas Perhubungan
A62: =A61+1 -> 39 | B62: Program Pengembangan Komunikasi, Informasi dan Media Massa | C62: Prosentase Kampung yang sudah terkoneksi Jaringan Internet | D62: 60 | E62: =#REF! -> #REF! | F62: =#REF! -> #REF! | G62: =#REF! -> #REF! | H62: =#REF! -> #REF! | I62: =#REF! -> #REF! | K62: =#REF! -> #REF! | L62: =#REF! -> #REF! | M62: 66 | N62: 97 | O62: =M62/N62*100 -> 68.041237 | P62: Dinas Komunikasi dan Informatika | Q62: Tidak direncanakan dalam RPJMD, tetapi ada dalam RKPD dan APBD
A63: Bidang Ekonomi
A64: =A62+1 -> 40 | B64: Program pengembangan kinerja pengelolaan persampahan | C64: Prosentase Cakupan pelayanan/ Prosentase Volume sampah yang tertangani (persen) | D64: 54 | E64: =#REF! -> #REF! | F64: =#REF! -> #REF! | G64: =#REF! -> #REF! | H64: =#REF! -> #REF! | I64: =#REF! -> #REF! | J64: =I64/E64*100 -> #REF! | K64: =#REF! -> #REF! | L64: =#REF! -> #REF! | M64: 85 | N64: 80 | O64: =M64/N64*100 -> 106.25 | P64: Dinas Lingkungan Hidup dan Kebersihan
C65: Jumlah Unit TPS 3R (Unit) | D65: 2 | M65: 1 | N65: 6 | O65: =M65/N65*100 -> 16.666667
C66: Prosentase Berkurangnya volume sampah (Persen) | D66: 7 | M66: 10 | N66: 20 | O66: =M66/N66*100 -> 50
C67: Jumlah Unit TPA yang terbangun sesuai standar (unit) | D67: 0 | M67: 0 | N67: 1 | O67: =M67/N67*100 -> 0
A68: =A64+1 -> 41 | B68: Program pengelolaan ruang terbuka hijau (RTH) | C68: Prosentase Luas RTH (persen) | D68: 15 | E68: =#REF! -> #REF! | F68: =#REF! -> #REF! | G68: =#REF! -> #REF! | H68: =#REF! -> #REF! | I68: =#REF! -> #REF! | J68: =I68/E68*100 -> #REF! | K68: =#REF! -> #REF! | L68: =#REF! -> #REF! | M68: 10 | N68: 30 | O68: =M68/N68*100 -> 33.333333 | P68: Dinas Lingkungan Hidup dan Kebersihan | Q68: Terkendala penyediaan lokasi
A69: =A68+1 -> 42 | B69: Program pengendalian pencemaran dan perusakan lingkugan hidup | C69: Indeks Pencemaran Air (IP) | D69: < 5 | E69: =#REF! -> #REF! | F69: =#REF! -> #REF! | G69: =#REF! -> #REF! | H69: =#REF! -> #REF! | I69: =#REF! -> #REF! | J69: =I69/E69*100 -> #REF! | K69: =#REF! -> #REF! | L69: =#REF! -> #REF! | M69: 4.44 | N69: < 5 | O69: 100 | P69: Dinas Lingkungan Hidup dan Kebersihan
A70: =A69+1 -> 43 | B70: Program perlindungan dan konservasi sumber daya alam | C70: Jumlah tahun mendapatkan adipura | D70: 1 | E70: =#REF! -> #REF! | F70: =#REF! -> #REF! | G70: =#REF! -> #REF! | H70: =#REF! -> #REF! | I70: =#REF! -> #REF! | J70: =I70/E70*100 -> #REF! | K70: =#REF! -> #REF! | L70: =#REF! -> #REF! | M70: 0 | N70: 5 | O70: 0 | P70: Dinas Lingkungan Hidup dan Kebersihan
C71: Jumlah lokasi ekowisata pada kawasan karst (lokasi) | D71: 1 | M71: 1 | N71: 1 | O71: =M71/N71*100 -> 100
C72: Luas kawasan Karst yang dilindungi (ha) | D72: 13300 | M72: 13300 | N72: 13300 | O72: =M72/N72*100 -> 100
C73: Luas kawasan konservasi (ha) | D73: 14118 | M73: 14118 | N73: 14118 | O73: =M73/N73*100 -> 100
C74: Luas Hutan dan lahan yang direhabilitasi (KBNK) | D74: 1200 | M74: 0 | N74: 5200 | O74: =M74/N74*100 -> 0 | Q74: Tidak ada lokasi yang tidak dibebani hak
A75: =A70+1 -> 44 | B75: Program Peningkatan Pengendalian Polusi | C75: Jumlah kasus pencemaran akibat gas buang kendaraan | D75: 0 | E75: 0 | F75: 0 | G75: 0 | H75: 0 | I75: 0 | K75: 0 | L75: 0 | M75: 0 | N75: 0 | O75: 100 | P75: Dinas Lingkungan Hidup dan Kebersihan | Q75: Tidak ada perencanaan dan penganggaran untuk Tahun 2017
C76: Jumlah kasus pencemaran akibat gas buang industri | D76: 0 | M76: 0 | N76: 0 | O76: 100
A77: =A75+1 -> 45 | B77: Program peningkatan kualitas dan akses informasi sumber daya alam dan lingkungan | C77: Jumlah kasus kerusakan lingkungan hidup yang ditemukan dan diproses sesuai peraturan perundangan yang berlaku | D77: 0 | E77: =#REF! -> #REF! | F77: =#REF! -> #REF! | G77: =#REF! -> #REF! | H77: =#REF! -> #REF! | I77: =#REF! -> #REF! | J77: =I77/E77*100 -> #REF! | K77: =#REF! -> #REF! | L77: =#REF! -> #REF! | M77: 15 | N77: 0 | O77: 85 | P77: Dinas Lingkungan Hidup dan Kebersihan
A78: =A77+1 -> 46 | B78: Program inventarisasi emisi GRK | C78: Luas tutupan lahan (ha) | D78: 1720551 | E78: 0 | F78: 0 | G78: 0 | H78: 0 | I78: 0 | K78: 0 | L78: 0 | M78: 1647395 | N78: 1720551 | O78: =M78/N78*100 -> 95.748106 | Q78: Tidak ada perencanaan dan penganggaran untuk Tahun 2017
A79: =A78+1 -> 47 | B79: Program peningkatan kualitas dan produktivitas tenaga kerja | C79: Persentase tenaga kerja yang terserap dan cakupan peserta pelatihan yang difasilitasi bimbingan lanjut (persen) | D79: 35.29 | E79: =#REF! -> #REF! | F79: =#REF! -> #REF! | G79: =#REF! -> #REF! | H79: =#REF! -> #REF! | I79: =#REF! -> #REF! | J79: =I79/E79*100 -> #REF! | K79: =#REF! -> #REF! | L79: =#REF! -> #REF! | M79: 85 | N79: 65 | O79: =M79/N79*100 -> 130.76923 | P79: Dinas Tenaga Kerja dan Transmigrasi
A80: =A79+1 -> 48 | B80: Program peningkatan kesempatan kerja | C80: Persentase tenaga kerja lokal yang terserap di pasar kerja (persen) | D80: 45 | E80: =#REF! -> #REF! | F80: =#REF! -> #REF! | G80: =#REF! -> #REF! | H80: =#REF! -> #REF! | I80: =#REF! -> #REF! | J80: =I80/E80*100 -> #REF! | K80: =#REF! -> #REF! | L80: =#REF! -> #REF! | M80: 35 | N80: 70 | O80: =M80/N80*100 -> 50 | P80: Dinas Tenaga Kerja dan Transmigrasi
C81: Persentase pencari kerja yang ditempatkan (persen) | D81: 65 | M81: 26 | N81: 80 | O81: =M81/N81*100 -> 32.5
A82: =A80+1 -> 49 | B82: Program Perlindungan dan Pengembangan Lembaga Ketenagakerjaan | C82: Jumlah Besaran UMK (juta rupiah) | D82: 2315000 | E82: =#REF! -> #REF! | F82: =#REF! -> #REF! | G82: =#REF! -> #REF! | H82: =#REF! -> #REF! | I82: =#REF! -> #REF! | J82: =I82/E82*100 -> #REF! | K82: =#REF! -> #REF! | L82: =#REF! -> #REF! | M82: 2657537 | N82: 3242300 | O82: =M82/N82*100 -> 81.964562 | P82: Dinas Tenaga Kerja dan Transmigrasi
A83: =A82+1 -> 50 | B83: Program pengembangan wilayah transmigrasi | C83: Jumlah petani transmigran (KK) | D83: 20 | E83: 0 | F83: 0 | G83: 0 | H83: 0 | I83: 0 | K83: 0 | L83: 0 | N83: 100 | O83: =M83/N83*100 -> 0 | P83: Dinas Tenaga Kerja dan Transmigrasi | Q83: Tidak ada perencanaan dan penganggaran untuk Tahun 2017 (Kewenangan Provinsi)
A84: =A83+1 -> 51 | B84: Program Pembinaan dan Pengem-bangan Bidang ketenagalistrikan | C84: Jumlah kampung yang teraliri listrik bersumber dari energi terbarukan | D84: 50 | E84: =#REF! -> #REF! | F84: =#REF! -> #REF! | G84: =#REF! -> #REF! | H84: =#REF! -> #REF! | I84: =#REF! -> #REF! | K84: =#REF! -> #REF! | L84: =#REF! -> #REF! | M84: 84 | N84: 80 | O84: =M84/N84*100 -> 105 | P84: Dinas Pekerjaan Umum dan Penataan Ruang | Q84: Tidak direncanakan dalam RPJMD, tetapi ada dalam RKPD dan APBD
A85: =A84+1 -> 52 | B85: Program Operasional dan Pemeliharaan Ketenagalistrikan | C85: Panjang jalan yang menggunakan PJUdistem SSL (Km) | D85: 268.3 | E85: =#REF! -> #REF! | F85: =#REF! -> #REF! | G85: =#REF! -> #REF! | H85: =#REF! -> #REF! | I85: =#REF! -> #REF! | J85: =I85/E85*100 -> #REF! | K85: =#REF! -> #REF! | L85: =#REF! -> #REF! | M85: 268.3 | N85: 273.5 | O85: =M85/N85*100 -> 98.09872 | P85: Dinas Perhubungan
A86: =A85+1 -> 53 | B86: Program penciptaan iklim usaha kecil menengah yang kondusif | C86: Jumlah UMKM yang dibina (UMKM) | D86: 260 | E86: =#REF! -> #REF! | F86: =#REF! -> #REF! | G86: =#REF! -> #REF! | H86: =#REF! -> #REF! | I86: =#REF! -> #REF! | J86: =I86/E86*100 -> #REF! | K86: =#REF! -> #REF! | L86: =#REF! -> #REF! | M86: 257 | N86: 340 | O86: =M86/N86*100 -> 75.588235 | P86: Diskoperindag
A87: =A86+1 -> 54 | B87: Program pengembangan industri kecil dan menengah | C87: jumlah IKM yang di kembangkan (IKM) | D87: 99 | E87: =#REF! -> #REF! | F87: =#REF! -> #REF! | G87: =#REF! -> #REF! | H87: =#REF! -> #REF! | I87: =#REF! -> #REF! | J87: =I87/E87*100 -> #REF! | K87: =#REF! -> #REF! | L87: =#REF! -> #REF! | M87: 148 | N87: 166 | O87: =M87/N87*100 -> 89.156627 | P87: Diskoperindag
A88: =A87+1 -> 55 | B88: Program Peningkatan Kualitas Kelembagaan Koperasi | C88: Jumlah Koperasi Aktif yang Berkualitas (koperasi) | D88: 37 | E88: =#REF! -> #REF! | F88: =#REF! -> #REF! | G88: =#REF! -> #REF! | H88: =#REF! -> #REF! | I88: =#REF! -> #REF! | J88: =I88/E88*100 -> #REF! | K88: =#REF! -> #REF! | L88: =#REF! -> #REF! | M88: 57 | N88: 49 | O88: =M88/N88*100 -> 116.32653 | P88: Diskoperindag
A89: =A88+1 -> 56 | B89: Program peningkatan efisiensi perdagangan dalam negeri | C89: Persentase Pemenuhan Kebutuhan Pokok Masyarakat (persen) | D89: 185 | E89: =#REF! -> #REF! | F89: =#REF! -> #REF! | G89: =#REF! -> #REF! | H89: =#REF! -> #REF! | I89: =#REF! -> #REF! | J89: =I89/E89*100 -> #REF! | K89: =#REF! -> #REF! | L89: =#REF! -> #REF! | M89: 48 | N89: 199 | O89: =M89/N89*100 -> 24.120603 | P89: Diskoperindag
A90: =A89+1 -> 57 | B90: Program pengembangan sistem pendukung usaha bagi usaha mikro kecil menengah | C90: Jumlah produk UMKM yang dipromosikan (produk) | D90: 15 | E90: =#REF! -> #REF! | F90: =#REF! -> #REF! | G90: =#REF! -> #REF! | H90: =#REF! -> #REF! | I90: =#REF! -> #REF! | K90: =#REF! -> #REF! | L90: =#REF! -> #REF! | M90: 15 | N90: 33 | O90: =M90/N90*100 -> 45.454545 | P90: Diskoperindag
A91: =A90+1 -> 58 | B91: Program Peningkatan Kemampuan Teknologi industri | C91: Jumlah IKM yang menggunkan teknologi industri (IKM) | D91: 34 | E91: =#REF! -> #REF! | F91: =#REF! -> #REF! | G91: =#REF! -> #REF! | H91: =#REF! -> #REF! | I91: =#REF! -> #REF! | J91: =I91/E91*100 -> #REF! | K91: =#REF! -> #REF! | L91: =#REF! -> #REF! | M91: 40 | N91: 50 | O91: =M91/N91*100 -> 80 | P91: Diskoperindag
A92: =A91+1 -> 59 | B92: Program peningkatan dan pengembangan ekspor | C92: Jumlah Ekspor Non Migas (juta US$) | D92: 1105 | E92: =#REF! -> #REF! | F92: =#REF! -> #REF! | G92: =#REF! -> #REF! | H92: =#REF! -> #REF! | I92: =#REF! -> #REF! | J92: =I92/E92*100 -> #REF! | K92: =#REF! -> #REF! | L92: =#REF! -> #REF! | M92: 1616 | N92: 1150 | O92: =M92/N92*100 -> 140.52174 | P92: Diskoperindag
A93: =A92+1 -> 60 | B93: Program peningkatan iklim investasi dan realisasi investasi | C93: Nilai realisasi PMDN dan PMA (milyar rupiah) | D93: 1.915 | E93: =#REF! -> #REF! | F93: =#REF! -> #REF! | G93: =#REF! -> #REF! | H93: =#REF! -> #REF! | I93: =#REF! -> #REF! | J93: =I93/E93*100 -> #REF! | K93: =#REF! -> #REF! | L93: =#REF! -> #REF! | M93: 3528 | N93: 1.993 | O93: =M93/N93*100 -> 177019.57 | P93: Dinas Penanaman Modal dan PTSP
A94: =A93+1 -> 61 | B94: Program peningkatan promosi dan kerjasama investasi | C94: Jumlah investor berskala nasional (PMDN / PMA) yang berinvestasi (investor) | D94: 1 | E94: =#REF! -> #REF! | F94: =#REF! -> #REF! | G94: =#REF! -> #REF! | H94: =#REF! -> #REF! | I94: =#REF! -> #REF! | J94: =I94/E94*100 -> #REF! | K94: =#REF! -> #REF! | L94: =#REF! -> #REF! | M94: 4 | N94: 5 | O94: =M94/N94*100 -> 80 | P94: Dinas Penanaman Modal dan PTSP
A95: =A94+1 -> 62 | B95: Program Peningkatan Ketahanan Pangan (Pertanian/Perkebunan) | C95: Jumlah produksi padi (Ton/Tahun) | D95: 40061 | E95: =#REF! -> #REF! | F95: =#REF! -> #REF! | G95: =#REF! -> #REF! | H95: =#REF! -> #REF! | I95: =#REF! -> #REF! | J95: =I95/E95*100 -> #REF! | K95: =#REF! -> #REF! | L95: =#REF! -> #REF! | M95: 31711.61 | N95: 51048 | O95: =M95/N95*100 -> 62.12116 | P95: Dinas Pertanian dan Peternakan | Q95: ada bantuan APBN berupa benih, pupuk, pestisida
C96: Jumlah produksi jagung (Ton/Tahun) | D96: 6760 | M96: 32822.75 | N96: 9500 | O96: =M96/N96*100 -> 345.50263
C97: Jumlah produksi Kedelai (Ton/Tahun) | D97: 1480 | M97: 430.92 | N97: 2200 | O97: =M97/N97*100 -> 19.587273
C98: Ketersediaan Energi (KKal/Kapita/Hari) | D98: 2300 | E98: =#REF! -> #REF! | F98: =#REF! -> #REF! | G98: =#REF! -> #REF! | H98: =#REF! -> #REF! | I98: =#REF! -> #REF! | J98: =I98/E98*100 -> #REF! | K98: =#REF! -> #REF! | L98: =#REF! -> #REF! | M98: 2202 | N98: 2400 | O98: =M98/N98*100 -> 91.75 | P98: Dinas Pangan
A99: =A95+1 -> 63 | B99: Program Pembinaan Perkebunan Ramah Lingkungan | C99: Jumlah pelaku usaha yang menerapkan prinsip ramah lingkungan | D99: 3 | E99: =#REF! -> #REF! | F99: =#REF! -> #REF! | G99: =#REF! -> #REF! | H99: =#REF! -> #REF! | I99: =#REF! -> #REF! | J99: =I99/E99*100 -> #REF! | K99: =#REF! -> #REF! | L99: =#REF! -> #REF! | M99: 7 | N99: 10 | O99: =M99/N99*100 -> 70 | P99: Dinas Perkebunan
A100: =A99+1 -> 64 | B100: Program Peningkatan Mutu Hasil Perkebunan | C100: Jumlah Sertifikasi Produk Hasil Perkebunan yang sesuai Good Manufacture Product (sertifikasi) | D100: 3 | E100: =#REF! -> #REF! | F100: =#REF! -> #REF! | G100: =#REF! -> #REF! | H100: =#REF! -> #REF! | I100: =#REF! -> #REF! | J100: =I100/E100*100 -> #REF! | K100: =#REF! -> #REF! | L100: =#REF! -> #REF! | M100: 0 | N100: 15 | O100: =M100/N100*100 -> 0 | P100: Dinas Perkebunan
A101: =A100+1 -> 65 | B101: Program Peningkatan Produksi Hasil Peternakan | C101: Jumlah Produksi Daging (Ton) | D101: 16354 | E101: =#REF! -> #REF! | F101: =#REF! -> #REF! | G101: =#REF! -> #REF! | H101: =#REF! -> #REF! | I101: =#REF! -> #REF! | J101: =I101/E101*100 -> #REF! | K101: =#REF! -> #REF! | L101: =#REF! -> #REF! | M101: 2836.37 | N101: 30680 | O101: =M101/N101*100 -> 9.245013 | P101: Dinas Pertanian dan Peternakan
...

Sheet SDM vs Jak (L8)
A1: Lampiran 8
A2: Rekapitulasi Kegiatan Peningkatan SDM dan Penyusunan Regulasi di Kabupaten Berau
A3: Tahun 2017
A5: No. | B5: OPD | C5: Program | D5: Peningkatan SDM | H5: Penyusunan Kebijakan
D6: Pagu | F6: Realisasi | H6: Pagu | J6: Realisasi
D7: RKPD | E7: APBD | F7: RKPD | G7: APBD | H7: RKPD | I7: APBD | J7: RKPD | K7: APBD
B8: =#REF! -> #REF! | C8: =#REF! -> #REF! | D8: =#REF! -> #REF! | E8: =#REF! -> #REF! | F8: =#REF! -> #REF! | G8: =#REF! -> #REF!
C9: =#REF! -> #REF! | D9: =#REF! -> #REF! | E9: =#REF! -> #REF! | F9: =#REF! -> #REF! | G9: =#REF! -> #REF!
C10: =#REF! -> #REF! | D10: =#REF! -> #REF! | E10: =#REF! -> #REF! | F10: =#REF! -> #REF! | G10: =#REF! -> #REF!
C11: =#REF! -> #REF! | D11: =#REF! -> #REF! | E11: =#REF! -> #REF! | F11: =#REF! -> #REF! | G11: =#REF! -> #REF!
B12: =#REF! -> #REF! | C12: =#REF! -> #REF! | D12: =#REF! -> #REF! | E12: =#REF! -> #REF! | F12: =#REF! -> #REF! | G12: =#REF! -> #REF!
C13: =#REF! -> #REF! | D13: =#REF! -> #REF! | E13: =#REF! -> #REF!
C14: =#REF! -> #REF! | D14: =#REF! -> #REF! | E14: =#REF! -> #REF! | F14: =#REF! -> #REF! | G14: =#REF! -> #REF!
C15: =#REF! -> #REF! | D15: =#REF! -> #REF! | E15: =#REF! -> #REF! | F15: =#REF! -> #REF! | G15: =#REF! -> #REF!
C16: =#REF! -> #REF! | D16: =#REF! -> #REF! | E16: =#REF! -> #REF! | F16: =#REF! -> #REF! | G16: =#REF! -> #REF!
C17: =#REF! -> #REF! | D17: =#REF! -> #REF! | E17: =#REF! -> #REF!
B18: =#REF! -> #REF! | C18: =#REF! -> #REF! | D18: =#REF! -> #REF! | E18: =#REF! -> #REF! | F18: =#REF! -> #REF! | G18: =#REF! -> #REF!
B19: =#REF! -> #REF! | C19: =#REF! -> #REF! | D19: =#REF! -> #REF! | E19: =#REF! -> #REF!
C20: =#REF! -> #REF! | D20: =#REF! -> #REF! | E20: =#REF! -> #REF! | F20: =#REF! -> #REF! | G20: =#REF! -> #REF!
B21: =#REF! -> #REF! | C21: =#REF! -> #REF! | D21: =#REF! -> #REF! | E21: =#REF! -> #REF! | F21: =#REF! -> #REF! | G21: =#REF! -> #REF!
C22: =#REF! -> #REF! | H22: =#REF! -> #REF! | I22: =#REF! -> #REF! | J22: =#REF! -> #REF! | K22: =#REF! -> #REF!
C23: =#REF! -> #REF! | H23: =#REF! -> #REF! | I23: =#REF! -> #REF! | J23: =#REF! -> #REF! | K23: =#REF! -> #REF!
B24: =#REF! -> #REF! | C24: =#REF! -> #REF! | D24: =#REF! -> #REF! | E24: =#REF! -> #REF! | F24: =#REF! -> #REF! | G24: =#REF! -> #REF!
C25: =#REF! -> #REF! | D25: =#REF! -> #REF! | E25: =#REF! -> #REF! | F25: =#REF! -> #REF! | G25: =#REF! -> #REF!
C26: =#REF! -> #REF! | D26: =#REF! -> #REF! | E26: =#REF! -> #REF! | F26: =#REF! -> #REF! | G26: =#REF! -> #REF!
C27: =#REF! -> #REF! | D27: =#REF! -> #REF! | E27: =#REF! -> #REF! | F27: =#REF! -> #REF! | G27: =#REF! -> #REF!
B28: =#REF! -> #REF! | C28: =#REF! -> #REF! | D28: =#REF! -> #REF! | E28: =#REF! -> #REF! | F28: =#REF! -> #REF! | G28: =#REF! -> #REF!
C29: =#REF! -> #REF! | D29: =#REF! -> #REF! | E29: =#REF! -> #REF! | F29: =#REF! -> #REF! | G29: =#REF! -> #REF!
C30: =#REF! -> #REF! | D30: =#REF! -> #REF! | E30: =#REF! -> #REF! | F30: =#REF! -> #REF! | G30: =#REF! -> #REF!
B31: =#REF! -> #REF! | C31: =#REF! -> #REF! | D31: =#REF! -> #REF! | E31: =#REF! -> #REF!
C32: =#REF! -> #REF! | D32: =#REF! -> #REF! | E32: =#REF! -> #REF!
C33: =#REF! -> #REF! | D33: =#REF! -> #REF! | E33: =#REF! -> #REF! | F33: =#REF! -> #REF! | G33: =#REF! -> #REF!
C34: =#REF! -> #REF! | D34: =#REF! -> #REF! | E34: =#REF! -> #REF!
C35: =#REF! -> #REF! | D35: =#REF! -> #REF! | E35: =#REF! -> #REF! | F35: =#REF! -> #REF! | G35: =#REF! -> #REF!
C36: =#REF! -> #REF! | D36: =#REF! -> #REF! | E36: =#REF! -> #REF!
C37: =#REF! -> #REF! | D37: =#REF! -> #REF! | E37: =#REF! -> #REF! | F37: =#REF! -> #REF! | G37: =#REF! -> #REF!
B38: =#REF! -> #REF! | C38: =#REF! -> #REF! | D38: =#REF! -> #REF! | E38: =#REF! -> #REF! | F38: =#REF! -> #REF! | G38: =#REF! -> #REF!
B39: =#REF! -> #REF! | C39: =#REF! -> #REF! | D39: =#REF! -> #REF! | E39: =#REF! -> #REF!
C40: =#REF! -> #REF! | D40: =#REF! -> #REF! | E40: =#REF! -> #REF!
C41: =#REF! -> #REF! | D41: =#REF! -> #REF! | E41: =#REF! -> #REF!
C42: =#REF! -> #REF! | D42: =#REF! -> #REF! | E42: =#REF! -> #REF!
C43: =#REF! -> #REF! | D43: =#REF! -> #REF! | E43: =#REF! -> #REF!
C44: =#REF! -> #REF! | D44: =#REF! -> #REF! | E44: =#REF! -> #REF!
C45: =#REF! -> #REF! | D45: =#REF! -> #REF! | E45: =#REF! -> #REF!
B46: =#REF! -> #REF! | C46: =#REF! -> #REF! | D46: =#REF! -> #REF! | E46: =#REF! -> #REF! | F46: =#REF! -> #REF! | G46: =#REF! -> #REF!
C47: =#REF! -> #REF! | D47: =#REF! -> #REF! | E47: =#REF! -> #REF! | F47: =#REF! -> #REF! | G47: =#REF! -> #REF!
C48: =#REF! -> #REF! | D48: =#REF! -> #REF! | E48: =#REF! -> #REF! | F48: =#REF! -> #REF! | G48: =#REF! -> #REF!
B49: =#REF! -> #REF! | C49: =#REF! -> #REF! | D49: =#REF! -> #REF! | E49: =#REF! -> #REF! | F49: =#REF! -> #REF! | G49: =#REF! -> #REF!
B50: =#REF! -> #REF! | C50: =#REF! -> #REF! | D50: =#REF! -> #REF! | E50: =#REF! -> #REF! | F50: =#REF! -> #REF! | G50: =#REF! -> #REF!
B51: =#REF! -> #REF! | C51: =#REF! -> #REF! | D51: =#REF! -> #REF! | E51: =#REF! -> #REF!
C52: =#REF! -> #REF! | D52: =#REF! -> #REF! | E52: =#REF! -> #REF!
C53: =#REF! -> #REF! | D53: =#REF! -> #REF! | E53: =#REF! -> #REF!
C54: =#REF! -> #REF! | D54: =#REF! -> #REF! | E54: =#REF! -> #REF! | F54: =#REF! -> #REF! | G54: =#REF! -> #REF!
B55: =#REF! -> #REF! | C55: =#REF! -> #REF! | D55: =#REF! -> #REF! | E55: =#REF! -> #REF! | F55: =#REF! -> #REF! | G55: =#REF! -> #REF!
C56: =#REF! -> #REF! | D56: =#REF! -> #REF! | E56: =#REF! -> #REF! | F56: =#REF! -> #REF! | G56: =#REF! -> #REF!
B57: =#REF! -> #REF! | C57: =#REF! -> #REF! | D57: =#REF! -> #REF! | E57: =#REF! -> #REF! | F57: =#REF! -> #REF! | G57: =#REF! -> #REF!
C58: =#REF! -> #REF! | D58: =#REF! -> #REF! | E58: =#REF! -> #REF! | F58: =#REF! -> #REF! | G58: =#REF! -> #REF!
C59: =#REF! -> #REF! | H59: =#REF! -> #REF! | I59: =#REF! -> #REF! | J59: =#REF! -> #REF! | K59: =#REF! -> #REF!
C60: =#REF! -> #REF! | D60: =#REF! -> #REF! | E60: =#REF! -> #REF! | F60: =#REF! -> #REF! | G60: =#REF! -> #REF!
C61: =#REF! -> #REF! | D61: =#REF! -> #REF! | E61: =#REF! -> #REF! | F61: =#REF! -> #REF! | G61: =#REF! -> #REF!
C62: =#REF! -> #REF! | D62: =#REF! -> #REF! | E62: =#REF! -> #REF! | F62: =#REF! -> #REF! | G62: =#REF! -> #REF!
B63: =#REF! -> #REF! | C63: =#REF! -> #REF! | D63: =#REF! -> #REF! | E63: =#REF! -> #REF!
C64: =#REF! -> #REF! | D64: =#REF! -> #REF! | E64: =#REF! -> #REF!
B65: =#REF! -> #REF! | C65: =#REF! -> #REF! | D65: =#REF! -> #REF! | E65: =#REF! -> #REF!
C66: =#REF! -> #REF! | D66: =#REF! -> #REF! | E66: =#REF! -> #REF! | F66: =#REF! -> #REF! | G66: =#REF! -> #REF!
C67: =#REF! -> #REF! | D67: =#REF! -> #REF! | E67: =#REF! -> #REF! | F67: =#REF! -> #REF! | G67: =#REF! -> #REF!
C68: =#REF! -> #REF! | H68: =#REF! -> #REF! | I68: =#REF! -> #REF!
C69: =#REF! -> #REF! | D69: =#REF! -> #REF! | E69: =#REF! -> #REF! | F69: =#REF! -> #REF! | G69: =#REF! -> #REF!
B70: =#REF! -> #REF! | C70: =#REF! -> #REF! | D70: =#REF! -> #REF! | E70: =#REF! -> #REF!
B71: =#REF! -> #REF!
B72: =#REF! -> #REF! | C72: =#REF! -> #REF! | D72: =#REF! -> #REF! | E72: =#REF! -> #REF! | F72: =#REF! -> #REF! | G72: =#REF! -> #REF!
C73: =#REF! -> #REF! | D73: =#REF! -> #REF! | E73: =#REF! -> #REF! | F73: =#REF! -> #REF! | G73: =#REF! -> #REF!
B74: =#REF! -> #REF! | C74: =#REF! -> #REF! | D74: =#REF! -> #REF! | E74: =#REF! -> #REF! | F74: =#REF! -> #REF! | G74: =#REF! -> #REF!
C75: =#REF! -> #REF! | D75: =#REF! -> #REF! | E75: =#REF! -> #REF! | F75: =#REF! -> #REF! | G75: =#REF! -> #REF!
C76: =#REF! -> #REF! | D76: =#REF! -> #REF! | E76: =#REF! -> #REF!
C77: =#REF! -> #REF! | D77: =#REF! -> #REF! | E77: =#REF! -> #REF!
C78: =#REF! -> #REF! | D78: =#REF! -> #REF! | E78: =#REF! -> #REF! | F78: =#REF! -> #REF! | G78: =#REF! -> #REF!
B79: =#REF! -> #REF! | C79: =#REF! -> #REF! | D79: =#REF! -> #REF! | E79: =#REF! -> #REF! | F79: =#REF! -> #REF! | G79: =#REF! -> #REF!
C80: =#REF! -> #REF! | D80: =#REF! -> #REF! | E80: =#REF! -> #REF! | F80: =#REF! -> #REF! | G80: =#REF! -> #REF!
B81: =#REF! -> #REF!
B82: =#REF! -> #REF! | C82: =#REF! -> #REF! | D82: =#REF! -> #REF! | E82: =#REF! -> #REF! | F82: =#REF! -> #REF! | G82: =#REF! -> #REF!
C83: =#REF! -> #REF! | D83: =#REF! -> #REF! | E83: =#REF! -> #REF! | F83: =#REF! -> #REF! | G83: =#REF! -> #REF!
C84: =#REF! -> #REF! | D84: =#REF! -> #REF! | E84: =#REF! -> #REF! | F84: =#REF! -> #REF! | G84: =#REF! -> #REF!
C85: =#REF! -> #REF! | D85: =#REF! -> #REF! | E85: =#REF! -> #REF! | F85: =#REF! -> #REF! | G85: =#REF! -> #REF!
C86: =#REF! -> #REF! | D86: =#REF! -> #REF! | E86: =#REF! -> #REF! | F86: =#REF! -> #REF! | G86: =#REF! -> #REF!
B87: =#REF! -> #REF! | C87: =#REF! -> #REF! | D87: =#REF! -> #REF! | E87: =#REF! -> #REF!
C88: =#REF! -> #REF! | D88: =#REF! -> #REF! | E88: =#REF! -> #REF!
C89: =#REF! -> #REF! | D89: =#REF! -> #REF! | E89: =#REF! -> #REF! | F89: =#REF! -> #REF! | G89: =#REF! -> #REF!
B90: Kecamatan | C90: =#REF! -> #REF! | D90: =#REF!+#REF! -> #REF! | E90: =#REF!+#REF! -> #REF!
B91: =#REF! -> #REF! | C91: =#REF! -> #REF! | D91: =#REF! -> #REF! | E91: =#REF! -> #REF! | F91: =#REF! -> #REF! | G91: =#REF! -> #REF!
B92: =#REF! -> #REF! | C92: =#REF! -> #REF! | D92: =#REF! -> #REF! | E92: =#REF! -> #REF! | F92: =#REF! -> #REF! | G92: =#REF! -> #REF!
B93: =#REF! -> #REF! | C93: =#REF! -> #REF! | D93: =#REF! -> #REF! | E93: =#REF! -> #REF! | F93: =#REF! -> #REF! | G93: =#REF! -> #REF!
C94: =#REF! -> #REF! | D94: =#REF! -> #REF! | E94: =#REF! -> #REF! | F94: =#REF! -> #REF! | G94: =#REF! -> #REF!
C95: =#REF! -> #REF! | H95: =#REF! -> #REF! | I95: =#REF! -> #REF! | J95: =#REF! -> #REF! | K95: =#REF! -> #REF!
B96: =#REF! -> #REF! | C96: =#REF! -> #REF! | H96: =#REF! -> #REF! | I96: =#REF! -> #REF! | J96: =#REF! -> #REF! | K96: =#REF! -> #REF!
C97: =#REF! -> #REF! | H97: =#REF! -> #REF! | I97: =#REF! -> #REF! | J97: =#REF! -> #REF! | K97: =#REF! -> #REF!
C98: =#REF! -> #REF! | H98: =#REF! -> #REF! | I98: =#REF! -> #REF! | J98: =#REF! -> #REF! | K98: =#REF! -> #REF!
C99: =#REF! -> #REF! | H99: =#REF! -> #REF! | I99: =#REF! -> #REF! | J99: =#REF! -> #REF! | K99: =#REF! -> #REF!
C100: =#REF! -> #REF! | H100: =#REF! -> #REF! | I100: =#REF! -> #REF! | J100: =#REF! -> #REF! | K100: =#REF! -> #REF!
C101: =#REF! -> #REF! | H101: =#REF! -> #REF! | I101: =#REF! -> #REF! | J101: =#REF! -> #REF! | K101: =#REF! -> #REF!
...

Sheet Sheet2 (1)
G7: RKPD - RPJMD | H7: APBD - RKPD | I7: APBD - RPJMD
F8: Konsistensi (%) | G8: ='kons PK (L2)'!G57/'kons PK (L2)'!D57*100 -> #REF! | H8: ='kons PK (L2)'!H57/'kons PK (L2)'!E57*100 -> #REF! | I8: ='kons PK (L2)'!I57/'kons PK (L2)'!D57*100 -> #REF!

Sheet FPP (L9)
A1: LAMPIRAN
A2: FAKTOR PENDORONG DAN FAKTOR PENGHAMBAT PENCAPAIAN KINERJA
A3: RKPD KABUPATEN BERAU TAHUN 2017
A5: No. Urut | B5: Kode OPD | C5: SKPD | D5: Faktor Pendorong | E5: Faktor Penghambat
A8: (1) | B8: (2) | C8: (3) | D8: (4) | E8: (5)
A9: 1 | B9: 1.01.01 | C9: Dinas Pendidikan
A10: =A9+1 -> 2 | B10: 1.02.01 | C10: Dinas Kesehatan
A11: =A10+1 -> 3 | B11: 1.02.02 | C11: RSUD Dr. Abdul Rivai
A12: =A11+1 -> 4 | B12: 1.03.01 | C12: Dinas Pekerjaan Umum dan Penataan Ruang
A13: =A12+1 -> 5 | B13: 1.04.01 | C13: Dinas Perumahan dan Kawasan Permukiman
A14: =A13+1 -> 6 | B14: 1.05.01 | C14: =#REF! -> #REF!
A15: =A14+1 -> 7 | B15: 1.05.02 | C15: Badan Penanggulangan Bencana Daerah
A16: =A15+1 -> 8 | B16: 1.05.03 | C16: Kantor Satuan Polisi Pamong Praja
A17: =A16+1 -> 9 | B17: 1.06.01 | C17: Dinas Sosial
A18: =A17+1 -> 10 | B18: 2.01.01 | C18: Dinas Tenaga Kerja dan Transmigrasi
A19: =A18+1 -> 11 | B19: 2.02.01 | C19: =#REF! -> #REF!
A20: =A19+1 -> 12 | B20: 2.03.01 | C20: =#REF! -> #REF!
A21: =A20+1 -> 13 | B21: 2.04.01 | C21: =#REF! -> #REF!
A22: =A21+1 -> 14 | B22: 2.05.01 | C22: =#REF! -> #REF!
A23: =A22+1 -> 15 | B23: 2.06.01 | C23: =#REF! -> #REF!
A24: =A23+1 -> 16 | B24: 2.07.01 | C24: =#REF! -> #REF!
A25: =A24+1 -> 17 | B25: 2.09.01 | C25: =#REF! -> #REF!
A26: =A25+1 -> 18 | B26: 2.10.01 | C26: =#REF! -> #REF!
A27: =A26+1 -> 19 | B27: 2.11.01 | C27: Dinas Koperasi, Perindustrian dan Perdagangan
A28: =A27+1 -> 20 | B28: 2.12.01 | C28: =#REF! -> #REF!
A29: =A28+1 -> 21 | B29: 2.13.01 | C29: =#REF! -> #REF!
A30: =A29+1 -> 22 | B30: 2.16.01 | C30: Dinas Kebudayaan dan Pariwisata
A31: =A30+1 -> 23 | B31: 2.17.01 | C31: =#REF! -> #REF!
A32: =A31+1 -> 24 | B32: 3.01.01 | C32: =#REF! -> #REF!
A33: =A32+1 -> 25 | B33: 3.03.01 | C33: =#REF! -> #REF!
A34: =A33+1 -> 26 | B34: 3.03.02 | C34: Dinas Perkebunan
A35: =A34+1 -> 27 | B35: 4.01.03 | C35: Sekretariat Daerah
A36: =A35+1 -> 28 | B36: 4.01.04 | C36: Sekretariat DPRD
A37: =A36+1 -> 29 | B37: 4.01.09 | C37: Kecamatan Tanjung Redeb
A38: =A37+1 -> 30 | B38: 4.01.09 | C38: Kecamatan Gunung Tabur
A39: =A38+1 -> 31 | B39: 4.01.09 | C39: Kecamatan Sambaliung
A40: =A39+1 -> 32 | B40: 4.01.09 | C40: Kecamatan Teluk Bayur
A41: =A40+1 -> 33 | B41: 4.01.09 | C41: Kecamatan Segah
A42: =A41+1 -> 34 | B42: 4.01.09 | C42: Kecamatan Kelay
A43: =A42+1 -> 35 | B43: 4.01.09 | C43: Kecamatan Pulau Derawan
A44: =A43+1 -> 36 | B44: 4.01.09 | C44: Kecamatan Talisayan
A45: =A44+1 -> 37 | B45: 4.01.09 | C45: Kecamatan Biduk-Biduk
... A51: =A50+1 -> 43 | B51: 4.02.01 | C51: Inspektorat
A52: =A51+1 -> 44 | B52: 4.03.01 | C52: =#REF! -> #REF!
A53: =A52+1 -> 45 | B53: 4.04.17 | C53: Badan Pengelolaan Keuangan dan Aset Daerah
A54: =A53+1 -> 46 | B54: 4.04.18 | C54: =#REF! -> #REF!
A55: =A54+1 -> 47 | B55: 4.05.13 | C55: Badan Kepegawaian, Pendidikan dan Pelatihan
A57: J U M L A H
A59: Keterangan :
A60: 1. | B60: Kolom 1 memuat nomor urut SKPD.
A61: 2. | B61: Kolom 2 memuat kode perangkat daerah dilingkungan Pemerintah Kabupaten Berau.
A62: 3. | B62: Kolom 3 memuat perangkat daerah dilingkungan Pemerintah Kabupaten Berau.
A63: 4. | B63: Kolom 4 memuat jumlah program masing-masing perangkat daerah yang tercantum dalam RKPD Kabupaten Berau Tahun 2017.

Sheet kons PK (L2) (1)
A1: LAMPIRAN 2
A2: KONSISTENSI PERENCANAAN DAN PENGANGGARAN PEMBANGUNAN
A3: KABUPATEN BERAU TAHUN 2017
A5: No. Urut | B5: Kode OPD | C5: SKPD | D5: Jumlah Program | G5: Program Yang Sama | J5: Program Tidak Sama | M5: Jumlah Kegiatan | O5: Kegiatan Yang Sama | P5: Kegiatan Tidak Sama
D6: RPJMD | E6: RKPD | F6: APBD | G6: RKPD & RPJMD | H6: APBD & RKPD | I6: APBD & RPJMD | J6: RKPD & RPJMD | K6: APBD & RKPD | L6: APBD & RPJMD | M6: RKPD | N6: APBD
A8: (1) | B8: (2) | C8: (3) | D8: (4) | E8: (5) | F8: (6) | G8: (7) | H8: (8) | I8: (9) | J8: (10) | K8: (11) | L8: (12) | M8: (13) | N8: (14) | O8: (15) | P8: (16)
A9: 1 | B9: 1.01.01 | C9: Dinas Pendidikan | D9: =SUM(#REF!) -> #REF! | E9: =SUM(#REF!) -> #REF! | F9: =SUM(#REF!) -> #REF! | G9: =SUM(#REF!) -> #REF! | H9: =SUM(#REF!) -> #REF! | I9: =SUM(#REF!) -> #REF! | J9: =(D9-G9)+(E9-G9) -> #REF! | K9: =(E9-H9)+(F9-H9) -> #REF! | L9: =(D9-I9)+(F9-I9) -> #REF! | M9: =SUM(#REF!) -> #REF! | N9: =SUM(#REF!) -> #REF! | O9: =SUM(#REF!) -> #REF! | P9: =(M9-O9)+(N9-O9) -> #REF! | Q9: =D9-I9 -> #REF! | R9: =F9-H9 -> #REF!
A10: 2 | B10: 1.02.01 | C10: Dinas Kesehatan | D10: =SUM(#REF!) -> #REF! | E10: =SUM(#REF!) -> #REF! | F10: =SUM(#REF!) -> #REF! | G10: =SUM(#REF!) -> #REF! | H10: =SUM(#REF!) -> #REF! | I10: =SUM(#REF!) -> #REF! | J10: =(D10-G10)+(E10-G10) -> #REF! | K10: =(E10-H10)+(F10-H10) -> #REF! | L10: =(D10-I10)+(F10-I10) -> #REF! | M10: =SUM(#REF!) -> #REF! | N10: =SUM(#REF!) -> #REF! | O10: =SUM(#REF!) -> #REF! | P10: =(M10-O10)+(N10-O10) -> #REF! | Q10: =D10-I10 -> #REF! | R10: =F10-H10 -> #REF!
A11: 3 | B11: 1.02.02 | C11: RSUD Dr. Abdul Rivai | D11: =SUM(#REF!) -> #REF! | E11: =SUM(#REF!) -> #REF! | F11: =SUM(#REF!) -> #REF! | G11: =SUM(#REF!) -> #REF! | H11: =SUM(#REF!) -> #REF! | I11: =SUM(#REF!) -> #REF! | J11: =(D11-G11)+(E11-G11) -> #REF! | K11: =(E11-H11)+(F11-H11) -> #REF! | L11: =(D11-I11)+(F11-I11) -> #REF! | M11: =SUM(#REF!) -> #REF! | N11: =SUM(#REF!) -> #REF! | O11: =SUM(#REF!) -> #REF! | P11: =(M11-O11)+(N11-O11) -> #REF! | Q11: =D11-I11 -> #REF! | R11: =F11-H11 -> #REF!
A12: 4 | B12: 1.03.01 | C12: Dinas Pekerjaan Umum dan Penataan Ruang | D12: =SUM(#REF!) -> #REF! | E12: =SUM(#REF!) -> #REF! | F12: =SUM(#REF!) -> #REF! | G12: =SUM(#REF!) -> #REF! | H12: =SUM(#REF!) -> #REF! | I12: =SUM(#REF!) -> #REF! | J12: =(D12-G12)+(E12-G12) -> #REF! | K12: =(E12-H12)+(F12-H12) -> #REF! | L12: =(D12-I12)+(F12-I12) -> #REF! | M12: =SUM(#REF!) -> #REF! | N12: =SUM(#REF!) -> #REF! | O12: =SUM(#REF!) -> #REF! | P12: =(M12-O12)+(N12-O12) -> #REF! | Q12: =D12-I12 -> #REF! | R12: =F12-H12 -> #REF!
A13: 5 | B13: 1.04.01 | C13: Dinas Perumahan dan Kawasan Permukiman | D13: =SUM(#REF!) -> #REF! | E13: =SUM(#REF!) -> #REF! | F13: =SUM(#REF!) -> #REF! | G13: =SUM(#REF!) -> #REF! | H13: =SUM(#REF!) -> #REF! | I13: =SUM(#REF!) -> #REF! | J13: =(D13-G13)+(E13-G13) -> #REF! | K13: =(E13-H13)+(F13-H13) -> #REF! | L13: =(D13-I13)+(F13-I13) -> #REF! | M13: =SUM(#REF!) -> #REF! | N13: =SUM(#REF!) -> #REF! | O13: =SUM(#REF!) -> #REF! | P13: =(M13-O13)+(N13-O13) -> #REF! | Q13: =D13-I13 -> #REF! | R13: =F13-H13 -> #REF!
A14: 6 | B14: 1.05.01 | C14: =#REF! -> #REF! | D14: =SUM(#REF!) -> #REF! | E14: =SUM(#REF!) -> #REF! | F14: =SUM(#REF!) -> #REF! | G14: =SUM(#REF!) -> #REF! | H14: =SUM(#REF!) -> #REF! | I14: =SUM(#REF!) -> #REF! | J14: =(D14-G14)+(E14-G14) -> #REF! | K14: =(E14-H14)+(F14-H14) -> #REF! | L14: =(D14-I14)+(F14-I14) -> #REF! | M14: =SUM(#REF!) -> #REF! | N14: =SUM(#REF!) -> #REF! | O14: =SUM(#REF!) -> #REF! | P14: =(M14-O14)+(N14-O14) -> #REF! | Q14: =D14-I14 -> #REF! | R14: =F14-H14 -> #REF!
A15: 7 | B15: 1.05.02 | C15: Badan Penanggulangan Bencana Daerah | D15: =SUM(#REF!,#REF!) -> #REF! | E15: =SUM(#REF!,#REF!) -> #REF! | F15: =SUM(#REF!,#REF!) -> #REF! | G15: =SUM(#REF!,#REF!) -> #REF! | H15: =SUM(#REF!,#REF!) -> #REF! | I15: =SUM(#REF!,#REF!) -> #REF! | J15: =(D15-G15)+(E15-G15) -> #REF! | K15: =(E15-H15)+(F15-H15) -> #REF! | L15: =(D15-I15)+(F15-I15) -> #REF! | M15: =SUM(#REF!,#REF!) -> #REF! | N15: =SUM(#REF!,#REF!) -> #REF! | O15: =SUM(#REF!,#REF!) -> #REF! | P15: =(M15-O15)+(N15-O15) -> #REF! | Q15: =D15-I15 -> #REF! | R15: =F15-H15 -> #REF!
A16: 8 | B16: 1.05.03 | C16: Kantor Satuan Polisi Pamong Praja | D16: =SUM(#REF!) -> #REF! | E16: =SUM(#REF!) -> #REF! | F16: =SUM(#REF!) -> #REF! | G16: =SUM(#REF!) -> #REF! | H16: =SUM(#REF!) -> #REF! | I16: =SUM(#REF!) -> #REF! | J16: =(D16-G16)+(E16-G16) -> #REF! | K16: =(E16-H16)+(F16-H16) -> #REF! | L16: =(D16-I16)+(F16-I16) -> #REF! | M16: =SUM(#REF!) -> #REF! | N16: =SUM(#REF!) -> #REF! | O16: =SUM(#REF!) -> #REF! | P16: =(M16-O16)+(N16-O16) -> #REF! | Q16: =D16-I16 -> #REF! | R16: =F16-H16 -> #REF!
A17: 9 | B17: 1.06.01 | C17: Dinas Sosial | D17: =SUM(#REF!) -> #REF! | E17: =SUM(#REF!) -> #REF! | F17: =SUM(#REF!) -> #REF! | G17: =SUM(#REF!) -> #REF! | H17: =SUM(#REF!) -> #REF! | I17: =SUM(#REF!) -> #REF! | J17: =(D17-G17)+(E17-G17) -> #REF! | K17: =(E17-H17)+(F17-H17) -> #REF! | L17: =(D17-I17)+(F17-I17) -> #REF! | M17: =SUM(#REF!) -> #REF! | N17: =SUM(#REF!) -> #REF! | O17: =SUM(#REF!) -> #REF! | P17: =(M17-O17)+(N17-O17) -> #REF! | Q17: =D17-I17 -> #REF! | R17: =F17-H17 -> #REF!
A18: 10 | B18: 2.01.01 | C18: Dinas Tenaga Kerja dan Transmigrasi | D18: =SUM(#REF!,#REF!) -> #REF! | E18: =SUM(#REF!,#REF!) -> #REF! | F18: =SUM(#REF!,#REF!) -> #REF! | G18: =SUM(#REF!,#REF!) -> #REF! | H18: =SUM(#REF!,#REF!) -> #REF! | I18: =SUM(#REF!,#REF!) -> #REF! | J18: =(D18-G18)+(E18-G18) -> #REF! | K18: =(E18-H18)+(F18-H18) -> #REF! | L18: =(D18-I18)+(F18-I18) -> #REF! | M18: =SUM(#REF!,#REF!) -> #REF! | N18: =SUM(#REF!,#REF!) -> #REF! | O18: =SUM(#REF!,#REF!) -> #REF! | P18: =(M18-O18)+(N18-O18) -> #REF! | Q18: =D18-I18 -> #REF! | R18: =F18-H18 -> #REF!
A19: 11 | B19: 2.02.01 | C19: =#REF! -> #REF! | D19: =SUM(#REF!,#REF!) -> #REF! | E19: =SUM(#REF!,#REF!) -> #REF! | F19: =SUM(#REF!,#REF!) -> #REF! | G19: =SUM(#REF!,#REF!) -> #REF! | H19: =SUM(#REF!,#REF!) -> #REF! | I19: =SUM(#REF!,#REF!) -> #REF! | J19: =(D19-G19)+(E19-G19) -> #REF! | K19: =(E19-H19)+(F19-H19) -> #REF! | L19: =(D19-I19)+(F19-I19) -> #REF! | M19: =SUM(#REF!,#REF!) -> #REF! | N19: =SUM(#REF!,#REF!) -> #REF! | O19: =SUM(#REF!,#REF!) -> #REF! | P19: =(M19-O19)+(N19-O19) -> #REF! | Q19: =D19-I19 -> #REF! | R19: =F19-H19 -> #REF!
A20: 12 | B20: 2.03.01 | C20: =#REF! -> #REF! | D20: =SUM(#REF!) -> #REF! | E20: =SUM(#REF!) -> #REF! | F20: =SUM(#REF!) -> #REF! | G20: =SUM(#REF!) -> #REF! | H20: =SUM(#REF!) -> #REF! | I20: =SUM(#REF!) -> #REF! | J20: =(D20-G20)+(E20-G20) -> #REF! | K20: =(E20-H20)+(F20-H20) -> #REF! | L20: =(D20-I20)+(F20-I20) -> #REF! | M20: =SUM(#REF!) -> #REF! | N20: =SUM(#REF!) -> #REF! | O20: =SUM(#REF!) -> #REF! | P20: =(M20-O20)+(N20-O20) -> #REF! | Q20: =D20-I20 -> #REF! | R20: =F20-H20 -> #REF!
A21: 13 | B21: 2.04.01 | C21: =#REF! -> #REF! | D21: =SUM(#REF!) -> #REF! | E21: =SUM(#REF!) -> #REF! | F21: =SUM(#REF!) -> #REF! | G21: =SUM(#REF!) -> #REF! | H21: =SUM(#REF!) -> #REF! | I21: =SUM(#REF!) -> #REF! | K21: =(E21-H21)+(F21-H21) -> #REF! | L21: =(D21-I21)+(F21-I21) -> #REF! | M21: =SUM(#REF!) -> #REF! | N21: =SUM(#REF!) -> #REF! | O21: =SUM(#REF!) -> #REF! | Q21: =D21-I21 -> #REF! | R21: =F21-H21 -> #REF!
A22: 14 | B22: 2.05.01 | C22: =#REF! -> #REF! | D22: =SUM(#REF!) -> #REF! | E22: =SUM(#REF!) -> #REF! | F22: =SUM(#REF!) -> #REF! | G22: =SUM(#REF!) -> #REF! | H22: =SUM(#REF!) -> #REF! | I22: =SUM(#REF!) -> #REF! | J22: =(D22-G22)+(E22-G22) -> #REF! | K22: =(E22-H22)+(F22-H22) -> #REF! | L22: =(D22-I22)+(F22-I22) -> #REF! | M22: =SUM(#REF!) -> #REF! | N22: =SUM(#REF!) -> #REF! | O22: =SUM(#REF!) -> #REF! | P22: =(M22-O22)+(N22-O22) -> #REF! | Q22: =D22-I22 -> #REF! | R22: =F22-H22 -> #REF!
A23: 15 | B23: 2.06.01 | C23: =#REF! -> #REF! | D23: =SUM(#REF!) -> #REF! | E23: =SUM(#REF!) -> #REF! | F23: =SUM(#REF!) -> #REF! | G23: =SUM(#REF!) -> #REF! | H23: =SUM(#REF!) -> #REF! | I23: =SUM(#REF!) -> #REF! | J23: =(D23-G23)+(E23-G23) -> #REF! | K23: =(E23-H23)+(F23-H23) -> #REF! | L23: =(D23-I23)+(F23-I23) -> #REF! | M23: =SUM(#REF!) -> #REF! | N23: =SUM(#REF!) -> #REF! | O23: =SUM(#REF!) -> #REF! | P23: =(M23-O23)+(N23-O23) -> #REF! | Q23: =D23-I23 -> #REF! | R23: =F23-H23 -> #REF!
A24: 16 | B24: 2.07.01 | C24: =#REF! -> #REF! | D24: =SUM(#REF!) -> #REF! | E24: =SUM(#REF!) -> #REF! | F24: =SUM(#REF!) -> #REF! | G24: =SUM(#REF!) -> #REF! | H24: =SUM(#REF!) -> #REF! | I24: =SUM(#REF!) -> #REF! | J24: =(D24-G24)+(E24-G24) -> #REF! | K24: =(E24-H24)+(F24-H24) -> #REF! | L24: =(D24-I24)+(F24-I24) -> #REF! | M24: =SUM(#REF!) -> #REF! | N24: =SUM(#REF!) -> #REF! | O24: =SUM(#REF!) -> #REF! | P24: =(M24-O24)+(N24-O24) -> #REF! | Q24: =D24-I24 -> #REF! | R24: =F24-H24 -> #REF!
A25: 17 | B25: 2.09.01 | C25: =#REF! -> #REF! | D25: =SUM(#REF!) -> #REF! | E25: =SUM(#REF!) -> #REF! | F25: =SUM(#REF!) -> #REF! | G25: =SUM(#REF!) -> #REF! | H25: =SUM(#REF!) -> #REF! | I25: =SUM(#REF!) -> #REF! | J25: =(D25-G25)+(E25-G25) -> #REF! | K25: =(E25-H25)+(F25-H25) -> #REF! | L25: =(D25-I25)+(F25-I25) -> #REF! | M25: =SUM(#REF!) -> #REF! | N25: =SUM(#REF!) -> #REF! | O25: =SUM(#REF!) -> #REF! | P25: =(M25-O25)+(N25-O25) -> #REF! | Q25: =D25-I25 -> #REF! | R25: =F25-H25 -> #REF!
A26: 18 | B26: 2.10.01 | C26: =#REF! -> #REF! | D26: =SUM(#REF!) -> #REF! | E26: =SUM(#REF!) -> #REF! | F26: =SUM(#REF!) -> #REF! | G26: =SUM(#REF!) -> #REF! | H26: =SUM(#REF!) -> #REF! | I26: =SUM(#REF!) -> #REF! | J26: =(D26-G26)+(E26-G26) -> #REF! | K26: =(E26-H26)+(F26-H26) -> #REF! | L26: =(D26-I26)+(F26-I26) -> #REF! | M26: =SUM(#REF!) -> #REF! | N26: =SUM(#REF!) -> #REF! | O26: =SUM(#REF!) -> #REF! | P26: =(M26-O26)+(N26-O26) -> #REF! | Q26: =D26-I26 -> #REF! | R26: =F26-H26 -> #REF!
A27: 19 | B27: 2.11.01 | C27: Dinas Koperasi, Perindustrian dan Perdagangan | D27: =SUM(#REF!,#REF!) -> #REF! | E27: =SUM(#REF!,#REF!) -> #REF! | F27: =SUM(#REF!,#REF!) -> #REF! | G27: =SUM(#REF!,#REF!) -> #REF! | H27: =SUM(#REF!,#REF!) -> #REF! | I27: =SUM(#REF!,#REF!) -> #REF! | J27: =(D27-G27)+(E27-G27) -> #REF! | K27: =(E27-H27)+(F27-H27) -> #REF! | L27: =(D27-I27)+(F27-I27) -> #REF! | M27: =SUM(#REF!,#REF!) -> #REF! | N27: =SUM(#REF!,#REF!) -> #REF! | O27: =SUM(#REF!,#REF!) -> #REF! | P27: =(M27-O27)+(N27-O27) -> #REF! | Q27: =D27-I27 -> #REF! | R27: =F27-H27 -> #REF!
A28: 20 | B28: 2.12.01 | C28: =#REF! -> #REF! | D28: =SUM(#REF!) -> #REF! | E28: =SUM(#REF!) -> #REF! | F28: =SUM(#REF!) -> #REF! | G28: =SUM(#REF!) -> #REF! | H28: =SUM(#REF!) -> #REF! | I28: =SUM(#REF!) -> #REF! | J28: =(D28-G28)+(E28-G28) -> #REF! | K28: =(E28-H28)+(F28-H28) -> #REF! | L28: =(D28-I28)+(F28-I28) -> #REF! | M28: =SUM(#REF!) -> #REF! | N28: =SUM(#REF!) -> #REF! | O28: =SUM(#REF!) -> #REF! | P28: =(M28-O28)+(N28-O28) -> #REF! | Q28: =D28-I28 -> #REF! | R28: =F28-H28 -> #REF!
A29: 21 | B29: 2.13.01 | C29: =#REF! -> #REF! | D29: =SUM(#REF!) -> #REF! | E29: =SUM(#REF!) -> #REF! | F29: =SUM(#REF!) -> #REF! | G29: =SUM(#REF!) -> #REF! | H29: =SUM(#REF!) -> #REF! | I29: =SUM(#REF!) -> #REF! | J29: =(D29-G29)+(E29-G29) -> #REF! | K29: =(E29-H29)+(F29-H29) -> #REF! | L29: =(D29-I29)+(F29-I29) -> #REF! | M29: =SUM(#REF!) -> #REF! | N29: =SUM(#REF!) -> #REF! | O29: =SUM(#REF!) -> #REF! | P29: =(M29-O29)+(N29-O29) -> #REF! | Q29: =D29-I29 -> #REF! | R29: =F29-H29 -> #REF!
A30: 22 | B30: 2.16.01 | C30: Dinas Kebudayaan dan Pariwisata | D30: =SUM(#REF!,#REF!) -> #REF! | E30: =SUM(#REF!,#REF!) -> #REF! | F30: =SUM(#REF!,#REF!) -> #REF! | G30: =SUM(#REF!,#REF!) -> #REF! | H30: =SUM(#REF!,#REF!) -> #REF! | I30: =SUM(#REF!,#REF!) -> #REF! | J30: =(D30-G30)+(E30-G30) -> #REF! | K30: =(E30-H30)+(F30-H30) -> #REF! | L30: =(D30-I30)+(F30-I30) -> #REF! | M30: =SUM(#REF!,#REF!) -> #REF! | N30: =SUM(#REF!,#REF!) -> #REF! | O30: =SUM(#REF!,#REF!) -> #REF! | P30: =(M30-O30)+(N30-O30) -> #REF! | Q30: =D30-I30 -> #REF! | R30: =F30-H30 -> #REF!
A31: 23 | B31: 2.17.01 | C31: =#REF! -> #REF! | D31: =SUM(#REF!) -> #REF! | E31: =SUM(#REF!) -> #REF! | F31: =SUM(#REF!) -> #REF! | G31: =SUM(#REF!) -> #REF! | H31: =SUM(#REF!) -> #REF! | I31: =SUM(#REF!) -> #REF! | J31: =(D31-G31)+(E31-G31) -> #REF! | K31: =(E31-H31)+(F31-H31) -> #REF! | L31: =(D31-I31)+(F31-I31) -> #REF! | M31: =SUM(#REF!) -> #REF! | N31: =SUM(#REF!) -> #REF! | O31: =SUM(#REF!) -> #REF! | P31: =(M31-O31)+(N31-O31) -> #REF! | Q31: =D31-I31 -> #REF! | R31: =F31-H31 -> #REF!
A32: 24 | B32: 3.01.01 | C32: =#REF! -> #REF! | D32: =SUM(#REF!) -> #REF! | E32: =SUM(#REF!) -> #REF! | F32: =SUM(#REF!) -> #REF! | G32: =SUM(#REF!) -> #REF! | H32: =SUM(#REF!) -> #REF! | I32: =SUM(#REF!) -> #REF! | J32: =(D32-G32)+(E32-G32) -> #REF! | K32: =(E32-H32)+(F32-H32) -> #REF! | L32: =(D32-I32)+(F32-I32) -> #REF! | M32: =SUM(#REF!) -> #REF! | N32: =SUM(#REF!) -> #REF! | O32: =SUM(#REF!) -> #REF! | P32: =(M32-O32)+(N32-O32) -> #REF! | Q32: =D32-I32 -> #REF! | R32: =F32-H32 -> #REF!
A33: 25 | B33: 3.03.01 | C33: =#REF! -> #REF! | D33: =SUM(#REF!) -> #REF! | E33: =SUM(#REF!) -> #REF! | F33: =SUM(#REF!) -> #REF! | G33: =SUM(#REF!) -> #REF! | H33: =SUM(#REF!) -> #REF! | I33: =SUM(#REF!) -> #REF! | J33: =(D33-G33)+(E33-G33) -> #REF! | K33: =(E33-H33)+(F33-H33) -> #REF! | L33: =(D33-I33)+(F33-I33) -> #REF! | M33: =SUM(#REF!) -> #REF! | N33: =SUM(#REF!) -> #REF! | O33: =SUM(#REF!) -> #REF! | P33: =(M33-O33)+(N33-O33) -> #REF! | Q33: =D33-I33 -> #REF! | R33: =F33-H33 -> #REF!
A34: 26 | B34: 3.03.02 | C34: Dinas Perkebunan | D34: =SUM(#REF!) -> #REF! | E34: =SUM(#REF!) -> #REF! | F34: =SUM(#REF!) -> #REF! | G34: =SUM(#REF!) -> #REF! | H34: =SUM(#REF!) -> #REF! | I34: =SUM(#REF!) -> #REF! | J34: =(D34-G34)+(E34-G34) -> #REF! | K34: =(E34-H34)+(F34-H34) -> #REF! | L34: =(D34-I34)+(F34-I34) -> #REF! | M34: =SUM(#REF!) -> #REF! | N34: =SUM(#REF!) -> #REF! | O34: =SUM(#REF!) -> #REF! | P34: =(M34-O34)+(N34-O34) -> #REF! | Q34: =D34-I34 -> #REF! | R34: =F34-H34 -> #REF!
A35: 27 | B35: 4.01.03 | C35: Sekretariat Daerah | D35: =SUM(#REF!,#REF!,#REF!,#REF!) -> #REF! | E35: =SUM(#REF!,#REF!,#REF!,#REF!) -> #REF! | F35: =SUM(#REF!,#REF!,#REF!,#REF!) -> #REF! | G35: =SUM(#REF!,#REF!,#REF!,#REF!) -> #REF! | H35: =SUM(#REF!,#REF!,#REF!,#REF!) -> #REF! | I35: =SUM(#REF!,#REF!,#REF!,#REF!) -> #REF! | J35: =(D35-G35)+(E35-G35) -> #REF! | K35: =(E35-H35)+(F35-H35) -> #REF! | L35: =(D35-I35)+(F35-I35) -> #REF! | M35: =SUM(#REF!,#REF!,#REF!,#REF!) -> #REF! | N35: =SUM(#REF!,#REF!,#REF!,#REF!) -> #REF! | O35: =SUM(#REF!,#REF!,#REF!,#REF!) -> #REF! | Q35: =D35-I35 -> #REF! | R35: =F35-H35 -> #REF!
A36: 28 | B36: 4.01.04 | C36: Sekretariat DPRD | D36: =SUM(#REF!) -> #REF! | E36: =SUM(#REF!) -> #REF! | F36: =SUM(#REF!) -> #REF! | G36: =SUM(#REF!) -> #REF! | H36: =SUM(#REF!) -> #REF! | I36: =SUM(#REF!) -> #REF! | J36: =(D36-G36)+(E36-G36) -> #REF! | K36: =(E36-H36)+(F36-H36) -> #REF! | L36: =(D36-I36)+(F36-I36) -> #REF! | M36: =SUM(#REF!) -> #REF! | N36: =SUM(#REF!) -> #REF! | O36: =SUM(#REF!) -> #REF! | P36: =(M36-O36)+(N36-O36) -> #REF! | Q36: =D36-I36 -> #REF! | R36: =F36-H36 -> #REF!
A37: 29 | B37: 4.01.09 | C37: Kecamatan Tanjung Redeb | D37: =SUM(#REF!) -> #REF! | E37: =SUM(#REF!) -> #REF! | F37: =SUM(#REF!) -> #REF! | G37: =SUM(#REF!) -> #REF! | H37: =SUM(#REF!) -> #REF! | I37: =SUM(#REF!) -> #REF! | J37: =(D37-G37)+(E37-G37) -> #REF! | K37: =(E37-H37)+(F37-H37) -> #REF! | L37: =(D37-I37)+(F37-I37) -> #REF! | M37: =SUM(#REF!) -> #REF! | N37: =SUM(#REF!) -> #REF! | O37: =SUM(#REF!) -> #REF! | P37: =(M37-O37)+(N37-O37) -> #REF! | Q37: =D37-I37 -> #REF! | R37: =F37-H37 -> #REF!
A38: 30 | B38: 4.01.09 | C38: Kecamatan Gunung Tabur | D38: =SUM(#REF!) -> #REF! | E38: =SUM(#REF!) -> #REF! | F38: =SUM(#REF!) -> #REF! | G38: =SUM(#REF!) -> #REF! | H38: =SUM(#REF!) -> #REF! | I38: =SUM(#REF!) -> #REF! | J38: =(D38-G38)+(E38-G38) -> #REF! | K38: =(E38-H38)+(F38-H38) -> #REF! | L38: =(D38-I38)+(F38-I38) -> #REF! | M38: =SUM(#REF!) -> #REF! | N38: =SUM(#REF!) -> #REF! | O38: =SUM(#REF!) -> #REF! | P38: =(M38-O38)+(N38-O38) -> #REF! | Q38: =D38-I38 -> #REF! | R38: =F38-H38 -> #REF!
A39: 31 | B39: 4.01.09 | C39: Kecamatan Sambaliung | D39: =SUM(#REF!) -> #REF! | E39: =SUM(#REF!) -> #REF! | F39: =SUM(#REF!) -> #REF! | G39: =SUM(#REF!) -> #REF! | H39: =SUM(#REF!) -> #REF! | I39: =SUM(#REF!) -> #REF! | J39: =(D39-G39)+(E39-G39) -> #REF! | K39: =(E39-H39)+(F39-H39) -> #REF! | L39: =(D39-I39)+(F39-I39) -> #REF! | M39: =SUM(#REF!) -> #REF! | N39: =SUM(#REF!) -> #REF! | O39: =SUM(#REF!) -> #REF! | P39: =(M39-O39)+(N39-O39) -> #REF! | Q39: =D39-I39 -> #REF! | R39: =F39-H39 -> #REF!
A40: 32 | B40: 4.01.09 | C40: Kecamatan Teluk Bayur | D40: =SUM(#REF!) -> #REF! | E40: =SUM(#REF!) -> #REF! | F40: =SUM(#REF!) -> #REF! | G40: =SUM(#REF!) -> #REF! | H40: =SUM(#REF!) -> #REF! | I40: =SUM(#REF!) -> #REF! | J40: =(D40-G40)+(E40-G40) -> #REF! | K40: =(E40-H40)+(F40-H40) -> #REF! | L40: =(D40-I40)+(F40-I40) -> #REF! | M40: =SUM(#REF!) -> #REF! | N40: =SUM(#REF!) -> #REF! | O40: =SUM(#REF!) -> #REF! | P40: =(M40-O40)+(N40-O40) -> #REF! | Q40: =D40-I40 -> #REF! | R40: =F40-H40 -> #REF!
A41: 33 | B41: 4.01.09 | C41: Kecamatan Segah | D41: =SUM(#REF!) -> #REF! | E41: =SUM(#REF!) -> #REF! | F41: =SUM(#REF!) -> #REF! | G41: =SUM(#REF!) -> #REF! | H41: =SUM(#REF!) -> #REF! | I41: =SUM(#REF!) -> #REF! | J41: =(D41-G41)+(E41-G41) -> #REF! | K41: =(E41-H41)+(F41-H41) -> #REF! | L41: =(D41-I41)+(F41-I41) -> #REF! | M41: =SUM(#REF!) -> #REF! | N41: =SUM(#REF!) -> #REF! | O41: =SUM(#REF!) -> #REF! | P41: =(M41-O41)+(N41-O41) -> #REF! | Q41: =D41-I41 -> #REF! | R41: =F41-H41 -> #REF!
A42: 34 | B42: 4.01.09 | C42: Kecamatan Kelay | D42: =SUM(#REF!) -> #REF! | E42: =SUM(#REF!) -> #REF! | F42: =SUM(#REF!) -> #REF! | G42: =SUM(#REF!) -> #REF! | H42: =SUM(#REF!) -> #REF! | I42: =SUM(#REF!) -> #REF! | J42: =(D42-G42)+(E42-G42) -> #REF! | K42: =(E42-H42)+(F42-H42) -> #REF! | L42: =(D42-I42)+(F42-I42) -> #REF! | M42: =SUM(#REF!) -> #REF! | N42: =SUM(#REF!) -> #REF! | O42: =SUM(#REF!) -> #REF! | P42: =(M42-O42)+(N42-O42) -> #REF! | Q42: =D42-I42 -> #REF! | R42: =F42-H42 -> #REF!
A43: 35 | B43: 4.01.09 | C43: Kecamatan Pulau Derawan | D43: =SUM(#REF!) -> #REF! | E43: =SUM(#REF!) -> #REF! | F43: =SUM(#REF!) -> #REF! | G43: =SUM(#REF!) -> #REF! | H43: =SUM(#REF!) -> #REF! | I43: =SUM(#REF!) -> #REF! | J43: =(D43-G43)+(E43-G43) -> #REF! | K43: =(E43-H43)+(F43-H43) -> #REF! | L43: =(D43-I43)+(F43-I43) -> #REF! | M43: =SUM(#REF!) -> #REF! | N43: =SUM(#REF!) -> #REF! | O43: =SUM(#REF!) -> #REF! | P43: =(M43-O43)+(N43-O43) -> #REF! | Q43: =D43-I43 -> #REF! | R43: =F43-H43 -> #REF!
A44: 36 | B44: 4.01.09 | C44: Kecamatan Talisayan | D44: =SUM(#REF!) -> #REF! | E44: =SUM(#REF!) -> #REF! | F44: =SUM(#REF!) -> #REF! | G44: =SUM(#REF!) -> #REF! | H44: =SUM(#REF!) -> #REF! | I44: =SUM(#REF!) -> #REF! | J44: =(D44-G44)+(E44-G44) -> #REF! | K44: =(E44-H44)+(F44-H44) -> #REF! | L44: =(D44-I44)+(F44-I44) -> #REF! | M44: =SUM(#REF!) -> #REF! | N44: =SUM(#REF!) -> #REF! | O44: =SUM(#REF!) -> #REF! | P44: =(M44-O44)+(N44-O44) -> #REF! | Q44: =D44-I44 -> #REF! | R44: =F44-H44 -> #REF!
A45: 37 | B45: 4.01.09 | C45: Kecamatan Biduk-Biduk | D45: =SUM(#REF!) -> #REF! | E45: =SUM(#REF!) -> #REF! | F45: =SUM(#REF!) -> #REF! | G45: =SUM(#REF!) -> #REF! | H45: =SUM(#REF!) -> #REF! | I45: =SUM(#REF!) -> #REF! | J45: =(D45-G45)+(E45-G45) -> #REF! | K45: =(E45-H45)+(F45-H45) -> #REF! | L45: =(D45-I45)+(F45-I45) -> #REF! | M45: =SUM(#REF!) -> #REF! | N45: =SUM(#REF!) -> #REF! | O45: =SUM(#REF!) -> #REF! | P45: =(M45-O45)+(N45-O45) -> #REF! | Q45: =D45-I45 -> #REF! | R45: =F45-H45 -> #REF!
A46: 38 | B46: 4.01.09 | C46: Kecamatan Maratua | D46: =SUM(#REF!) -> #REF! | E46: =SUM(#REF!) -> #REF! | F46: =SUM(#REF!) -> #REF! | G46: =SUM(#REF!) -> #REF! | H46: =SUM(#REF!) -> #REF! | I46: =SUM(#REF!) -> #REF! | J46: =(D46-G46)+(E46-G46) -> #REF! | K46: =(E46-H46)+(F46-H46) -> #REF! | L46: =(D46-I46)+(F46-I46) -> #REF! | M46: =SUM(#REF!) -> #REF! | N46: =SUM(#REF!) -> #REF! | O46: =SUM(#REF!) -> #REF! | P46: =(M46-O46)+(N46-O46) -> #REF! | Q46: =D46-I46 -> #REF! | R46: =F46-H46 -> #REF!
A47: 39 | B47: 4.01.09 | C47: Kecamatan Tabalar | D47: =SUM(#REF!) -> #REF! | E47: =SUM(#REF!) -> #REF! | F47: =SUM(#REF!) -> #REF! | G47: =SUM(#REF!) -> #REF! | H47: =SUM(#REF!) -> #REF! | I47: =SUM(#REF!) -> #REF! | J47: =(D47-G47)+(E47-G47) -> #REF! | K47: =(E47-H47)+(F47-H47) -> #REF! | L47: =(D47-I47)+(F47-I47) -> #REF! | M47: =SUM(#REF!) -> #REF! | N47: =SUM(#REF!) -> #REF! | O47: =SUM(#REF!) -> #REF! | P47: =(M47-O47)+(N47-O47) -> #REF! | Q47: =D47-I47 -> #REF! | R47: =F47-H47 -> #REF!
... A49: 41 | B49: 4.01.09 | C49: Kecamatan Biatan | D49: =SUM(#REF!) -> #REF! | E49: =SUM(#REF!) -> #REF! | F49: =SUM(#REF!) -> #REF! | G49: =SUM(#REF!) -> #REF! | H49: =SUM(#REF!) -> #REF! | I49: =SUM(#REF!) -> #REF! | J49: =(D49-G49)+(E49-G49) -> #REF! | K49: =(E49-H49)+(F49-H49) -> #REF! | L49: =(D49-I49)+(F49-I49) -> #REF! | M49: =SUM(#REF!) -> #REF! | N49: =SUM(#REF!) -> #REF! | O49: =SUM(#REF!) -> #REF! | P49: =(M49-O49)+(N49-O49) -> #REF! | Q49: =D49-I49 -> #REF! | R49: =F49-H49 -> #REF!
A50: 42 | B50: 4.01.14 | C50: Sekretariat Dewan Pengurus KORPRI | D50: =SUM(#REF!,#REF!) -> #REF! | E50: =SUM(#REF!,#REF!) -> #REF! | F50: =SUM(#REF!,#REF!) -> #REF! | G50: =SUM(#REF!,#REF!) -> #REF! | H50: =SUM(#REF!,#REF!) -> #REF! | I50: =SUM(#REF!,#REF!) -> #REF! | J50: =(D50-G50)+(E50-G50) -> #REF! | K50: =(E50-H50)+(F50-H50) -> #REF! | L50: =(D50-I50)+(F50-I50) -> #REF! | M50: =SUM(#REF!,#REF!) -> #REF! | N50: =SUM(#REF!,#REF!) -> #REF! | O50: =SUM(#REF!,#REF!) -> #REF! | P50: =(M50-O50)+(N50-O50) -> #REF! | Q50: =D50-I50 -> #REF! | R50: =F50-H50 -> #REF!
A51: 43 | B51: 4.02.01 | C51: Inspektorat | D51: =SUM(#REF!) -> #REF! | E51: =SUM(#REF!) -> #REF! | F51: =SUM(#REF!) -> #REF! | G51: =SUM(#REF!) -> #REF! | H51: =SUM(#REF!) -> #REF! | I51: =SUM(#REF!) -> #REF! | J51: =(D51-G51)+(E51-G51) -> #REF! | K51: =(E51-H51)+(F51-H51) -> #REF! | L51: =(D51-I51)+(F51-I51) -> #REF! | M51: =SUM(#REF!) -> #REF! | N51: =SUM(#REF!) -> #REF! | O51: =SUM(#REF!) -> #REF! | P51: =(M51-O51)+(N51-O51) -> #REF! | Q51: =D51-I51 -> #REF! | R51: =F51-H51 -> #REF!
A52: 44 | B52: 4.03.01 | C52: =#REF! -> #REF! | D52: =SUM(#REF!,#REF!) -> #REF! | E52: =SUM(#REF!,#REF!) -> #REF! | F52: =SUM(#REF!,#REF!) -> #REF! | G52: =SUM(#REF!,#REF!) -> #REF! | H52: =SUM(#REF!,#REF!) -> #REF! | I52: =SUM(#REF!,#REF!) -> #REF! | J52: =(D52-G52)+(E52-G52) -> #REF! | K52: =(E52-H52)+(F52-H52) -> #REF! | L52: =(D52-I52)+(F52-I52) -> #REF! | M52: =SUM(#REF!,#REF!) -> #REF! | N52: =SUM(#REF!,#REF!) -> #REF! | O52: =SUM(#REF!,#REF!) -> #REF! | P52: =(M52-O52)+(N52-O52) -> #REF! | Q52: =D52-I52 -> #REF! | R52: =F52-H52 -> #REF!
A53: 45 | B53: 4.04.17 | C53: Badan Pengelolaan Keuangan dan Aset Daerah | D53: =SUM(#REF!) -> #REF! | E53: =SUM(#REF!) -> #REF! | F53: =SUM(#REF!) -> #REF! | G53: =SUM(#REF!) -> #REF! | H53: =SUM(#REF!) -> #REF! | I53: =SUM(#REF!) -> #REF! | J53: =(D53-G53)+(E53-G53) -> #REF! | K53: =(E53-H53)+(F53-H53) -> #REF! | L53: =(D53-I53)+(F53-I53) -> #REF! | M53: =SUM(#REF!) -> #REF! | N53: =SUM(#REF!) -> #REF! | O53: =SUM(#REF!) -> #REF! | P53: =(M53-O53)+(N53-O53) -> #REF! | Q53: =D53-I53 -> #REF! | R53: =F53-H53 -> #REF!
A54: 46 | B54: 4.04.18 | C54: =#REF! -> #REF! | D54: =SUM(#REF!) -> #REF! | E54: =SUM(#REF!) -> #REF! | F54: =SUM(#REF!) -> #REF! | G54: =SUM(#REF!) -> #REF! | H54: =SUM(#REF!) -> #REF! | I54: =SUM(#REF!) -> #REF! | J54: =(D54-G54)+(E54-G54) -> #REF! | K54: =(E54-H54)+(F54-H54) -> #REF! | L54: =(D54-I54)+(F54-I54) -> #REF! | M54: =SUM(#REF!) -> #REF! | N54: =SUM(#REF!) -> #REF! | O54: =SUM(#REF!) -> #REF! | P54: =(M54-O54)+(N54-O54) -> #REF! | Q54: =D54-I54 -> #REF! | R54: =F54-H54 -> #REF!
A55: 47 | B55: 4.05.13 | C55: Badan Kepegawaian, Pendidikan dan Pelatihan | D55: =SUM(#REF!) -> #REF! | E55: =SUM(#REF!) -> #REF! | F55: =SUM(#REF!) -> #REF! | G55: =SUM(#REF!) -> #REF! | H55: =SUM(#REF!) -> #REF! | I55: =SUM(#REF!) -> #REF! | J55: =(D55-G55)+(E55-G55) -> #REF! | K55: =(E55-H55)+(F55-H55) -> #REF! | L55: =(D55-I55)+(F55-I55) -> #REF! | M55: =SUM(#REF!) -> #REF! | N55: =SUM(#REF!) -> #REF! | O55: =SUM(#REF!) -> #REF! | P55: =(M55-O55)+(N55-O55) -> #REF! | Q55: =D55-I55 -> #REF! | R55: =F55-H55 -> #REF!
A57: J U M L A H | D57: =SUM(D9:D56) -> #REF! | E57: =SUM(E9:E56) -> #REF! | F57: =SUM(F9:F56) -> #REF! | G57: =SUM(G9:G56) -> #REF! | H57: =SUM(H9:H56) -> #REF! | I57: =SUM(I9:I56) -> #REF! | J57: =SUM(J9:J56) -> #REF! | K57: =SUM(K9:K56) -> #REF! | ... Q57: =SUM(Q9:Q56) -> #REF! | R57: =L57-Q57 -> #REF!
A59: Keterangan :
A60: 1. | B60: Kolom 1 memuat nomor urut.
A61: 2. | B61: Kolom 2 memuat kode perangkat daerah dilingkungan Pemerintah Kabupaten Berau.
A62: 3. | B62: Kolom 3 memuat perangkat daerah dilingkungan Pemerintah Kabupaten Berau
A63: 4. | B63: Kolom 4 memuat jumlah program yang dilaksanakan masing-masing perangkat daerah sebagaimana yang tercantum dalam Perda Nomor 3 Tahun 2016 tentang RPJMD.
A64: 5. | B64: Kolom 5 memuat jumlah program masing-masing perangkat daerah sebagaimana yang tercantum dalam RKPD Perubahan Tahun 2017.
A65: 6. | B65: Kolom 6 memuat jumlah program yang dilaksanakan masing-masing perangkat daerah sebagaimana yang tercantum dalam APBD Perubahan Tahun 2017.
A66: 7. | B66: Kolom 7 memuat jumlah judul program yang sama-sama direncanakan dalam dokumen RKPD dan RPJMD untuk tahun 2017.
A67: 8. | B67: Kolom 8 memuat jumlah judul program yang direncanakan dalam RKPD dan dianggarkan dalam APBD tahun 2017.
A68: 9. | B68: Kolom 9 memuat jumlah judul program yang direncanakan dalam RPJMD dan dianggarkan dalam APBD Tahun 2017.
A69: 10. | B69: Kolom 10 memuat jumlah program yang direncanakan dalam RKPD tetapi tidak direncanakan dalam RPJMD atau sebaliknya untuk tahun 2017 ((kolom 10) = (kolom 4 - kolom 7) + (kolom 5 - kolom 7)).
A70: 11. | B70: Kolom 11 memuat jumlah program yang direncanakan dalam RKPD tetapi tidak dianggarkan dalam APBD atau sebaliknya untuk tahun 2017 ((kolom 11) = (kolom 5 - kolom 8) + (kolom 6 - kolom 8)).
A71: 12. | B71: Kolom 12 memuat jumlah program yang direncanakan dalam RPJMD tetapi tidak dianggarkan dalam APBD atau sebaliknya untuk tahun 2017 ((kolom 12) = (kolom 4 - kolom 9) + (kolom 6 - kolom 9)).
... A75: 16. | B75: Kolom 16 memuat jumlah kegiatan yang direncanakan dalam RKPD tetapi tidak direncanakan dalam APBD atau sebaliknya untuk tahun 2017 ((kolom 16) = (kolom 13 - kolom 15) + (kolom 14 - kolom 15)).

Sheet kons PR (L3) (1)
A1: LAMPIRAN 3
A2: PERBANDINGAN ANTARA PENDANAAN INDIKATIF DAN ANGGARAN PEMBANGUNAN
A3: KABUPATEN BERAU TAHUN 2017
N4: (dalam ribuan rupiah)
A5: No. Urut | B5: Kode OPD | C5: SKPD | D5: Kerangka Pendanaan dan Anggaran OPD Tahun 2017 | I5: Selisih Kerangka Pendanaan dan Anggaran
D6: RPJMD | E6: RKPD | G6: APBD
D7: Rp. | E7: Rp. | F7: % RPJMD | G7: Rp. | H7: % RPJMD | I7: RKPD & RPJMD | K7: APBD & RKPD | M7: APBD & RPJMD
A8: (1) | B8: (2) | C8: (3) | D8: (4) | E8: (5) | G8: (6) | I8: (7) | K8: (8) | M8: (9)
A9: 1 | B9: 1.01.01 | C9: Dinas Pendidikan | D9: =SUM(#REF!) -> #REF! | E9: =SUM(#REF!) -> #REF! | F9: =E9/D9*100 -> #REF! | G9: =SUM(#REF!) -> #REF! | H9: =G9/D9*100 -> #REF! | I9: =E9-D9 -> #REF! | J9: =I9/$I$57 -> #REF! | K9: =G9-E9 -> #REF! | L9: =K9/$K$57 -> #REF! | M9: =G9-D9 -> #REF! | N9: =M9/$M$57 -> #REF!
A10: =A9+1 -> 2 | B10: 1.02.01 | C10: Dinas Kesehatan | D10: =SUM(#REF!) -> #REF! | E10: =SUM(#REF!) -> #REF! | F10: =E10/D10*100 -> #REF! | G10: =SUM(#REF!) -> #REF! | H10: =G10/D10*100 -> #REF! | I10: =E10-D10 -> #REF! | J10: =I10/$I$57 -> #REF! | K10: =G10-E10 -> #REF! | L10: =K10/$K$57 -> #REF! | M10: =G10-D10 -> #REF! | N10: =M10/$M$57 -> #REF!
A11: =A10+1 -> 3 | B11: 1.02.02 | C11: RSUD Dr. Abdul Rivai | D11: =SUM(#REF!) -> #REF! | E11: =SUM(#REF!) -> #REF! | F11: =E11/D11*100 -> #REF! | G11: =SUM(#REF!) -> #REF! | H11: =G11/D11*100 -> #REF! | I11: =E11-D11 -> #REF! | J11: =I11/$I$57 -> #REF! | K11: =G11-E11 -> #REF! | L11: =K11/$K$57 -> #REF! | M11: =G11-D11 -> #REF! | N11: =M11/$M$57 -> #REF!
A12: =A11+1 -> 4 | B12: 1.03.01 | C12: Dinas Pekerjaan Umum dan Penataan Ruang | D12: =SUM(#REF!) -> #REF! | E12: =SUM(#REF!) -> #REF! | F12: =E12/D12*100 -> #REF! | G12: =SUM(#REF!) -> #REF! | H12: =G12/D12*100 -> #REF! | I12: =E12-D12 -> #REF! | J12: =I12/$I$57 -> #REF! | K12: =G12-E12 -> #REF! | L12: =K12/$K$57 -> #REF! | M12: =G12-D12 -> #REF! | N12: =M12/$M$57 -> #REF!
A13: =A12+1 -> 5 | B13: 1.04.01 | C13: Dinas Perumahan dan Kawasan Permukiman | D13: =SUM(#REF!) -> #REF! | E13: =SUM(#REF!) -> #REF! | F13: =E13/D13*100 -> #REF! | G13: =SUM(#REF!) -> #REF! | H13: =G13/D13*100 -> #REF! | I13: =E13-D13 -> #REF! | J13: =I13/$I$57 -> #REF! | K13: =G13-E13 -> #REF! | L13: =K13/$K$57 -> #REF! | M13: =G13-D13 -> #REF! | N13: =M13/$M$57 -> #REF!
A14: =A13+1 -> 6 | B14: 1.05.01 | C14: =#REF! -> #REF! | D14: =SUM(#REF!) -> #REF! | E14: =SUM(#REF!) -> #REF! | F14: =E14/D14*100 -> #REF! | G14: =SUM(#REF!) -> #REF! | H14: =G14/D14*100 -> #REF! | I14: =E14-D14 -> #REF! | J14: =I14/$I$57 -> #REF! | K14: =G14-E14 -> #REF! | L14: =K14/$K$57 -> #REF! | M14: =G14-D14 -> #REF! | N14: =M14/$M$57 -> #REF!
A15: =A14+1 -> 7 | B15: 1.05.02 | C15: Badan Penanggulangan Bencana Daerah | D15: =SUM(#REF!,#REF!) -> #REF! | E15: =SUM(#REF!,#REF!) -> #REF! | F15: =E15/D15*100 -> #REF! | G15: =SUM(#REF!,#REF!) -> #REF! | H15: =G15/D15*100 -> #REF! | I15: =E15-D15 -> #REF! | J15: =I15/$I$57 -> #REF! | K15: =G15-E15 -> #REF! | L15: =K15/$K$57 -> #REF! | M15: =G15-D15 -> #REF! | N15: =M15/$M$57 -> #REF!
A16: =A15+1 -> 8 | B16: 1.05.03 | C16: Kantor Satuan Polisi Pamong Praja | D16: =SUM(#REF!) -> #REF! | E16: =SUM(#REF!) -> #REF! | F16: =E16/D16*100 -> #REF! | G16: =SUM(#REF!) -> #REF! | H16: =G16/D16*100 -> #REF! | I16: =E16-D16 -> #REF! | J16: =I16/$I$57 -> #REF! | K16: =G16-E16 -> #REF! | L16: =K16/$K$57 -> #REF! | M16: =G16-D16 -> #REF! | N16: =M16/$M$57 -> #REF!
A17: =A16+1 -> 9 | B17: 1.06.01 | C17: Dinas Sosial | D17: =SUM(#REF!) -> #REF! | E17: =SUM(#REF!) -> #REF! | F17: =E17/D17*100 -> #REF! | G17: =SUM(#REF!) -> #REF! | H17: =G17/D17*100 -> #REF! | I17: =E17-D17 -> #REF! | J17: =I17/$I$57 -> #REF! | K17: =G17-E17 -> #REF! | L17: =K17/$K$57 -> #REF! | M17: =G17-D17 -> #REF! | N17: =M17/$M$57 -> #REF!
A18: =A17+1 -> 10 | B18: 2.01.01 | C18: Dinas Tenaga Kerja dan Transmigrasi | D18: =SUM(#REF!,#REF!) -> #REF! | E18: =SUM(#REF!,#REF!) -> #REF! | F18: =E18/D18*100 -> #REF! | G18: =SUM(#REF!,#REF!) -> #REF! | H18: =G18/D18*100 -> #REF! | I18: =E18-D18 -> #REF! | J18: =I18/$I$57 -> #REF! | K18: =G18-E18 -> #REF! | L18: =K18/$K$57 -> #REF! | M18: =G18-D18 -> #REF! | N18: =M18/$M$57 -> #REF!
A19: =A18+1 -> 11 | B19: 2.02.01 | C19: =#REF! -> #REF! | D19: =SUM(#REF!,#REF!) -> #REF! | E19: =SUM(#REF!,#REF!) -> #REF! | F19: =E19/D19*100 -> #REF! | G19: =SUM(#REF!,#REF!) -> #REF! | H19: =G19/D19*100 -> #REF! | I19: =E19-D19 -> #REF! | J19: =I19/$I$57 -> #REF! | K19: =G19-E19 -> #REF! | L19: =K19/$K$57 -> #REF! | M19: =G19-D19 -> #REF! | N19: =M19/$M$57 -> #REF!
A20: =A19+1 -> 12 | B20: 2.03.01 | C20: =#REF! -> #REF! | D20: =SUM(#REF!) -> #REF! | E20: =SUM(#REF!) -> #REF! | F20: =E20/D20*100 -> #REF! | G20: =SUM(#REF!) -> #REF! | H20: =G20/D20*100 -> #REF! | I20: =E20-D20 -> #REF! | J20: =I20/$I$57 -> #REF! | K20: =G20-E20 -> #REF! | L20: =K20/$K$57 -> #REF! | M20: =G20-D20 -> #REF! | N20: =M20/$M$57 -> #REF!
A21: =A20+1 -> 13 | B21: 2.04.01 | C21: =#REF! -> #REF! | D21: =SUM(#REF!) -> #REF! | E21: =SUM(#REF!) -> #REF! | F21: =E21/D21*100 -> #REF! | G21: =SUM(#REF!) -> #REF! | H21: =G21/D21*100 -> #REF! | I21: =E21-D21 -> #REF! | J21: =I21/$I$57 -> #REF! | K21: =G21-E21 -> #REF! | L21: =K21/$K$57 -> #REF! | M21: =G21-D21 -> #REF! | N21: =M21/$M$57 -> #REF!
A22: =A21+1 -> 14 | B22: 2.05.01 | C22: =#REF! -> #REF! | D22: =SUM(#REF!) -> #REF! | E22: =SUM(#REF!) -> #REF! | F22: =E22/D22*100 -> #REF! | G22: =SUM(#REF!) -> #REF! | H22: =G22/D22*100 -> #REF! | I22: =E22-D22 -> #REF! | J22: =I22/$I$57 -> #REF! | K22: =G22-E22 -> #REF! | L22: =K22/$K$57 -> #REF! | M22: =G22-D22 -> #REF! | N22: =M22/$M$57 -> #REF!
