Workbook

Sheet PL DERAWAN
B1: MATRIK LAPORAN KETERANGAN PERTANGGUNGJAWABAN (LKPJ) SKPD KECAMATAN PULAU DERAWAN TAHUN ANGGARAN 2025
A3: NO | B3: URUSAN PEMERINTAHAN | C3: OPD PELAKSANA | E3: URAIAN/ PROGRAM/ KEGIATAN | G3: ANGGARAN (Rp.) | H3: REALISASI (Rp.) | I3: TARGET | J3: REALISASI | K3: SATUAN | L3: PERMASALAHAN | M3: UPAYA MENGATASI PERMASALAHAN
A4: 1. | B4: KECAMATAN | C4: 1.1. | D4: KECAMATAN PULAU DERAWAN | E4: 1. | F4: PROGRAM PENUNJANG URUSAN PEMERINTAHAN DAERAH KABUPATEN/KOTA | G4: =G5+G11+G16+G20+G29+G33+G39+G44+G47+G52+G56+G60 -> 6282641119 | H4: =H66 -> 5390394938 | I4: 1 | J4: =J66 -> 85.798231
F5: Perencanaan, Penganggaran, dan Evaluasi Kinerja Perangkat Daerah | G5: =G7+G8+G9 -> 155297000 | H5: =SUM(H7:H9) -> 136538038 | J5: =H5/G5*100 -> 87.92059
F7: Penyusunan Dokumen Perencanaan Perangkat Daerah | G7: 73352000 | H7: 68092924 | I7: 33 | J7: =H7/G7*100 -> 92.830358 | K7: dok
F8: koordinasi dan penyusunan laporan capaian kinerja dan ikstisar realisasi kinerja SKPD | G8: 45000000 | H8: 40575114 | I8: 12 | J8: =H8/G8*100 -> 90.16692 | K8: bulan
F9: Evaluasi Kinerja Perangkat Daerah | G9: 36945000 | H9: 27870000 | I9: 5 | J9: =H9/G9*100 -> 75.43646 | K9: kegiatan
F11: Administrasi Keuangan Perangkat Daerah | G11: =G12+G13+G14 -> 3821695333 | H11: =H12+H13+H14 -> 3282335928 | J11: =H11/G11*100 -> 85.886907
F12: Penyediaan Gaji dan Tunjangan ASN | G12: 3636937333 | H12: 3108153928 | I12: 14 | J12: =H12/G12*100 -> 85.46075 | K12: bulan | L12: Anggaran yang tersedia melebihi dari kebutuhan | M12: Menghitung lebih cermat kebutuhan dana yang diperlukan
F13: Penyediaan Administrasi Pelaksanaan Tugas ASN | G13: 153258000 | H13: 144652000 | I13: 12 | J13: =H13/G13*100 -> 94.384632 | K13: bulan
F14: Pelaksanaan Penatausahaan dan Pengujian Verifikasi Keuangan SKPD | G14: 31500000 | H14: 29530000 | I14: 12 | J14: =H14/G14*100 -> 93.746032 | K14: bulan
F16: Administrasi Kepegawaian Perangkat Daerah | G16: =G17+G18 -> 205500000 | H16: =H17+H18 -> 177469181 | J16: =H16/G16*100 -> 86.359699
F17: Pengadaan Pakaian Dinas beserta Atribut Kelengkapannya | G17: 33000000 | H17: 31898400 | I17: 56 | J17: =H17/G17*100 -> 96.661818 | K17: stel
F18: Bimbingan Teknis Implementasi Peraturan Perundang undangan | G18: 172500000 | H18: 145570781 | I18: 15 | J18: =H18/G18*100 -> 84.388859 | K18: orang
F20: Administrasi Umum Perangkat Daerah | G20: =G21+G22+G23+G24+G25+G26+G27 -> 299695016 | H20: =H21+H22+H23+H24+H25+H26+H27 -> 251633216 | J20: =H20/G20*100 -> 83.963097
F21: Penyediaan Komponen Instalasi Listrik/Penerangan Bangunan Kantor | G21: 5000000 | H21: 3666750 | I21: 5 | J21: =H21/G21*100 -> 73.335 | K21: jenis
F22: Penyediaan Peralatan dan Perlengkapan Kantor | G22: 108984016 | H22: 104053586 | I22: 12 | J22: =H22/G22*100 -> 95.476006 | K22: jenis
F23: Penyediaan Peralatan Rumah Tangga | G23: 11936000 | H23: 6335000 | I23: 12 | J23: =H23/G23*100 -> 53.074732 | K23: bulan
F24: Penyediaan Bahan Logistik Kantor | G24: 91050000 | H24: 58417600 | I24: 12 | J24: =H24/G24*100 -> 64.159912 | K24: orang
F25: Penyediaan Barang Cetakan dan Penggandaan | G25: 2225000 | H25: 1100000 | I25: 2225 | J25: =H25/G25*100 -> 49.438202 | K25: lembar | L25: Belanja cetak terkait fotocopy tidak dapat dilaksanakan sepenuhnya di karenakan keterbatasan waktu | M25: Melaksanakan koordinasi dan konsulatasi terkait perencanaan dan penganggaran untuk lebih efektif dan efesien sehingga realisasi dapat terserap dengan maksimal
F26: Penyediaan Bahan Bacaan dan Peraturan Perundang-undangan | G26: 1000000 | H26: 0 | I26: 2 | J26: =H26/G26*100 -> 0 | K26: buku
F27: Penyelenggaraan Rapat Koordinasi dan Konsultasi SKPD | G27: 79500000 | H27: 78060280 | I27: 12 | J27: =H27/G27*100 -> 98.189031 | K27: bulan
F29: Pengadaan Barang Milik Daerah Penunjang Urusan Pemerintah Daerah | G29: =G30+G31 -> 428000000 | H29: =H30+H31 -> 374339002 | J29: =H29/G29*100 -> 87.462384
F30: Pengadaan Kendaraan Perorangan Dinas atau Kendaraan Dinas Jabatan | G30: 420000000 | H30: 374339002 | I30: 4 | J30: =H30/G30*100 -> 89.128334 | K30: unit
F31: Pengadaan Mebel | G31: 8000000 | H31: 0 | I31: 5 | J31: =H31/G31*100 -> 0 | K31: unit | L31: belanja modal kursi kantor terkendala penyedia yang tersedia di inaproc dan keterbatasan waktu | M31: Melaksanakan koordinasi dan konsulatasi terkait perencanaan dan penganggaran untuk lebih efektif dan efesien sehingga realisasi dapat terserap dengan maksimal
F33: Penyediaan Jasa Penunjang Urusan Pemerintahan Daerah | G33: =G34+G35+G36+G37 -> 330100000 | H33: =H34+H35+H36+H37 -> 294033244 | J33: =H33/G33*100 -> 89.073991
F34: Penyediaan Jasa Surat Menyurat | G34: 2500000 | H34: 2100000 | I34: 175 | J34: =H34/G34*100 -> 84 | K34: lembar
F35: Penyediaan Jasa Komunikasi, Sumber Daya Air dan Listrik | G35: 50000000 | H35: 24207000 | I35: 12 | J35: =H35/G35*100 -> 48.414 | K35: bulan | L35: penggunaan listrik sesuai dengan kebutuhan | M35: lebih cermat dalam merencakan anggaran di tahun berikutnya dan lebih cermat dalam pelaksanaan kegiatan
F36: Penyediaan Jasa Peralatan dan Perlengkapan Kantor | G36: 12000000 | H36: 6487200 | I36: 2 | J36: =H36/G36*100 -> 54.06 | K36: kegiatan
F37: Penyediaan Jasa Pelayanan Umum Kantor | G37: 265600000 | H37: 261239044 | I37: 12 | J37: =H37/G37*100 -> 98.358074 | K37: bulan
F39: Pemeliharaan Barang Milik Daerah Penunjang Urusan Pemerintahan Daerah | G39: =G40+G41+G42 -> 220299560 | H39: =H40+H41+H42 -> 142323580 | J39: =H39/G39*100 -> 64.604568
F40: Penyediaan Jasa Pemeliharaan, Biaya Pemeliharaan, Pajak dan Perizinan Kendaraan Dinas Operasioanal atau Lapangan | G40: 140000000 | H40: 125898580 | I40: 8 | J40: =H40/G40*100 -> 89.927557 | K40: unit
F41: Pemeliharaan Peralatan dan Mesin Lainnya | G41: 21000000 | H41: 12110000 | I41: 3 | J41: =H41/G41*100 -> 57.666667 | K41: unit
F42: Pemeliharaan/Rehabilitasi Sarana dan Prasarana Gedung Kantor atau Bangunan Lainnya | G42: 59299560 | H42: 4315000 | I42: 2 | J42: =H42/G42*100 -> 7.2766139 | K42: jenis | L42: pelaksanaan perbaikan pelapon kantor tidak bisa dilaksanakan karena atap yang yang diperbaiki oleh Dinas PU dilaksanakan bulan Desember dan di bulan Desember tingkat musim hujan tinggi | M42: lebih cermat dalam merencakan anggaran di tahun berikutnya dan lebih cermat dalam pelaksanaan kegiatan
E44: 2. | F44: PROGRAM PENYELENGGARAAN PEMERINTAHAN DAN PELAYANAN PUBLIK | G44: =G45 -> 211308210 | H44: =H45 -> 181394899 | J44: =H44/G44*100 -> 85.843754
F45: Peningkatan Efektifitas Pelaksanaan Pelayanan kepada Masyarakat di Wilayah Kecamatan | G45: 211308210 | H45: 181394899 | I45: 12 | J45: =H45/G45*100 -> 85.843754 | K45: kegiatan
E47: 3. | F47: PROGRAM PEMBERDAYAAN MASYARAKAT DESA DAN KELURAHAN | G47: =G48 -> 146750000 | H47: =H48 -> 130016960 | J47: =H47/G47*100 -> 88.597588
F48: Koordinasi Kegiatan Pemberdayaan Desa | G48: =G49+G50 -> 146750000 | H48: =H49+H50 -> 130016960 | J48: =H48/G48*100 -> 88.597588
F49: Peningkatan Partisipasi masyarakat dalam Forum Musyawarah Perencanaan Pembangunan Desa | G49: 25000000 | H49: 24994000 | I49: 5 | J49: =H49/G49*100 -> 99.976 | K49: kampung
F50: Sinkronisasi Program Kerja dan Kegiatan Pemberdayaan Masyarakat yang dilakukan oleh Pemerintah dan Swasta di Wilayah Kerja Kecamatan | G50: 121750000 | H50: 105022960 | I50: 3 | J50: =H50/G50*100 -> 86.261158 | K50: orang
...

Sheet kons PK (L2)
A1: LAMPIRAN 2
A2: KONSISTENSI PERENCANAAN DAN PENGANGGARAN PEMBANGUNAN
A3: KABUPATEN BERAU TAHUN 2017
A5: No. Urut | B5: Kode OPD | C5: SKPD | D5: Jumlah Program | G5: Program Yang Sama | J5: Program Tidak Sama | M5: Jumlah Kegiatan | O5: Kegiatan Yang Sama | P5: Kegiatan Tidak Sama
D6: RPJMD | E6: RKPD | F6: APBD | G6: RKPD & RPJMD | H6: APBD & RKPD | I6: APBD & RPJMD | J6: RKPD & RPJMD | K6: APBD & RKPD | L6: APBD & RPJMD | M6: RKPD | N6: APBD
A8: (1) | B8: (2) | C8: (3) | D8: (4) | E8: (5) | F8: (6) | G8: (7) | H8: (8) | I8: (9) | J8: (10) | K8: (11) | L8: (12) | M8: (13) | N8: (14) | O8: (15) | P8: (16)
A9: 1 | B9: 1.01.01 | C9: Dinas Pendidikan | D9: =SUM(#REF!) -> #REF! | E9: =SUM(#REF!) -> #REF! | F9: =SUM(#REF!) -> #REF! | G9: =SUM(#REF!) -> #REF! | H9: =SUM(#REF!) -> #REF! | I9: =SUM(#REF!) -> #REF! | J9: =(D9-G9)+(E9-G9) -> #REF! | K9: =(E9-H9)+(F9-H9) -> #REF! | L9: =(D9-I9)+(F9-I9) -> #REF! | M9: =SUM(#REF!) -> #REF! | N9: =SUM(#REF!) -> #REF! | O9: =SUM(#REF!) -> #REF! | P9: =(M9-O9)+(N9-O9) -> #REF! | Q9: =D9-I9 -> #REF! | R9: =F9-H9 -> #REF!
A10: 2 | B10: 1.02.01 | C10: Dinas Kesehatan | D10: =SUM(#REF!) -> #REF! | E10: =SUM(#REF!) -> #REF! | F10: =SUM(#REF!) -> #REF! | G10: =SUM(#REF!) -> #REF! | H10: =SUM(#REF!) -> #REF! | I10: =SUM(#REF!) -> #REF! | J10: =(D10-G10)+(E10-G10) -> #REF! | K10: =(E10-H10)+(F10-H10) -> #REF! | L10: =(D10-I10)+(F10-I10) -> #REF! | M10: =SUM(#REF!) -> #REF! | N10: =SUM(#REF!) -> #REF! | O10: =SUM(#REF!) -> #REF! | P10: =(M10-O10)+(N10-O10) -> #REF! | Q10: =D10-I10 -> #REF! | R10: =F10-H10 -> #REF!
A11: 3 | B11: 1.02.02 | C11: RSUD Dr. Abdul Rivai | D11: =SUM(#REF!) -> #REF! | E11: =SUM(#REF!) -> #REF! | F11: =SUM(#REF!) -> #REF! | G11: =SUM(#REF!) -> #REF! | H11: =SUM(#REF!) -> #REF! | I11: =SUM(#REF!) -> #REF! | J11: =(D11-G11)+(E11-G11) -> #REF! | K11: =(E11-H11)+(F11-H11) -> #REF! | L11: =(D11-I11)+(F11-I11) -> #REF! | M11: =SUM(#REF!) -> #REF! | N11: =SUM(#REF!) -> #REF! | O11: =SUM(#REF!) -> #REF! | P11: =(M11-O11)+(N11-O11) -> #REF! | Q11: =D11-I11 -> #REF! | R11: =F11-H11 -> #REF!
A12: 4 | B12: 1.03.01 | C12: Dinas Pekerjaan Umum dan Penataan Ruang | D12: =SUM(#REF!) -> #REF! | E12: =SUM(#REF!) -> #REF! | F12: =SUM(#REF!) -> #REF! | G12: =SUM(#REF!) -> #REF! | H12: =SUM(#REF!) -> #REF! | I12: =SUM(#REF!) -> #REF! | J12: =(D12-G12)+(E12-G12) -> #REF! | K12: =(E12-H12)+(F12-H12) -> #REF! | L12: =(D12-I12)+(F12-I12) -> #REF! | M12: =SUM(#REF!) -> #REF! | N12: =SUM(#REF!) -> #REF! | O12: =SUM(#REF!) -> #REF! | P12: =(M12-O12)+(N12-O12) -> #REF! | Q12: =D12-I12 -> #REF! | R12: =F12-H12 -> #REF!
A13: 5 | B13: 1.04.01 | C13: Dinas Perumahan dan Kawasan Permukiman | D13: =SUM(#REF!) -> #REF! | E13: =SUM(#REF!) -> #REF! | F13: =SUM(#REF!) -> #REF! | G13: =SUM(#REF!) -> #REF! | H13: =SUM(#REF!) -> #REF! | I13: =SUM(#REF!) -> #REF! | J13: =(D13-G13)+(E13-G13) -> #REF! | K13: =(E13-H13)+(F13-H13) -> #REF! | L13: =(D13-I13)+(F13-I13) -> #REF! | M13: =SUM(#REF!) -> #REF! | N13: =SUM(#REF!) -> #REF! | O13: =SUM(#REF!) -> #REF! | P13: =(M13-O13)+(N13-O13) -> #REF! | Q13: =D13-I13 -> #REF! | R13: =F13-H13 -> #REF!
A14: 6 | B14: 1.05.01 | C14: =#REF! -> #REF! | D14: =SUM(#REF!) -> #REF! | E14: =SUM(#REF!) -> #REF! | F14: =SUM(#REF!) -> #REF! | G14: =SUM(#REF!) -> #REF! | H14: =SUM(#REF!) -> #REF! | I14: =SUM(#REF!) -> #REF! | J14: =(D14-G14)+(E14-G14) -> #REF! | K14: =(E14-H14)+(F14-H14) -> #REF! | L14: =(D14-I14)+(F14-I14) -> #REF! | M14: =SUM(#REF!) -> #REF! | N14: =SUM(#REF!) -> #REF! | O14: =SUM(#REF!) -> #REF! | P14: =(M14-O14)+(N14-O14) -> #REF! | Q14: =D14-I14 -> #REF! | R14: =F14-H14 -> #REF!
A15: 7 | B15: 1.05.02 | C15: Badan Penanggulangan Bencana Daerah | D15: =SUM(#REF!,#REF!) -> #REF! | E15: =SUM(#REF!,#REF!) -> #REF! | F15: =SUM(#REF!,#REF!) -> #REF! | G15: =SUM(#REF!,#REF!) -> #REF! | H15: =SUM(#REF!,#REF!) -> #REF! | I15: =SUM(#REF!,#REF!) -> #REF! | J15: =(D15-G15)+(E15-G15) -> #REF! | K15: =(E15-H15)+(F15-H15) -> #REF! | L15: =(D15-I15)+(F15-I15) -> #REF! | M15: =SUM(#REF!,#REF!) -> #REF! | N15: =SUM(#REF!,#REF!) -> #REF! | O15: =SUM(#REF!,#REF!) -> #REF! | P15: =(M15-O15)+(N15-O15) -> #REF! | Q15: =D15-I15 -> #REF! | R15: =F15-H15 -> #REF!
A16: 8 | B16: 1.05.03 | C16: Kantor Satuan Polisi Pamong Praja | D16: =SUM(#REF!) -> #REF! | E16: =SUM(#REF!) -> #REF! | F16: =SUM(#REF!) -> #REF! | G16: =SUM(#REF!) -> #REF! | H16: =SUM(#REF!) -> #REF! | I16: =SUM(#REF!) -> #REF! | J16: =(D16-G16)+(E16-G16) -> #REF! | K16: =(E16-H16)+(F16-H16) -> #REF! | L16: =(D16-I16)+(F16-I16) -> #REF! | M16: =SUM(#REF!) -> #REF! | N16: =SUM(#REF!) -> #REF! | O16: =SUM(#REF!) -> #REF! | P16: =(M16-O16)+(N16-O16) -> #REF! | Q16: =D16-I16 -> #REF! | R16: =F16-H16 -> #REF!
A17: 9 | B17: 1.06.01 | C17: Dinas Sosial | D17: =SUM(#REF!) -> #REF! | E17: =SUM(#REF!) -> #REF! | F17: =SUM(#REF!) -> #REF! | G17: =SUM(#REF!) -> #REF! | H17: =SUM(#REF!) -> #REF! | I17: =SUM(#REF!) -> #REF! | J17: =(D17-G17)+(E17-G17) -> #REF! | K17: =(E17-H17)+(F17-H17) -> #REF! | L17: =(D17-I17)+(F17-I17) -> #REF! | M17: =SUM(#REF!) -> #REF! | N17: =SUM(#REF!) -> #REF! | O17: =SUM(#REF!) -> #REF! | P17: =(M17-O17)+(N17-O17) -> #REF! | Q17: =D17-I17 -> #REF! | R17: =F17-H17 -> #REF!
A18: 10 | B18: 2.01.01 | C18: Dinas Tenaga Kerja dan Transmigrasi | D18: =SUM(#REF!,#REF!) -> #REF! | E18: =SUM(#REF!,#REF!) -> #REF! | F18: =SUM(#REF!,#REF!) -> #REF! | G18: =SUM(#REF!,#REF!) -> #REF! | H18: =SUM(#REF!,#REF!) -> #REF! | I18: =SUM(#REF!,#REF!) -> #REF! | J18: =(D18-G18)+(E18-G18) -> #REF! | K18: =(E18-H18)+(F18-H18) -> #REF! | L18: =(D18-I18)+(F18-I18) -> #REF! | M18: =SUM(#REF!,#REF!) -> #REF! | N18: =SUM(#REF!,#REF!) -> #REF! | O18: =SUM(#REF!,#REF!) -> #REF! | P18: =(M18-O18)+(N18-O18) -> #REF! | Q18: =D18-I18 -> #REF! | R18: =F18-H18 -> #REF!
A19: 11 | B19: 2.02.01 | C19: =#REF! -> #REF! | D19: =SUM(#REF!,#REF!) -> #REF! | E19: =SUM(#REF!,#REF!) -> #REF! | F19: =SUM(#REF!,#REF!) -> #REF! | G19: =SUM(#REF!,#REF!) -> #REF! | H19: =SUM(#REF!,#REF!) -> #REF! | I19: =SUM(#REF!,#REF!) -> #REF! | J19: =(D19-G19)+(E19-G19) -> #REF! | K19: =(E19-H19)+(F19-H19) -> #REF! | L19: =(D19-I19)+(F19-I19) -> #REF! | M19: =SUM(#REF!,#REF!) -> #REF! | N19: =SUM(#REF!,#REF!) -> #REF! | O19: =SUM(#REF!,#REF!) -> #REF! | P19: =(M19-O19)+(N19-O19) -> #REF! | Q19: =D19-I19 -> #REF! | R19: =F19-H19 -> #REF!
A20: 12 | B20: 2.03.01 | C20: =#REF! -> #REF! | D20: =SUM(#REF!) -> #REF! | E20: =SUM(#REF!) -> #REF! | F20: =SUM(#REF!) -> #REF! | G20: =SUM(#REF!) -> #REF! | H20: =SUM(#REF!) -> #REF! | I20: =SUM(#REF!) -> #REF! | J20: =(D20-G20)+(E20-G20) -> #REF! | K20: =(E20-H20)+(F20-H20) -> #REF! | L20: =(D20-I20)+(F20-I20) -> #REF! | M20: =SUM(#REF!) -> #REF! | N20: =SUM(#REF!) -> #REF! | O20: =SUM(#REF!) -> #REF! | P20: =(M20-O20)+(N20-O20) -> #REF! | Q20: =D20-I20 -> #REF! | R20: =F20-H20 -> #REF!
A21: 13 | B21: 2.04.01 | C21: =#REF! -> #REF! | D21: =SUM(#REF!) -> #REF! | E21: =SUM(#REF!) -> #REF! | F21: =SUM(#REF!) -> #REF! | G21: =SUM(#REF!) -> #REF! | H21: =SUM(#REF!) -> #REF! | I21: =SUM(#REF!) -> #REF! | K21: =(E21-H21)+(F21-H21) -> #REF! | L21: =(D21-I21)+(F21-I21) -> #REF! | M21: =SUM(#REF!) -> #REF! | N21: =SUM(#REF!) -> #REF! | O21: =SUM(#REF!) -> #REF! | Q21: =D21-I21 -> #REF! | R21: =F21-H21 -> #REF!
A22: 14 | B22: 2.05.01 | C22: =#REF! -> #REF! | D22: =SUM(#REF!) -> #REF! | E22: =SUM(#REF!) -> #REF! | F22: =SUM(#REF!) -> #REF! | G22: =SUM(#REF!) -> #REF! | H22: =SUM(#REF!) -> #REF! | I22: =SUM(#REF!) -> #REF! | J22: =(D22-G22)+(E22-G22) -> #REF! | K22: =(E22-H22)+(F22-H22) -> #REF! | L22: =(D22-I22)+(F22-I22) -> #REF! | M22: =SUM(#REF!) -> #REF! | N22: =SUM(#REF!) -> #REF! | O22: =SUM(#REF!) -> #REF! | P22: =(M22-O22)+(N22-O22) -> #REF! | Q22: =D22-I22 -> #REF! | R22: =F22-H22 -> #REF!
A23: 15 | B23: 2.06.01 | C23: =#REF! -> #REF! | D23: =SUM(#REF!) -> #REF! | E23: =SUM(#REF!) -> #REF! | F23: =SUM(#REF!) -> #REF! | G23: =SUM(#REF!) -> #REF! | H23: =SUM(#REF!) -> #REF! | I23: =SUM(#REF!) -> #REF! | J23: =(D23-G23)+(E23-G23) -> #REF! | K23: =(E23-H23)+(F23-H23) -> #REF! | L23: =(D23-I23)+(F23-I23) -> #REF! | M23: =SUM(#REF!) -> #REF! | N23: =SUM(#REF!) -> #REF! | O23: =SUM(#REF!) -> #REF! | P23: =(M23-O23)+(N23-O23) -> #REF! | Q23: =D23-I23 -> #REF! | R23: =F23-H23 -> #REF!
A24: 16 | B24: 2.07.01 | C24: =#REF! -> #REF! | D24: =SUM(#REF!) -> #REF! | E24: =SUM(#REF!) -> #REF! | F24: =SUM(#REF!) -> #REF! | G24: =SUM(#REF!) -> #REF! | H24: =SUM(#REF!) -> #REF! | I24: =SUM(#REF!) -> #REF! | J24: =(D24-G24)+(E24-G24) -> #REF! | K24: =(E24-H24)+(F24-H24) -> #REF! | L24: =(D24-I24)+(F24-I24) -> #REF! | M24: =SUM(#REF!) -> #REF! | N24: =SUM(#REF!) -> #REF! | O24: =SUM(#REF!) -> #REF! | P24: =(M24-O24)+(N24-O24) -> #REF! | Q24: =D24-I24 -> #REF! | R24: =F24-H24 -> #REF!
A25: 17 | B25: 2.09.01 | C25: =#REF! -> #REF! | D25: =SUM(#REF!) -> #REF! | E25: =SUM(#REF!) -> #REF! | F25: =SUM(#REF!) -> #REF! | G25: =SUM(#REF!) -> #REF! | H25: =SUM(#REF!) -> #REF! | I25: =SUM(#REF!) -> #REF! | J25: =(D25-G25)+(E25-G25) -> #REF! | K25: =(E25-H25)+(F25-H25) -> #REF! | L25: =(D25-I25)+(F25-I25) -> #REF! | M25: =SUM(#REF!) -> #REF! | N25: =SUM(#REF!) -> #REF! | O25: =SUM(#REF!) -> #REF! | P25: =(M25-O25)+(N25-O25) -> #REF! | Q25: =D25-I25 -> #REF! | R25: =F25-H25 -> #REF!
A26: 18 | B26: 2.10.01 | C26: =#REF! -> #REF! | D26: =SUM(#REF!) -> #REF! | E26: =SUM(#REF!) -> #REF! | F26: =SUM(#REF!) -> #REF! | G26: =SUM(#REF!) -> #REF! | H26: =SUM(#REF!) -> #REF! | I26: =SUM(#REF!) -> #REF! | J26: =(D26-G26)+(E26-G26) -> #REF! | K26: =(E26-H26)+(F26-H26) -> #REF! | L26: =(D26-I26)+(F26-I26) -> #REF! | M26: =SUM(#REF!) -> #REF! | N26: =SUM(#REF!) -> #REF! | O26: =SUM(#REF!) -> #REF! | P26: =(M26-O26)+(N26-O26) -> #REF! | Q26: =D26-I26 -> #REF! | R26: =F26-H26 -> #REF!
A27: 19 | B27: 2.11.01 | C27: Dinas Koperasi, Perindustrian dan Perdagangan | D27: =SUM(#REF!,#REF!) -> #REF! | E27: =SUM(#REF!,#REF!) -> #REF! | F27: =SUM(#REF!,#REF!) -> #REF! | G27: =SUM(#REF!,#REF!) -> #REF! | H27: =SUM(#REF!,#REF!) -> #REF! | I27: =SUM(#REF!,#REF!) -> #REF! | J27: =(D27-G27)+(E27-G27) -> #REF! | K27: =(E27-H27)+(F27-H27) -> #REF! | L27: =(D27-I27)+(F27-I27) -> #REF! | M27: =SUM(#REF!,#REF!) -> #REF! | N27: =SUM(#REF!,#REF!) -> #REF! | O27: =SUM(#REF!,#REF!) -> #REF! | P27: =(M27-O27)+(N27-O27) -> #REF! | Q27: =D27-I27 -> #REF! | R27: =F27-H27 -> #REF!
A28: 20 | B28: 2.12.01 | C28: =#REF! -> #REF! | D28: =SUM(#REF!) -> #REF! | E28: =SUM(#REF!) -> #REF! | F28: =SUM(#REF!) -> #REF! | G28: =SUM(#REF!) -> #REF! | H28: =SUM(#REF!) -> #REF! | I28: =SUM(#REF!) -> #REF! | J28: =(D28-G28)+(E28-G28) -> #REF! | K28: =(E28-H28)+(F28-H28) -> #REF! | L28: =(D28-I28)+(F28-I28) -> #REF! | M28: =SUM(#REF!) -> #REF! | N28: =SUM(#REF!) -> #REF! | O28: =SUM(#REF!) -> #REF! | P28: =(M28-O28)+(N28-O28) -> #REF! | Q28: =D28-I28 -> #REF! | R28: =F28-H28 -> #REF!
A29: 21 | B29: 2.13.01 | C29: =#REF! -> #REF! | D29: =SUM(#REF!) -> #REF! | E29: =SUM(#REF!) -> #REF! | F29: =SUM(#REF!) -> #REF! | G29: =SUM(#REF!) -> #REF! | H29: =SUM(#REF!) -> #REF! | I29: =SUM(#REF!) -> #REF! | J29: =(D29-G29)+(E29-G29) -> #REF! | K29: =(E29-H29)+(F29-H29) -> #REF! | L29: =(D29-I29)+(F29-I29) -> #REF! | M29: =SUM(#REF!) -> #REF! | N29: =SUM(#REF!) -> #REF! | O29: =SUM(#REF!) -> #REF! | P29: =(M29-O29)+(N29-O29) -> #REF! | Q29: =D29-I29 -> #REF! | R29: =F29-H29 -> #REF!
A30: 22 | B30: 2.16.01 | C30: Dinas Kebudayaan dan Pariwisata | D30: =SUM(#REF!,#REF!) -> #REF! | E30: =SUM(#REF!,#REF!) -> #REF! | F30: =SUM(#REF!,#REF!) -> #REF! | G30: =SUM(#REF!,#REF!) -> #REF! | H30: =SUM(#REF!,#REF!) -> #REF! | I30: =SUM(#REF!,#REF!) -> #REF! | J30: =(D30-G30)+(E30-G30) -> #REF! | K30: =(E30-H30)+(F30-H30) -> #REF! | L30: =(D30-I30)+(F30-I30) -> #REF! | M30: =SUM(#REF!,#REF!) -> #REF! | N30: =SUM(#REF!,#REF!) -> #REF! | O30: =SUM(#REF!,#REF!) -> #REF! | P30: =(M30-O30)+(N30-O30) -> #REF! | Q30: =D30-I30 -> #REF! | R30: =F30-H30 -> #REF!
A31: 23 | B31: 2.17.01 | C31: =#REF! -> #REF! | D31: =SUM(#REF!) -> #REF! | E31: =SUM(#REF!) -> #REF! | F31: =SUM(#REF!) -> #REF! | G31: =SUM(#REF!) -> #REF! | H31: =SUM(#REF!) -> #REF! | I31: =SUM(#REF!) -> #REF! | J31: =(D31-G31)+(E31-G31) -> #REF! | K31: =(E31-H31)+(F31-H31) -> #REF! | L31: =(D31-I31)+(F31-I31) -> #REF! | M31: =SUM(#REF!) -> #REF! | N31: =SUM(#REF!) -> #REF! | O31: =SUM(#REF!) -> #REF! | P31: =(M31-O31)+(N31-O31) -> #REF! | Q31: =D31-I31 -> #REF! | R31: =F31-H31 -> #REF!
A32: 24 | B32: 3.01.01 | C32: =#REF! -> #REF! | D32: =SUM(#REF!) -> #REF! | E32: =SUM(#REF!) -> #REF! | F32: =SUM(#REF!) -> #REF! | G32: =SUM(#REF!) -> #REF! | H32: =SUM(#REF!) -> #REF! | I32: =SUM(#REF!) -> #REF! | J32: =(D32-G32)+(E32-G32) -> #REF! | K32: =(E32-H32)+(F32-H32) -> #REF! | L32: =(D32-I32)+(F32-I32) -> #REF! | M32: =SUM(#REF!) -> #REF! | N32: =SUM(#REF!) -> #REF! | O32: =SUM(#REF!) -> #REF! | P32: =(M32-O32)+(N32-O32) -> #REF! | Q32: =D32-I32 -> #REF! | R32: =F32-H32 -> #REF!
A33: 25 | B33: 3.03.01 | C33: =#REF! -> #REF! | D33: =SUM(#REF!) -> #REF! | E33: =SUM(#REF!) -> #REF! | F33: =SUM(#REF!) -> #REF! | G33: =SUM(#REF!) -> #REF! | H33: =SUM(#REF!) -> #REF! | I33: =SUM(#REF!) -> #REF! | J33: =(D33-G33)+(E33-G33) -> #REF! | K33: =(E33-H33)+(F33-H33) -> #REF! | L33: =(D33-I33)+(F33-I33) -> #REF! | M33: =SUM(#REF!) -> #REF! | N33: =SUM(#REF!) -> #REF! | O33: =SUM(#REF!) -> #REF! | P33: =(M33-O33)+(N33-O33) -> #REF! | Q33: =D33-I33 -> #REF! | R33: =F33-H33 -> #REF!
A34: 26 | B34: 3.03.02 | C34: Dinas Perkebunan | D34: =SUM(#REF!) -> #REF! | E34: =SUM(#REF!) -> #REF! | F34: =SUM(#REF!) -> #REF! | G34: =SUM(#REF!) -> #REF! | H34: =SUM(#REF!) -> #REF! | I34: =SUM(#REF!) -> #REF! | J34: =(D34-G34)+(E34-G34) -> #REF! | K34: =(E34-H34)+(F34-H34) -> #REF! | L34: =(D34-I34)+(F34-I34) -> #REF! | M34: =SUM(#REF!) -> #REF! | N34: =SUM(#REF!) -> #REF! | O34: =SUM(#REF!) -> #REF! | P34: =(M34-O34)+(N34-O34) -> #REF! | Q34: =D34-I34 -> #REF! | R34: =F34-H34 -> #REF!
A35: 27 | B35: 4.01.03 | C35: Sekretariat Daerah | D35: =SUM(#REF!,#REF!,#REF!,#REF!) -> #REF! | E35: =SUM(#REF!,#REF!,#REF!,#REF!) -> #REF! | F35: =SUM(#REF!,#REF!,#REF!,#REF!) -> #REF! | G35: =SUM(#REF!,#REF!,#REF!,#REF!) -> #REF! | H35: =SUM(#REF!,#REF!,#REF!,#REF!) -> #REF! | I35: =SUM(#REF!,#REF!,#REF!,#REF!) -> #REF! | J35: =(D35-G35)+(E35-G35) -> #REF! | K35: =(E35-H35)+(F35-H35) -> #REF! | L35: =(D35-I35)+(F35-I35) -> #REF! | M35: =SUM(#REF!,#REF!,#REF!,#REF!) -> #REF! | N35: =SUM(#REF!,#REF!,#REF!,#REF!) -> #REF! | O35: =SUM(#REF!,#REF!,#REF!,#REF!) -> #REF! | Q35: =D35-I35 -> #REF! | R35: =F35-H35 -> #REF!
A36: 28 | B36: 4.01.04 | C36: Sekretariat DPRD | D36: =SUM(#REF!) -> #REF! | E36: =SUM(#REF!) -> #REF! | F36: =SUM(#REF!) -> #REF! | G36: =SUM(#REF!) -> #REF! | H36: =SUM(#REF!) -> #REF! | I36: =SUM(#REF!) -> #REF! | J36: =(D36-G36)+(E36-G36) -> #REF! | K36: =(E36-H36)+(F36-H36) -> #REF! | L36: =(D36-I36)+(F36-I36) -> #REF! | M36: =SUM(#REF!) -> #REF! | N36: =SUM(#REF!) -> #REF! | O36: =SUM(#REF!) -> #REF! | P36: =(M36-O36)+(N36-O36) -> #REF! | Q36: =D36-I36 -> #REF! | R36: =F36-H36 -> #REF!
A37: 29 | B37: 4.01.09 | C37: Kecamatan Tanjung Redeb | D37: =SUM(#REF!) -> #REF! | E37: =SUM(#REF!) -> #REF! | F37: =SUM(#REF!) -> #REF! | G37: =SUM(#REF!) -> #REF! | H37: =SUM(#REF!) -> #REF! | I37: =SUM(#REF!) -> #REF! | J37: =(D37-G37)+(E37-G37) -> #REF! | K37: =(E37-H37)+(F37-H37) -> #REF! | L37: =(D37-I37)+(F37-I37) -> #REF! | M37: =SUM(#REF!) -> #REF! | N37: =SUM(#REF!) -> #REF! | O37: =SUM(#REF!) -> #REF! | P37: =(M37-O37)+(N37-O37) -> #REF! | Q37: =D37-I37 -> #REF! | R37: =F37-H37 -> #REF!
A38: 30 | B38: 4.01.09 | C38: Kecamatan Gunung Tabur | D38: =SUM(#REF!) -> #REF! | E38: =SUM(#REF!) -> #REF! | F38: =SUM(#REF!) -> #REF! | G38: =SUM(#REF!) -> #REF! | H38: =SUM(#REF!) -> #REF! | I38: =SUM(#REF!) -> #REF! | J38: =(D38-G38)+(E38-G38) -> #REF! | K38: =(E38-H38)+(F38-H38) -> #REF! | L38: =(D38-I38)+(F38-I38) -> #REF! | M38: =SUM(#REF!) -> #REF! | N38: =SUM(#REF!) -> #REF! | O38: =SUM(#REF!) -> #REF! | P38: =(M38-O38)+(N38-O38) -> #REF! | Q38: =D38-I38 -> #REF! | R38: =F38-H38 -> #REF!
A39: 31 | B39: 4.01.09 | C39: Kecamatan Sambaliung | D39: =SUM(#REF!) -> #REF! | E39: =SUM(#REF!) -> #REF! | F39: =SUM(#REF!) -> #REF! | G39: =SUM(#REF!) -> #REF! | H39: =SUM(#REF!) -> #REF! | I39: =SUM(#REF!) -> #REF! | J39: =(D39-G39)+(E39-G39) -> #REF! | K39: =(E39-H39)+(F39-H39) -> #REF! | L39: =(D39-I39)+(F39-I39) -> #REF! | M39: =SUM(#REF!) -> #REF! | N39: =SUM(#REF!) -> #REF! | O39: =SUM(#REF!) -> #REF! | P39: =(M39-O39)+(N39-O39) -> #REF! | Q39: =D39-I39 -> #REF! | R39: =F39-H39 -> #REF!
A40: 32 | B40: 4.01.09 | C40: Kecamatan Teluk Bayur | D40: =SUM(#REF!) -> #REF! | E40: =SUM(#REF!) -> #REF! | F40: =SUM(#REF!) -> #REF! | G40: =SUM(#REF!) -> #REF! | H40: =SUM(#REF!) -> #REF! | I40: =SUM(#REF!) -> #REF! | J40: =(D40-G40)+(E40-G40) -> #REF! | K40: =(E40-H40)+(F40-H40) -> #REF! | L40: =(D40-I40)+(F40-I40) -> #REF! | M40: =SUM(#REF!) -> #REF! | N40: =SUM(#REF!) -> #REF! | O40: =SUM(#REF!) -> #REF! | P40: =(M40-O40)+(N40-O40) -> #REF! | Q40: =D40-I40 -> #REF! | R40: =F40-H40 -> #REF!
A41: 33 | B41: 4.01.09 | C41: Kecamatan Segah | D41: =SUM(#REF!) -> #REF! | E41: =SUM(#REF!) -> #REF! | F41: =SUM(#REF!) -> #REF! | G41: =SUM(#REF!) -> #REF! | H41: =SUM(#REF!) -> #REF! | I41: =SUM(#REF!) -> #REF! | J41: =(D41-G41)+(E41-G41) -> #REF! | K41: =(E41-H41)+(F41-H41) -> #REF! | L41: =(D41-I41)+(F41-I41) -> #REF! | M41: =SUM(#REF!) -> #REF! | N41: =SUM(#REF!) -> #REF! | O41: =SUM(#REF!) -> #REF! | P41: =(M41-O41)+(N41-O41) -> #REF! | Q41: =D41-I41 -> #REF! | R41: =F41-H41 -> #REF!
A42: 34 | B42: 4.01.09 | C42: Kecamatan Kelay | D42: =SUM(#REF!) -> #REF! | E42: =SUM(#REF!) -> #REF! | F42: =SUM(#REF!) -> #REF! | G42: =SUM(#REF!) -> #REF! | H42: =SUM(#REF!) -> #REF! | I42: =SUM(#REF!) -> #REF! | J42: =(D42-G42)+(E42-G42) -> #REF! | K42: =(E42-H42)+(F42-H42) -> #REF! | L42: =(D42-I42)+(F42-I42) -> #REF! | M42: =SUM(#REF!) -> #REF! | N42: =SUM(#REF!) -> #REF! | O42: =SUM(#REF!) -> #REF! | P42: =(M42-O42)+(N42-O42) -> #REF! | Q42: =D42-I42 -> #REF! | R42: =F42-H42 -> #REF!
...

Sheet kons PR (L3)
A1: LAMPIRAN 3
A2: PERBANDINGAN ANTARA PENDANAAN INDIKATIF DAN ANGGARAN PEMBANGUNAN
A3: KABUPATEN BERAU TAHUN 2017
N4: (dalam ribuan rupiah)
A5: No. Urut | B5: Kode OPD | C5: SKPD | D5: Kerangka Pendanaan dan Anggaran OPD Tahun 2017 | I5: Selisih Kerangka Pendanaan dan Anggaran
D6: RPJMD | E6: RKPD | G6: APBD
D7: Rp. | E7: Rp. | F7: % RPJMD | G7: Rp. | H7: % RPJMD | I7: RKPD & RPJMD | K7: APBD & RKPD | M7: APBD & RPJMD
A8: (1) | B8: (2) | C8: (3) | D8: (4) | E8: (5) | G8: (6) | I8: (7) | K8: (8) | M8: (9)
A9: 1 | B9: 1.01.01 | C9: Dinas Pendidikan | D9: =SUM(#REF!) -> #REF! | E9: =SUM(#REF!) -> #REF! | F9: =E9/D9*100 -> #REF! | G9: =SUM(#REF!) -> #REF! | H9: =G9/D9*100 -> #REF! | I9: =E9-D9 -> #REF! | J9: =I9/$I$57 -> #REF! | K9: =G9-E9 -> #REF! | L9: =K9/$K$57 -> #REF! | M9: =G9-D9 -> #REF! | N9: =M9/$M$57 -> #REF!
A10: =A9+1 -> 2 | B10: 1.02.01 | C10: Dinas Kesehatan | D10: =SUM(#REF!) -> #REF! | E10: =SUM(#REF!) -> #REF! | F10: =E10/D10*100 -> #REF! | G10: =SUM(#REF!) -> #REF! | H10: =G10/D10*100 -> #REF! | I10: =E10-D10 -> #REF! | J10: =I10/$I$57 -> #REF! | K10: =G10-E10 -> #REF! | L10: =K10/$K$57 -> #REF! | M10: =G10-D10 -> #REF! | N10: =M10/$M$57 -> #REF!
A11: =A10+1 -> 3 | B11: 1.02.02 | C11: RSUD Dr. Abdul Rivai | D11: =SUM(#REF!) -> #REF! | E11: =SUM(#REF!) -> #REF! | F11: =E11/D11*100 -> #REF! | G11: =SUM(#REF!) -> #REF! | H11: =G11/D11*100 -> #REF! | I11: =E11-D11 -> #REF! | J11: =I11/$I$57 -> #REF! | K11: =G11-E11 -> #REF! | L11: =K11/$K$57 -> #REF! | M11: =G11-D11 -> #REF! | N11: =M11/$M$57 -> #REF!
A12: =A11+1 -> 4 | B12: 1.03.01 | C12: Dinas Pekerjaan Umum dan Penataan Ruang | D12: =SUM(#REF!) -> #REF! | E12: =SUM(#REF!) -> #REF! | F12: =E12/D12*100 -> #REF! | G12: =SUM(#REF!) -> #REF! | H12: =G12/D12*100 -> #REF! | I12: =E12-D12 -> #REF! | J12: =I12/$I$57 -> #REF! | K12: =G12-E12 -> #REF! | L12: =K12/$K$57 -> #REF! | M12: =G12-D12 -> #REF! | N12: =M12/$M$57 -> #REF!
A13: =A12+1 -> 5 | B13: 1.04.01 | C13: Dinas Perumahan dan Kawasan Permukiman | D13: =SUM(#REF!) -> #REF! | E13: =SUM(#REF!) -> #REF! | F13: =E13/D13*100 -> #REF! | G13: =SUM(#REF!) -> #REF! | H13: =G13/D13*100 -> #REF! | I13: =E13-D13 -> #REF! | J13: =I13/$I$57 -> #REF! | K13: =G13-E13 -> #REF! | L13: =K13/$K$57 -> #REF! | M13: =G13-D13 -> #REF! | N13: =M13/$M$57 -> #REF!
A14: =A13+1 -> 6 | B14: 1.05.01 | C14: =#REF! -> #REF! | D14: =SUM(#REF!) -> #REF! | E14: =SUM(#REF!) -> #REF! | F14: =E14/D14*100 -> #REF! | G14: =SUM(#REF!) -> #REF! | H14: =G14/D14*100 -> #REF! | I14: =E14-D14 -> #REF! | J14: =I14/$I$57 -> #REF! | K14: =G14-E14 -> #REF! | L14: =K14/$K$57 -> #REF! | M14: =G14-D14 -> #REF! | N14: =M14/$M$57 -> #REF!
A15: =A14+1 -> 7 | B15: 1.05.02 | C15: Badan Penanggulangan Bencana Daerah | D15: =SUM(#REF!,#REF!) -> #REF! | E15: =SUM(#REF!,#REF!) -> #REF! | F15: =E15/D15*100 -> #REF! | G15: =SUM(#REF!,#REF!) -> #REF! | H15: =G15/D15*100 -> #REF! | I15: =E15-D15 -> #REF! | J15: =I15/$I$57 -> #REF! | K15: =G15-E15 -> #REF! | L15: =K15/$K$57 -> #REF! | M15: =G15-D15 -> #REF! | N15: =M15/$M$57 -> #REF!
A16: =A15+1 -> 8 | B16: 1.05.03 | C16: Kantor Satuan Polisi Pamong Praja | D16: =SUM(#REF!) -> #REF! | E16: =SUM(#REF!) -> #REF! | F16: =E16/D16*100 -> #REF! | G16: =SUM(#REF!) -> #REF! | H16: =G16/D16*100 -> #REF! | I16: =E16-D16 -> #REF! | J16: =I16/$I$57 -> #REF! | K16: =G16-E16 -> #REF! | L16: =K16/$K$57 -> #REF! | M16: =G16-D16 -> #REF! | N16: =M16/$M$57 -> #REF!
A17: =A16+1 -> 9 | B17: 1.06.01 | C17: Dinas Sosial | D17: =SUM(#REF!) -> #REF! | E17: =SUM(#REF!) -> #REF! | F17: =E17/D17*100 -> #REF! | G17: =SUM(#REF!) -> #REF! | H17: =G17/D17*100 -> #REF! | I17: =E17-D17 -> #REF! | J17: =I17/$I$57 -> #REF! | K17: =G17-E17 -> #REF! | L17: =K17/$K$57 -> #REF! | M17: =G17-D17 -> #REF! | N17: =M17/$M$57 -> #REF!
A18: =A17+1 -> 10 | B18: 2.01.01 | C18: Dinas Tenaga Kerja dan Transmigrasi | D18: =SUM(#REF!,#REF!) -> #REF! | E18: =SUM(#REF!,#REF!) -> #REF! | F18: =E18/D18*100 -> #REF! | G18: =SUM(#REF!,#REF!) -> #REF! | H18: =G18/D18*100 -> #REF! | I18: =E18-D18 -> #REF! | J18: =I18/$I$57 -> #REF! | K18: =G18-E18 -> #REF! | L18: =K18/$K$57 -> #REF! | M18: =G18-D18 -> #REF! | N18: =M18/$M$57 -> #REF!
A19: =A18+1 -> 11 | B19: 2.02.01 | C19: =#REF! -> #REF! | D19: =SUM(#REF!,#REF!) -> #REF! | E19: =SUM(#REF!,#REF!) -> #REF! | F19: =E19/D19*100 -> #REF! | G19: =SUM(#REF!,#REF!) -> #REF! | H19: =G19/D19*100 -> #REF! | I19: =E19-D19 -> #REF! | J19: =I19/$I$57 -> #REF! | K19: =G19-E19 -> #REF! | L19: =K19/$K$57 -> #REF! | M19: =G19-D19 -> #REF! | N19: =M19/$M$57 -> #REF!
A20: =A19+1 -> 12 | B20: 2.03.01 | C20: =#REF! -> #REF! | D20: =SUM(#REF!) -> #REF! | E20: =SUM(#REF!) -> #REF! | F20: =E20/D20*100 -> #REF! | G20: =SUM(#REF!) -> #REF! | H20: =G20/D20*100 -> #REF! | I20: =E20-D20 -> #REF! | J20: =I20/$I$57 -> #REF! | K20: =G20-E20 -> #REF! | L20: =K20/$K$57 -> #REF! | M20: =G20-D20 -> #REF! | N20: =M20/$M$57 -> #REF!
A21: =A20+1 -> 13 | B21: 2.04.01 | C21: =#REF! -> #REF! | D21: =SUM(#REF!) -> #REF! | E21: =SUM(#REF!) -> #REF! | F21: =E21/D21*100 -> #REF! | G21: =SUM(#REF!) -> #REF! | H21: =G21/D21*100 -> #REF! | I21: =E21-D21 -> #REF! | J21: =I21/$I$57 -> #REF! | K21: =G21-E21 -> #REF! | L21: =K21/$K$57 -> #REF! | M21: =G21-D21 -> #REF! | N21: =M21/$M$57 -> #REF!
A22: =A21+1 -> 14 | B22: 2.05.01 | C22: =#REF! -> #REF! | D22: =SUM(#REF!) -> #REF! | E22: =SUM(#REF!) -> #REF! | F22: =E22/D22*100 -> #REF! | G22: =SUM(#REF!) -> #REF! | H22: =G22/D22*100 -> #REF! | I22: =E22-D22 -> #REF! | J22: =I22/$I$57 -> #REF! | K22: =G22-E22 -> #REF! | L22: =K22/$K$57 -> #REF! | M22: =G22-D22 -> #REF! | N22: =M22/$M$57 -> #REF!
A23: =A22+1 -> 15 | B23: 2.06.01 | C23: =#REF! -> #REF! | D23: =SUM(#REF!) -> #REF! | E23: =SUM(#REF!) -> #REF! | F23: =E23/D23*100 -> #REF! | G23: =SUM(#REF!) -> #REF! | H23: =G23/D23*100 -> #REF! | I23: =E23-D23 -> #REF! | J23: =I23/$I$57 -> #REF! | K23: =G23-E23 -> #REF! | L23: =K23/$K$57 -> #REF! | M23: =G23-D23 -> #REF! | N23: =M23/$M$57 -> #REF!
A24: =A23+1 -> 16 | B24: 2.07.01 | C24: =#REF! -> #REF! | D24: =SUM(#REF!) -> #REF! | E24: =SUM(#REF!) -> #REF! | F24: =E24/D24*100 -> #REF! | G24: =SUM(#REF!) -> #REF! | H24: =G24/D24*100 -> #REF! | I24: =E24-D24 -> #REF! | J24: =I24/$I$57 -> #REF! | K24: =G24-E24 -> #REF! | L24: =K24/$K$57 -> #REF! | M24: =G24-D24 -> #REF! | N24: =M24/$M$57 -> #REF!
A25: =A24+1 -> 17 | B25: 2.09.01 | C25: =#REF! -> #REF! | D25: =SUM(#REF!) -> #REF! | E25: =SUM(#REF!) -> #REF! | F25: =E25/D25*100 -> #REF! | G25: =SUM(#REF!) -> #REF! | H25: =G25/D25*100 -> #REF! | I25: =E25-D25 -> #REF! | J25: =I25/$I$57 -> #REF! | K25: =G25-E25 -> #REF! | L25: =K25/$K$57 -> #REF! | M25: =G25-D25 -> #REF! | N25: =M25/$M$57 -> #REF!
A26: =A25+1 -> 18 | B26: 2.10.01 | C26: =#REF! -> #REF! | D26: =SUM(#REF!) -> #REF! | E26: =SUM(#REF!) -> #REF! | F26: =E26/D26*100 -> #REF! | G26: =SUM(#REF!) -> #REF! | H26: =G26/D26*100 -> #REF! | I26: =E26-D26 -> #REF! | J26: =I26/$I$57 -> #REF! | K26: =G26-E26 -> #REF! | L26: =K26/$K$57 -> #REF! | M26: =G26-D26 -> #REF! | N26: =M26/$M$57 -> #REF!
A27: =A26+1 -> 19 | B27: 2.11.01 | C27: Dinas Koperasi, Perindustrian dan Perdagangan | D27: =SUM(#REF!,#REF!) -> #REF! | E27: =SUM(#REF!,#REF!) -> #REF! | F27: =E27/D27*100 -> #REF! | G27: =SUM(#REF!,#REF!) -> #REF! | H27: =G27/D27*100 -> #REF! | I27: =E27-D27 -> #REF! | J27: =I27/$I$57 -> #REF! | K27: =G27-E27 -> #REF! | L27: =K27/$K$57 -> #REF! | M27: =G27-D27 -> #REF! | N27: =M27/$M$57 -> #REF!
A28: =A27+1 -> 20 | B28: 2.12.01 | C28: =#REF! -> #REF! | D28: =SUM(#REF!) -> #REF! | E28: =SUM(#REF!) -> #REF! | F28: =E28/D28*100 -> #REF! | G28: =SUM(#REF!) -> #REF! | H28: =G28/D28*100 -> #REF! | I28: =E28-D28 -> #REF! | J28: =I28/$I$57 -> #REF! | K28: =G28-E28 -> #REF! | L28: =K28/$K$57 -> #REF! | M28: =G28-D28 -> #REF! | N28: =M28/$M$57 -> #REF!
A29: =A28+1 -> 21 | B29: 2.13.01 | C29: =#REF! -> #REF! | D29: =SUM(#REF!) -> #REF! | E29: =SUM(#REF!) -> #REF! | F29: =E29/D29*100 -> #REF! | G29: =SUM(#REF!) -> #REF! | H29: =G29/D29*100 -> #REF! | I29: =E29-D29 -> #REF! | J29: =I29/$I$57 -> #REF! | K29: =G29-E29 -> #REF! | L29: =K29/$K$57 -> #REF! | M29: =G29-D29 -> #REF! | N29: =M29/$M$57 -> #REF!
A30: =A29+1 -> 22 | B30: 2.16.01 | C30: Dinas Kebudayaan dan Pariwisata | D30: =SUM(#REF!,#REF!) -> #REF! | E30: =SUM(#REF!,#REF!) -> #REF! | F30: =E30/D30*100 -> #REF! | G30: =SUM(#REF!,#REF!) -> #REF! | H30: =G30/D30*100 -> #REF! | I30: =E30-D30 -> #REF! | J30: =I30/$I$57 -> #REF! | K30: =G30-E30 -> #REF! | L30: =K30/$K$57 -> #REF! | M30: =G30-D30 -> #REF! | N30: =M30/$M$57 -> #REF!
A31: =A30+1 -> 23 | B31: 2.17.01 | C31: =#REF! -> #REF! | D31: =SUM(#REF!) -> #REF! | E31: =SUM(#REF!) -> #REF! | F31: =E31/D31*100 -> #REF! | G31: =SUM(#REF!) -> #REF! | H31: =G31/D31*100 -> #REF! | I31: =E31-D31 -> #REF! | J31: =I31/$I$57 -> #REF! | K31: =G31-E31 -> #REF! | L31: =K31/$K$57 -> #REF! | M31: =G31-D31 -> #REF! | N31: =M31/$M$57 -> #REF!
A32: =A31+1 -> 24 | B32: 3.01.01 | C32: =#REF! -> #REF! | D32: =SUM(#REF!) -> #REF! | E32: =SUM(#REF!) -> #REF! | F32: =E32/D32*100 -> #REF! | G32: =SUM(#REF!) -> #REF! | H32: =G32/D32*100 -> #REF! | I32: =E32-D32 -> #REF! | J32: =I32/$I$57 -> #REF! | K32: =G32-E32 -> #REF! | L32: =K32/$K$57 -> #REF! | M32: =G32-D32 -> #REF! | N32: =M32/$M$57 -> #REF!
A33: =A32+1 -> 25 | B33: 3.03.01 | C33: =#REF! -> #REF! | D33: =SUM(#REF!) -> #REF! | E33: =SUM(#REF!) -> #REF! | F33: =E33/D33*100 -> #REF! | G33: =SUM(#REF!) -> #REF! | H33: =G33/D33*100 -> #REF! | I33: =E33-D33 -> #REF! | J33: =I33/$I$57 -> #REF! | K33: =G33-E33 -> #REF! | L33: =K33/$K$57 -> #REF! | M33: =G33-D33 -> #REF! | N33: =M33/$M$57 -> #REF!
A34: =A33+1 -> 26 | B34: 3.03.02 | C34: Dinas Perkebunan | D34: =SUM(#REF!) -> #REF! | E34: =SUM(#REF!) -> #REF! | F34: =E34/D34*100 -> #REF! | G34: =SUM(#REF!) -> #REF! | H34: =G34/D34*100 -> #REF! | I34: =E34-D34 -> #REF! | J34: =I34/$I$57 -> #REF! | K34: =G34-E34 -> #REF! | L34: =K34/$K$57 -> #REF! | M34: =G34-D34 -> #REF! | N34: =M34/$M$57 -> #REF!
A35: =A34+1 -> 27 | B35: 4.01.03 | C35: Sekretariat Daerah | D35: =SUM(#REF!,#REF!,#REF!,#REF!) -> #REF! | E35: =SUM(#REF!,#REF!,#REF!,#REF!) -> #REF! | F35: =E35/D35*100 -> #REF! | G35: =SUM(#REF!,#REF!,#REF!,#REF!) -> #REF! | H35: =G35/D35*100 -> #REF! | I35: =E35-D35 -> #REF! | J35: =I35/$I$57 -> #REF! | K35: =G35-E35 -> #REF! | L35: =K35/$K$57 -> #REF! | M35: =G35-D35 -> #REF! | N35: =M35/$M$57 -> #REF!
A36: =A35+1 -> 28 | B36: 4.01.04 | C36: Sekretariat DPRD | D36: =SUM(#REF!) -> #REF! | E36: =SUM(#REF!) -> #REF! | F36: =E36/D36*100 -> #REF! | G36: =SUM(#REF!) -> #REF! | H36: =G36/D36*100 -> #REF! | I36: =E36-D36 -> #REF! | J36: =I36/$I$57 -> #REF! | K36: =G36-E36 -> #REF! | L36: =K36/$K$57 -> #REF! | M36: =G36-D36 -> #REF! | N36: =M36/$M$57 -> #REF!
A37: =A36+1 -> 29 | B37: 4.01.09 | C37: Kecamatan Tanjung Redeb | D37: =SUM(#REF!) -> #REF! | E37: =SUM(#REF!) -> #REF! | F37: =E37/D37*100 -> #REF! | G37: =SUM(#REF!) -> #REF! | H37: =G37/D37*100 -> #REF! | I37: =E37-D37 -> #REF! | J37: =I37/$I$57 -> #REF! | K37: =G37-E37 -> #REF! | L37: =K37/$K$57 -> #REF! | M37: =G37-D37 -> #REF! | N37: =M37/$M$57 -> #REF!
A38: =A37+1 -> 30 | B38: 4.01.09 | C38: Kecamatan Gunung Tabur | D38: =SUM(#REF!) -> #REF! | E38: =SUM(#REF!) -> #REF! | F38: =E38/D38*100 -> #REF! | G38: =SUM(#REF!) -> #REF! | H38: =G38/D38*100 -> #REF! | I38: =E38-D38 -> #REF! | J38: =I38/$I$57 -> #REF! | K38: =G38-E38 -> #REF! | L38: =K38/$K$57 -> #REF! | M38: =G38-D38 -> #REF! | N38: =M38/$M$57 -> #REF!
A39: =A38+1 -> 31 | B39: 4.01.09 | C39: Kecamatan Sambaliung | D39: =SUM(#REF!) -> #REF! | E39: =SUM(#REF!) -> #REF! | F39: =E39/D39*100 -> #REF! | G39: =SUM(#REF!) -> #REF! | H39: =G39/D39*100 -> #REF! | I39: =E39-D39 -> #REF! | J39: =I39/$I$57 -> #REF! | K39: =G39-E39 -> #REF! | L39: =K39/$K$57 -> #REF! | M39: =G39-D39 -> #REF! | N39: =M39/$M$57 -> #REF!
A40: =A39+1 -> 32 | B40: 4.01.09 | C40: Kecamatan Teluk Bayur | D40: =SUM(#REF!) -> #REF! | E40: =SUM(#REF!) -> #REF! | F40: =E40/D40*100 -> #REF! | G40: =SUM(#REF!) -> #REF! | H40: =G40/D40*100 -> #REF! | I40: =E40-D40 -> #REF! | J40: =I40/$I$57 -> #REF! | K40: =G40-E40 -> #REF! | L40: =K40/$K$57 -> #REF! | M40: =G40-D40 -> #REF! | N40: =M40/$M$57 -> #REF!
...

Sheet realisasi (L4)
A1: LAMPIRAN 4
A2: REALISASI PENDANAAN PEMBANGUNAN KABUPATEN BERAU
A3: TAHUN 2017
M5: (dalam ribuan rupiah)
A6: No. Urut | B6: Kode OPD | C6: SKPD | D6: Realisasi Pendanaan Program | J6: Sisa APBD | L6: Selisih Realisasi
D7: RPJMD | F7: RKPD | H7: APBD | L7: RKPD & RPJMD | M7: APBD & RKPD | N7: APBD & RPJMD
A9: (1) | B9: (2) | C9: (3) | D9: (4) | F9: (5) | H9: (6) | J9: (7) | L9: (8) | M9: (9) | N9: (10)
A10: 1 | B10: 1.01.01 | C10: Dinas Pendidikan | D10: =SUM(#REF!) -> #REF! | E10: =D10/'kons PR (L3)'!D9 -> #REF! | F10: =SUM(#REF!) -> #REF! | G10: =F10/'kons PR (L3)'!E9 -> #REF! | H10: =SUM(#REF!) -> #REF! | I10: =H10/'kons PR (L3)'!G9 -> #REF! | J10: ='kons PR (L3)'!G9-'realisasi (L4)'!H10 -> #REF! | K10: =J10/'kons PR (L3)'!G9 -> #REF! | L10: =F10-D10 -> #REF! | M10: =H10-F10 -> #REF! | N10: =H10-D10 -> #REF!
A11: =A10+1 -> 2 | B11: 1.02.01 | C11: Dinas Kesehatan | D11: =SUM(#REF!) -> #REF! | E11: =D11/'kons PR (L3)'!D10 -> #REF! | F11: =SUM(#REF!) -> #REF! | G11: =F11/'kons PR (L3)'!E10 -> #REF! | H11: =SUM(#REF!) -> #REF! | I11: =H11/'kons PR (L3)'!G10 -> #REF! | J11: ='kons PR (L3)'!G10-'realisasi (L4)'!H11 -> #REF! | K11: =J11/'kons PR (L3)'!G10 -> #REF! | L11: =F11-D11 -> #REF! | M11: =H11-F11 -> #REF! | N11: =H11-D11 -> #REF!
A12: =A11+1 -> 3 | B12: 1.02.02 | C12: RSUD Dr. Abdul Rivai | D12: =SUM(#REF!) -> #REF! | E12: =D12/'kons PR (L3)'!D11 -> #REF! | F12: =SUM(#REF!) -> #REF! | G12: =F12/'kons PR (L3)'!E11 -> #REF! | H12: =SUM(#REF!) -> #REF! | I12: =H12/'kons PR (L3)'!G11 -> #REF! | J12: ='kons PR (L3)'!G11-'realisasi (L4)'!H12 -> #REF! | K12: =J12/'kons PR (L3)'!G11 -> #REF! | L12: =F12-D12 -> #REF! | M12: =H12-F12 -> #REF! | N12: =H12-D12 -> #REF!
A13: =A12+1 -> 4 | B13: 1.03.01 | C13: Dinas Pekerjaan Umum dan Penataan Ruang | D13: =SUM(#REF!) -> #REF! | E13: =D13/'kons PR (L3)'!D12 -> #REF! | F13: =SUM(#REF!) -> #REF! | G13: =F13/'kons PR (L3)'!E12 -> #REF! | H13: =SUM(#REF!) -> #REF! | I13: =H13/'kons PR (L3)'!G12 -> #REF! | J13: ='kons PR (L3)'!G12-'realisasi (L4)'!H13 -> #REF! | K13: =J13/'kons PR (L3)'!G12 -> #REF! | L13: =F13-D13 -> #REF! | M13: =H13-F13 -> #REF! | N13: =H13-D13 -> #REF!
A14: =A13+1 -> 5 | B14: 1.04.01 | C14: Dinas Perumahan dan Kawasan Permukiman | D14: =SUM(#REF!) -> #REF! | E14: =D14/'kons PR (L3)'!D13 -> #REF! | F14: =SUM(#REF!) -> #REF! | G14: =F14/'kons PR (L3)'!E13 -> #REF! | H14: =SUM(#REF!) -> #REF! | I14: =H14/'kons PR (L3)'!G13 -> #REF! | J14: ='kons PR (L3)'!G13-'realisasi (L4)'!H14 -> #REF! | K14: =J14/'kons PR (L3)'!G13 -> #REF! | L14: =F14-D14 -> #REF! | M14: =H14-F14 -> #REF! | N14: =H14-D14 -> #REF!
A15: =A14+1 -> 6 | B15: 1.05.01 | C15: =#REF! -> #REF! | D15: =SUM(#REF!) -> #REF! | E15: =D15/'kons PR (L3)'!D14 -> #REF! | F15: =SUM(#REF!) -> #REF! | G15: =F15/'kons PR (L3)'!E14 -> #REF! | H15: =SUM(#REF!) -> #REF! | I15: =H15/'kons PR (L3)'!G14 -> #REF! | J15: ='kons PR (L3)'!G14-'realisasi (L4)'!H15 -> #REF! | K15: =J15/'kons PR (L3)'!G14 -> #REF! | L15: =F15-D15 -> #REF! | M15: =H15-F15 -> #REF! | N15: =H15-D15 -> #REF!
A16: =A15+1 -> 7 | B16: 1.05.02 | C16: Badan Penanggulangan Bencana Daerah | D16: =SUM(#REF!,#REF!) -> #REF! | E16: =D16/'kons PR (L3)'!D15 -> #REF! | F16: =SUM(#REF!,#REF!) -> #REF! | G16: =F16/'kons PR (L3)'!E15 -> #REF! | H16: =SUM(#REF!,#REF!) -> #REF! | I16: =H16/'kons PR (L3)'!G15 -> #REF! | J16: ='kons PR (L3)'!G15-'realisasi (L4)'!H16 -> #REF! | K16: =J16/'kons PR (L3)'!G15 -> #REF! | L16: =F16-D16 -> #REF! | M16: =H16-F16 -> #REF! | N16: =H16-D16 -> #REF!
A17: =A16+1 -> 8 | B17: 1.05.03 | C17: Kantor Satuan Polisi Pamong Praja | D17: =SUM(#REF!) -> #REF! | E17: =D17/'kons PR (L3)'!D16 -> #REF! | F17: =SUM(#REF!) -> #REF! | G17: =F17/'kons PR (L3)'!E16 -> #REF! | H17: =SUM(#REF!) -> #REF! | I17: =H17/'kons PR (L3)'!G16 -> #REF! | J17: ='kons PR (L3)'!G16-'realisasi (L4)'!H17 -> #REF! | K17: =J17/'kons PR (L3)'!G16 -> #REF! | L17: =F17-D17 -> #REF! | M17: =H17-F17 -> #REF! | N17: =H17-D17 -> #REF!
A18: =A17+1 -> 9 | B18: 1.06.01 | C18: Dinas Sosial | D18: =SUM(#REF!) -> #REF! | E18: =D18/'kons PR (L3)'!D17 -> #REF! | F18: =SUM(#REF!) -> #REF! | G18: =F18/'kons PR (L3)'!E17 -> #REF! | H18: =SUM(#REF!) -> #REF! | I18: =H18/'kons PR (L3)'!G17 -> #REF! | J18: ='kons PR (L3)'!G17-'realisasi (L4)'!H18 -> #REF! | K18: =J18/'kons PR (L3)'!G17 -> #REF! | L18: =F18-D18 -> #REF! | M18: =H18-F18 -> #REF! | N18: =H18-D18 -> #REF!
A19: =A18+1 -> 10 | B19: 2.01.01 | C19: Dinas Tenaga Kerja dan Transmigrasi | D19: =SUM(#REF!,#REF!) -> #REF! | E19: =D19/'kons PR (L3)'!D18 -> #REF! | F19: =SUM(#REF!,#REF!) -> #REF! | G19: =F19/'kons PR (L3)'!E18 -> #REF! | H19: =SUM(#REF!,#REF!) -> #REF! | I19: =H19/'kons PR (L3)'!G18 -> #REF! | J19: ='kons PR (L3)'!G18-'realisasi (L4)'!H19 -> #REF! | K19: =J19/'kons PR (L3)'!G18 -> #REF! | L19: =F19-D19 -> #REF! | M19: =H19-F19 -> #REF! | N19: =H19-D19 -> #REF!
A20: =A19+1 -> 11 | B20: 2.02.01 | C20: =#REF! -> #REF! | D20: =SUM(#REF!,#REF!) -> #REF! | E20: =D20/'kons PR (L3)'!D19 -> #REF! | F20: =SUM(#REF!,#REF!) -> #REF! | G20: =F20/'kons PR (L3)'!E19 -> #REF! | H20: =SUM(#REF!,#REF!) -> #REF! | I20: =H20/'kons PR (L3)'!G19 -> #REF! | J20: ='kons PR (L3)'!G19-'realisasi (L4)'!H20 -> #REF! | K20: =J20/'kons PR (L3)'!G19 -> #REF! | L20: =F20-D20 -> #REF! | M20: =H20-F20 -> #REF! | N20: =H20-D20 -> #REF!
A21: =A20+1 -> 12 | B21: 2.03.01 | C21: =#REF! -> #REF! | D21: =SUM(#REF!) -> #REF! | E21: =D21/'kons PR (L3)'!D20 -> #REF! | F21: =SUM(#REF!) -> #REF! | G21: =F21/'kons PR (L3)'!E20 -> #REF! | H21: =SUM(#REF!) -> #REF! | I21: =H21/'kons PR (L3)'!G20 -> #REF! | J21: ='kons PR (L3)'!G20-'realisasi (L4)'!H21 -> #REF! | K21: =J21/'kons PR (L3)'!G20 -> #REF! | L21: =F21-D21 -> #REF! | M21: =H21-F21 -> #REF! | N21: =H21-D21 -> #REF!
A22: =A21+1 -> 13 | B22: 2.04.01 | C22: =#REF! -> #REF! | D22: =SUM(#REF!) -> #REF! | E22: =D22/'kons PR (L3)'!D21 -> #REF! | F22: =SUM(#REF!) -> #REF! | G22: =F22/'kons PR (L3)'!E21 -> #REF! | H22: =SUM(#REF!) -> #REF! | I22: =H22/'kons PR (L3)'!G21 -> #REF! | J22: ='kons PR (L3)'!G21-'realisasi (L4)'!H22 -> #REF! | K22: =J22/'kons PR (L3)'!G21 -> #REF! | L22: =F22-D22 -> #REF! | M22: =H22-F22 -> #REF! | N22: =H22-D22 -> #REF!
A23: =A22+1 -> 14 | B23: 2.05.01 | C23: =#REF! -> #REF! | D23: =SUM(#REF!) -> #REF! | E23: =D23/'kons PR (L3)'!D22 -> #REF! | F23: =SUM(#REF!) -> #REF! | G23: =F23/'kons PR (L3)'!E22 -> #REF! | H23: =SUM(#REF!) -> #REF! | I23: =H23/'kons PR (L3)'!G22 -> #REF! | J23: ='kons PR (L3)'!G22-'realisasi (L4)'!H23 -> #REF! | K23: =J23/'kons PR (L3)'!G22 -> #REF! | L23: =F23-D23 -> #REF! | M23: =H23-F23 -> #REF! | N23: =H23-D23 -> #REF!
A24: =A23+1 -> 15 | B24: 2.06.01 | C24: =#REF! -> #REF! | D24: =SUM(#REF!) -> #REF! | E24: =D24/'kons PR (L3)'!D23 -> #REF! | F24: =SUM(#REF!) -> #REF! | G24: =F24/'kons PR (L3)'!E23 -> #REF! | H24: =SUM(#REF!) -> #REF! | I24: =H24/'kons PR (L3)'!G23 -> #REF! | J24: ='kons PR (L3)'!G23-'realisasi (L4)'!H24 -> #REF! | K24: =J24/'kons PR (L3)'!G23 -> #REF! | L24: =F24-D24 -> #REF! | M24: =H24-F24 -> #REF! | N24: =H24-D24 -> #REF!
A25: =A24+1 -> 16 | B25: 2.07.01 | C25: =#REF! -> #REF! | D25: =SUM(#REF!) -> #REF! | E25: =D25/'kons PR (L3)'!D24 -> #REF! | F25: =SUM(#REF!) -> #REF! | G25: =F25/'kons PR (L3)'!E24 -> #REF! | H25: =SUM(#REF!) -> #REF! | I25: =H25/'kons PR (L3)'!G24 -> #REF! | J25: ='kons PR (L3)'!G24-'realisasi (L4)'!H25 -> #REF! | K25: =J25/'kons PR (L3)'!G24 -> #REF! | L25: =F25-D25 -> #REF! | M25: =H25-F25 -> #REF! | N25: =H25-D25 -> #REF!
A26: =A25+1 -> 17 | B26: 2.09.01 | C26: =#REF! -> #REF! | D26: =SUM(#REF!) -> #REF! | E26: =D26/'kons PR (L3)'!D25 -> #REF! | F26: =SUM(#REF!) -> #REF! | G26: =F26/'kons PR (L3)'!E25 -> #REF! | H26: =SUM(#REF!) -> #REF! | I26: =H26/'kons PR (L3)'!G25 -> #REF! | J26: ='kons PR (L3)'!G25-'realisasi (L4)'!H26 -> #REF! | K26: =J26/'kons PR (L3)'!G25 -> #REF! | L26: =F26-D26 -> #REF! | M26: =H26-F26 -> #REF! | N26: =H26-D26 -> #REF!
A27: =A26+1 -> 18 | B27: 2.10.01 | C27: =#REF! -> #REF! | D27: =SUM(#REF!) -> #REF! | E27: =D27/'kons PR (L3)'!D26 -> #REF! | F27: =SUM(#REF!) -> #REF! | G27: =F27/'kons PR (L3)'!E26 -> #REF! | H27: =SUM(#REF!) -> #REF! | I27: =H27/'kons PR (L3)'!G26 -> #REF! | J27: ='kons PR (L3)'!G26-'realisasi (L4)'!H27 -> #REF! | K27: =J27/'kons PR (L3)'!G26 -> #REF! | L27: =F27-D27 -> #REF! | M27: =H27-F27 -> #REF! | N27: =H27-D27 -> #REF!
A28: =A27+1 -> 19 | B28: 2.11.01 | C28: Dinas Koperasi, Perindustrian dan Perdagangan | D28: =SUM(#REF!,#REF!) -> #REF! | E28: =D28/'kons PR (L3)'!D27 -> #REF! | F28: =SUM(#REF!,#REF!) -> #REF! | G28: =F28/'kons PR (L3)'!E27 -> #REF! | H28: =SUM(#REF!,#REF!) -> #REF! | I28: =H28/'kons PR (L3)'!G27 -> #REF! | J28: ='kons PR (L3)'!G27-'realisasi (L4)'!H28 -> #REF! | K28: =J28/'kons PR (L3)'!G27 -> #REF! | L28: =F28-D28 -> #REF! | M28: =H28-F28 -> #REF! | N28: =H28-D28 -> #REF!
A29: =A28+1 -> 20 | B29: 2.12.01 | C29: =#REF! -> #REF! | D29: =SUM(#REF!) -> #REF! | E29: =D29/'kons PR (L3)'!D28 -> #REF! | F29: =SUM(#REF!) -> #REF! | G29: =F29/'kons PR (L3)'!E28 -> #REF! | H29: =SUM(#REF!) -> #REF! | I29: =H29/'kons PR (L3)'!G28 -> #REF! | J29: ='kons PR (L3)'!G28-'realisasi (L4)'!H29 -> #REF! | K29: =J29/'kons PR (L3)'!G28 -> #REF! | L29: =F29-D29 -> #REF! | M29: =H29-F29 -> #REF! | N29: =H29-D29 -> #REF!
A30: =A29+1 -> 21 | B30: 2.13.01 | C30: =#REF! -> #REF! | D30: =SUM(#REF!) -> #REF! | E30: =D30/'kons PR (L3)'!D29 -> #REF! | F30: =SUM(#REF!) -> #REF! | G30: =F30/'kons PR (L3)'!E29 -> #REF! | H30: =SUM(#REF!) -> #REF! | I30: =H30/'kons PR (L3)'!G29 -> #REF! | J30: ='kons PR (L3)'!G29-'realisasi (L4)'!H30 -> #REF! | K30: =J30/'kons PR (L3)'!G29 -> #REF! | L30: =F30-D30 -> #REF! | M30: =H30-F30 -> #REF! | N30: =H30-D30 -> #REF!
A31: =A30+1 -> 22 | B31: 2.16.01 | C31: Dinas Kebudayaan dan Pariwisata | D31: =SUM(#REF!,#REF!) -> #REF! | E31: =D31/'kons PR (L3)'!D30 -> #REF! | F31: =SUM(#REF!,#REF!) -> #REF! | G31: =F31/'kons PR (L3)'!E30 -> #REF! | H31: =SUM(#REF!,#REF!) -> #REF! | I31: =H31/'kons PR (L3)'!G30 -> #REF! | J31: ='kons PR (L3)'!G30-'realisasi (L4)'!H31 -> #REF! | K31: =J31/'kons PR (L3)'!G30 -> #REF! | L31: =F31-D31 -> #REF! | M31: =H31-F31 -> #REF! | N31: =H31-D31 -> #REF!
A32: =A31+1 -> 23 | B32: 2.17.01 | C32: =#REF! -> #REF! | D32: =SUM(#REF!) -> #REF! | E32: =D32/'kons PR (L3)'!D31 -> #REF! | F32: =SUM(#REF!) -> #REF! | G32: =F32/'kons PR (L3)'!E31 -> #REF! | H32: =SUM(#REF!) -> #REF! | I32: =H32/'kons PR (L3)'!G31 -> #REF! | J32: ='kons PR (L3)'!G31-'realisasi (L4)'!H32 -> #REF! | K32: =J32/'kons PR (L3)'!G31 -> #REF! | L32: =F32-D32 -> #REF! | M32: =H32-F32 -> #REF! | N32: =H32-D32 -> #REF!
A33: =A32+1 -> 24 | B33: 3.01.01 | C33: =#REF! -> #REF! | D33: =SUM(#REF!) -> #REF! | E33: =D33/'kons PR (L3)'!D32 -> #REF! | F33: =SUM(#REF!) -> #REF! | G33: =F33/'kons PR (L3)'!E32 -> #REF! | H33: =SUM(#REF!) -> #REF! | I33: =H33/'kons PR (L3)'!G32 -> #REF! | J33: ='kons PR (L3)'!G32-'realisasi (L4)'!H33 -> #REF! | K33: =J33/'kons PR (L3)'!G32 -> #REF! | L33: =F33-D33 -> #REF! | M33: =H33-F33 -> #REF! | N33: =H33-D33 -> #REF!
A34: =A33+1 -> 25 | B34: 3.03.01 | C34: =#REF! -> #REF! | D34: =SUM(#REF!) -> #REF! | E34: =D34/'kons PR (L3)'!D33 -> #REF! | F34: =SUM(#REF!) -> #REF! | G34: =F34/'kons PR (L3)'!E33 -> #REF! | H34: =SUM(#REF!) -> #REF! | I34: =H34/'kons PR (L3)'!G33 -> #REF! | J34: ='kons PR (L3)'!G33-'realisasi (L4)'!H34 -> #REF! | K34: =J34/'kons PR (L3)'!G33 -> #REF! | L34: =F34-D34 -> #REF! | M34: =H34-F34 -> #REF! | N34: =H34-D34 -> #REF!
A35: =A34+1 -> 26 | B35: 3.03.02 | C35: Dinas Perkebunan | D35: =SUM(#REF!) -> #REF! | E35: =D35/'kons PR (L3)'!D34 -> #REF! | F35: =SUM(#REF!) -> #REF! | G35: =F35/'kons PR (L3)'!E34 -> #REF! | H35: =SUM(#REF!) -> #REF! | I35: =H35/'kons PR (L3)'!G34 -> #REF! | J35: ='kons PR (L3)'!G34-'realisasi (L4)'!H35 -> #REF! | K35: =J35/'kons PR (L3)'!G34 -> #REF! | L35: =F35-D35 -> #REF! | M35: =H35-F35 -> #REF! | N35: =H35-D35 -> #REF!
A36: =A35+1 -> 27 | B36: 4.01.03 | C36: Sekretariat Daerah | D36: =SUM(#REF!,#REF!,#REF!,#REF!) -> #REF! | E36: =D36/'kons PR (L3)'!D35 -> #REF! | F36: =SUM(#REF!,#REF!,#REF!,#REF!) -> #REF! | G36: =F36/'kons PR (L3)'!E35 -> #REF! | H36: =SUM(#REF!,#REF!,#REF!,#REF!) -> #REF! | I36: =H36/'kons PR (L3)'!G35 -> #REF! | J36: ='kons PR (L3)'!G35-'realisasi (L4)'!H36 -> #REF! | K36: =J36/'kons PR (L3)'!G35 -> #REF! | L36: =F36-D36 -> #REF! | M36: =H36-F36 -> #REF! | N36: =H36-D36 -> #REF!
A37: =A36+1 -> 28 | B37: 4.01.04 | C37: Sekretariat DPRD | D37: =SUM(#REF!) -> #REF! | E37: =D37/'kons PR (L3)'!D36 -> #REF! | F37: =SUM(#REF!) -> #REF! | G37: =F37/'kons PR (L3)'!E36 -> #REF! | H37: =SUM(#REF!) -> #REF! | I37: =H37/'kons PR (L3)'!G36 -> #REF! | J37: ='kons PR (L3)'!G36-'realisasi (L4)'!H37 -> #REF! | K37: =J37/'kons PR (L3)'!G36 -> #REF! | L37: =F37-D37 -> #REF! | M37: =H37-F37 -> #REF! | N37: =H37-D37 -> #REF!
A38: =A37+1 -> 29 | B38: 4.01.09 | C38: Kecamatan Tanjung Redeb | D38: =SUM(#REF!) -> #REF! | E38: =D38/'kons PR (L3)'!D37 -> #REF! | F38: =SUM(#REF!) -> #REF! | G38: =F38/'kons PR (L3)'!E37 -> #REF! | H38: =SUM(#REF!) -> #REF! | I38: =H38/'kons PR (L3)'!G37 -> #REF! | J38: ='kons PR (L3)'!G37-'realisasi (L4)'!H38 -> #REF! | K38: =J38/'kons PR (L3)'!G37 -> #REF! | L38: =F38-D38 -> #REF! | M38: =H38-F38 -> #REF! | N38: =H38-D38 -> #REF!
A39: =A38+1 -> 30 | B39: 4.01.09 | C39: Kecamatan Gunung Tabur | D39: =SUM(#REF!) -> #REF! | E39: =D39/'kons PR (L3)'!D38 -> #REF! | F39: =SUM(#REF!) -> #REF! | G39: =F39/'kons PR (L3)'!E38 -> #REF! | H39: =SUM(#REF!) -> #REF! | I39: =H39/'kons PR (L3)'!G38 -> #REF! | J39: ='kons PR (L3)'!G38-'realisasi (L4)'!H39 -> #REF! | K39: =J39/'kons PR (L3)'!G38 -> #REF! | L39: =F39-D39 -> #REF! | M39: =H39-F39 -> #REF! | N39: =H39-D39 -> #REF!
A40: =A39+1 -> 31 | B40: 4.01.09 | C40: Kecamatan Sambaliung | D40: =SUM(#REF!) -> #REF! | E40: =D40/'kons PR (L3)'!D39 -> #REF! | F40: =SUM(#REF!) -> #REF! | G40: =F40/'kons PR (L3)'!E39 -> #REF! | H40: =SUM(#REF!) -> #REF! | I40: =H40/'kons PR (L3)'!G39 -> #REF! | J40: ='kons PR (L3)'!G39-'realisasi (L4)'!H40 -> #REF! | K40: =J40/'kons PR (L3)'!G39 -> #REF! | L40: =F40-D40 -> #REF! | M40: =H40-F40 -> #REF! | N40: =H40-D40 -> #REF!
A41: =A40+1 -> 32 | B41: 4.01.09 | C41: Kecamatan Teluk Bayur | D41: =SUM(#REF!) -> #REF! | E41: =D41/'kons PR (L3)'!D40 -> #REF! | F41: =SUM(#REF!) -> #REF! | G41: =F41/'kons PR (L3)'!E40 -> #REF! | H41: =SUM(#REF!) -> #REF! | I41: =H41/'kons PR (L3)'!G40 -> #REF! | J41: ='kons PR (L3)'!G40-'realisasi (L4)'!H41 -> #REF! | K41: =J41/'kons PR (L3)'!G40 -> #REF! | L41: =F41-D41 -> #REF! | M41: =H41-F41 -> #REF! | N41: =H41-D41 -> #REF!
A42: =A41+1 -> 33 | B42: 4.01.09 | C42: Kecamatan Segah | D42: =SUM(#REF!) -> #REF! | E42: =D42/'kons PR (L3)'!D41 -> #REF! | F42: =SUM(#REF!) -> #REF! | G42: =F42/'kons PR (L3)'!E41 -> #REF! | H42: =SUM(#REF!) -> #REF! | I42: =H42/'kons PR (L3)'!G41 -> #REF! | J42: ='kons PR (L3)'!G41-'realisasi (L4)'!H42 -> #REF! | K42: =J42/'kons PR (L3)'!G41 -> #REF! | L42: =F42-D42 -> #REF! | M42: =H42-F42 -> #REF! | N42: =H42-D42 -> #REF!
...

Sheet hasil OPD (L5)
A1: LAMPIRAN 5
A2: HASIL PELAKSANAAN RKPD KABUPATEN BERAU TAHUN 2017
A4: No. Urut | B4: Kode OPD | C4: SKPD | D4: Jumlah | F4: Pagu dan Realisasi Anggaran | J4: Rata-rata Capaian Kinerja (%) dan Predikat Kinerja Perangkat Daerah
D5: Prog | E5: Keg | F5: Pagu | G5: % | H5: Realisasi | I5: %
F6: (Rp.000) | H6: (Rp.000) | J6: K | K6: Rp | L6: K | M6: Rp
A7: (1) | B7: (2) | C7: (3) | D7: (4) | E7: (5) | F7: (6) | G7: (7) | H7: (8) | I7: (9) | J7: (10) | K7: (11) | L7: (12) | M7: (13)
A8: 1 | B8: 1.01.01 | C8: Dinas Pendidikan | D8: ='kons PK (L2)'!E9 -> #REF! | E8: ='kons PK (L2)'!M9 -> #REF! | F8: ='kons PR (L3)'!E9 -> #REF! | G8: =F8/$F$56*100 -> #REF! | H8: ='realisasi (L4)'!F10 -> #REF! | I8: =H8/F8*100 -> #REF! | J8: =AVERAGE(#REF!) -> #REF! | K8: =AVERAGE(#REF!) -> #REF! | L8: =IF(J8<=50,"SR",IF(J8<=65,"R",IF(J8<=75,"S",IF(J8<=90,"T","ST")))) -> #REF! | M8: =IF(K8<=50,"SR",IF(K8<=65,"R",IF(K8<=75,"S",IF(K8<=90,"T","ST")))) -> #REF!
A9: =A8+1 -> 2 | B9: 1.02.01 | C9: Dinas Kesehatan | D9: ='kons PK (L2)'!E10 -> #REF! | E9: ='kons PK (L2)'!M10 -> #REF! | F9: ='kons PR (L3)'!E10 -> #REF! | G9: =F9/$F$56*100 -> #REF! | H9: ='realisasi (L4)'!F11 -> #REF! | I9: =H9/F9*100 -> #REF! | J9: =AVERAGE(#REF!) -> #REF! | K9: =AVERAGE(#REF!) -> #REF! | L9: =IF(J9<=50,"SR",IF(J9<=65,"R",IF(J9<=75,"S",IF(J9<=90,"T","ST")))) -> #REF! | M9: =IF(K9<=50,"SR",IF(K9<=65,"R",IF(K9<=75,"S",IF(K9<=90,"T","ST")))) -> #REF!
A10: =A9+1 -> 3 | B10: 1.02.02 | C10: RSUD Dr. Abdul Rivai | D10: ='kons PK (L2)'!E11 -> #REF! | E10: ='kons PK (L2)'!M11 -> #REF! | F10: ='kons PR (L3)'!E11 -> #REF! | G10: =F10/$F$56*100 -> #REF! | H10: ='realisasi (L4)'!F12 -> #REF! | I10: =H10/F10*100 -> #REF! | J10: =AVERAGE(#REF!) -> #REF! | K10: =AVERAGE(#REF!) -> #REF! | L10: =IF(J10<=50,"SR",IF(J10<=65,"R",IF(J10<=75,"S",IF(J10<=90,"T","ST")))) -> #REF! | M10: =IF(K10<=50,"SR",IF(K10<=65,"R",IF(K10<=75,"S",IF(K10<=90,"T","ST")))) -> #REF!
A11: =A10+1 -> 4 | B11: 1.03.01 | C11: Dinas Pekerjaan Umum dan Penataan Ruang | D11: ='kons PK (L2)'!E12 -> #REF! | E11: ='kons PK (L2)'!M12 -> #REF! | F11: ='kons PR (L3)'!E12 -> #REF! | G11: =F11/$F$56*100 -> #REF! | H11: ='realisasi (L4)'!F13 -> #REF! | I11: =H11/F11*100 -> #REF! | J11: =AVERAGE(#REF!) -> #REF! | K11: =AVERAGE(#REF!) -> #REF! | L11: =IF(J11<=50,"SR",IF(J11<=65,"R",IF(J11<=75,"S",IF(J11<=90,"T","ST")))) -> #REF! | M11: =IF(K11<=50,"SR",IF(K11<=65,"R",IF(K11<=75,"S",IF(K11<=90,"T","ST")))) -> #REF!
A12: =A11+1 -> 5 | B12: 1.04.01 | C12: Dinas Perumahan dan Kawasan Permukiman | D12: ='kons PK (L2)'!E13 -> #REF! | E12: ='kons PK (L2)'!M13 -> #REF! | F12: ='kons PR (L3)'!E13 -> #REF! | G12: =F12/$F$56*100 -> #REF! | H12: ='realisasi (L4)'!F14 -> #REF! | I12: =H12/F12*100 -> #REF! | J12: =AVERAGE(#REF!) -> #REF! | K12: =AVERAGE(#REF!) -> #REF! | L12: =IF(J12<=50,"SR",IF(J12<=65,"R",IF(J12<=75,"S",IF(J12<=90,"T","ST")))) -> #REF! | M12: =IF(K12<=50,"SR",IF(K12<=65,"R",IF(K12<=75,"S",IF(K12<=90,"T","ST")))) -> #REF!
A13: =A12+1 -> 6 | B13: 1.05.01 | C13: =#REF! -> #REF! | D13: ='kons PK (L2)'!E14 -> #REF! | E13: ='kons PK (L2)'!M14 -> #REF! | F13: ='kons PR (L3)'!E14 -> #REF! | G13: =F13/$F$56*100 -> #REF! | H13: ='realisasi (L4)'!F15 -> #REF! | I13: =H13/F13*100 -> #REF! | J13: =AVERAGE(#REF!) -> #REF! | K13: =AVERAGE(#REF!) -> #REF! | L13: =IF(J13<=50,"SR",IF(J13<=65,"R",IF(J13<=75,"S",IF(J13<=90,"T","ST")))) -> #REF! | M13: =IF(K13<=50,"SR",IF(K13<=65,"R",IF(K13<=75,"S",IF(K13<=90,"T","ST")))) -> #REF!
A14: =A13+1 -> 7 | B14: 1.05.02 | C14: Badan Penanggulangan Bencana Daerah | D14: ='kons PK (L2)'!E15 -> #REF! | E14: ='kons PK (L2)'!M15 -> #REF! | F14: ='kons PR (L3)'!E15 -> #REF! | G14: =F14/$F$56*100 -> #REF! | H14: ='realisasi (L4)'!F16 -> #REF! | I14: =H14/F14*100 -> #REF! | J14: =AVERAGE(#REF!,#REF!) -> #REF! | K14: =AVERAGE(#REF!,#REF!) -> #REF! | L14: =IF(J14<=50,"SR",IF(J14<=65,"R",IF(J14<=75,"S",IF(J14<=90,"T","ST")))) -> #REF! | M14: =IF(K14<=50,"SR",IF(K14<=65,"R",IF(K14<=75,"S",IF(K14<=90,"T","ST")))) -> #REF!
A15: =A14+1 -> 8 | B15: 1.05.03 | C15: Kantor Satuan Polisi Pamong Praja | D15: ='kons PK (L2)'!E16 -> #REF! | E15: ='kons PK (L2)'!M16 -> #REF! | F15: ='kons PR (L3)'!E16 -> #REF! | G15: =F15/$F$56*100 -> #REF! | H15: ='realisasi (L4)'!F17 -> #REF! | I15: =H15/F15*100 -> #REF! | J15: =AVERAGE(#REF!) -> #REF! | K15: =AVERAGE(#REF!) -> #REF! | L15: =IF(J15<=50,"SR",IF(J15<=65,"R",IF(J15<=75,"S",IF(J15<=90,"T","ST")))) -> #REF! | M15: =IF(K15<=50,"SR",IF(K15<=65,"R",IF(K15<=75,"S",IF(K15<=90,"T","ST")))) -> #REF!
A16: =A15+1 -> 9 | B16: 1.06.01 | C16: Dinas Sosial | D16: ='kons PK (L2)'!E17 -> #REF! | E16: ='kons PK (L2)'!M17 -> #REF! | F16: ='kons PR (L3)'!E17 -> #REF! | G16: =F16/$F$56*100 -> #REF! | H16: ='realisasi (L4)'!F18 -> #REF! | I16: =H16/F16*100 -> #REF! | J16: =AVERAGE(#REF!) -> #REF! | K16: =AVERAGE(#REF!) -> #REF! | L16: =IF(J16<=50,"SR",IF(J16<=65,"R",IF(J16<=75,"S",IF(J16<=90,"T","ST")))) -> #REF! | M16: =IF(K16<=50,"SR",IF(K16<=65,"R",IF(K16<=75,"S",IF(K16<=90,"T","ST")))) -> #REF!
A17: =A16+1 -> 10 | B17: 2.01.01 | C17: Dinas Tenaga Kerja dan Transmigrasi | D17: ='kons PK (L2)'!E18 -> #REF! | E17: ='kons PK (L2)'!M18 -> #REF! | F17: ='kons PR (L3)'!E18 -> #REF! | G17: =F17/$F$56*100 -> #REF! | H17: ='realisasi (L4)'!F19 -> #REF! | I17: =H17/F17*100 -> #REF! | J17: =AVERAGE(#REF!,#REF!) -> #REF! | K17: =AVERAGE(#REF!,#REF!) -> #REF! | L17: =IF(J17<=50,"SR",IF(J17<=65,"R",IF(J17<=75,"S",IF(J17<=90,"T","ST")))) -> #REF! | M17: =IF(K17<=50,"SR",IF(K17<=65,"R",IF(K17<=75,"S",IF(K17<=90,"T","ST")))) -> #REF!
A18: =A17+1 -> 11 | B18: 2.02.01 | C18: =#REF! -> #REF! | D18: ='kons PK (L2)'!E19 -> #REF! | E18: ='kons PK (L2)'!M19 -> #REF! | F18: ='kons PR (L3)'!E19 -> #REF! | G18: =F18/$F$56*100 -> #REF! | H18: ='realisasi (L4)'!F20 -> #REF! | I18: =H18/F18*100 -> #REF! | J18: =AVERAGE(#REF!,#REF!) -> #REF! | K18: =AVERAGE(#REF!,#REF!) -> #REF! | L18: =IF(J18<=50,"SR",IF(J18<=65,"R",IF(J18<=75,"S",IF(J18<=90,"T","ST")))) -> #REF! | M18: =IF(K18<=50,"SR",IF(K18<=65,"R",IF(K18<=75,"S",IF(K18<=90,"T","ST")))) -> #REF!
A19: =A18+1 -> 12 | B19: 2.03.01 | C19: =#REF! -> #REF! | D19: ='kons PK (L2)'!E20 -> #REF! | E19: ='kons PK (L2)'!M20 -> #REF! | F19: ='kons PR (L3)'!E20 -> #REF! | G19: =F19/$F$56*100 -> #REF! | H19: ='realisasi (L4)'!F21 -> #REF! | I19: =H19/F19*100 -> #REF! | J19: =AVERAGE(#REF!) -> #REF! | K19: =AVERAGE(#REF!) -> #REF! | L19: =IF(J19<=50,"SR",IF(J19<=65,"R",IF(J19<=75,"S",IF(J19<=90,"T","ST")))) -> #REF! | M19: =IF(K19<=50,"SR",IF(K19<=65,"R",IF(K19<=75,"S",IF(K19<=90,"T","ST")))) -> #REF!
A20: =A19+1 -> 13 | B20: 2.04.01 | C20: =#REF! -> #REF! | D20: ='kons PK (L2)'!E21 -> #REF! | E20: ='kons PK (L2)'!M21 -> #REF! | F20: ='kons PR (L3)'!E21 -> #REF! | G20: =F20/$F$56*100 -> #REF! | H20: ='realisasi (L4)'!F22 -> #REF! | I20: =H20/F20*100 -> #REF! | J20: =AVERAGE(#REF!) -> #REF! | K20: =AVERAGE(#REF!) -> #REF! | L20: =IF(J20<=50,"SR",IF(J20<=65,"R",IF(J20<=75,"S",IF(J20<=90,"T","ST")))) -> #REF! | M20: =IF(K20<=50,"SR",IF(K20<=65,"R",IF(K20<=75,"S",IF(K20<=90,"T","ST")))) -> #REF!
A21: =A20+1 -> 14 | B21: 2.05.01 | C21: =#REF! -> #REF! | D21: ='kons PK (L2)'!E22 -> #REF! | E21: ='kons PK (L2)'!M22 -> #REF! | F21: ='kons PR (L3)'!E22 -> #REF! | G21: =F21/$F$56*100 -> #REF! | H21: ='realisasi (L4)'!F23 -> #REF! | I21: =H21/F21*100 -> #REF! | J21: =AVERAGE(#REF!) -> #REF! | K21: =AVERAGE(#REF!) -> #REF! | L21: =IF(J21<=50,"SR",IF(J21<=65,"R",IF(J21<=75,"S",IF(J21<=90,"T","ST")))) -> #REF! | M21: =IF(K21<=50,"SR",IF(K21<=65,"R",IF(K21<=75,"S",IF(K21<=90,"T","ST")))) -> #REF!
